BEGIN:VCALENDAR
VERSION:2.0
PRODID:-//The Chariton Beacon - ECPv6.15.20//NONSGML v1.0//EN
CALSCALE:GREGORIAN
METHOD:PUBLISH
X-ORIGINAL-URL:https://charitonbeacon.com
X-WR-CALDESC:Events for The Chariton Beacon
REFRESH-INTERVAL;VALUE=DURATION:PT1H
X-Robots-Tag:noindex
X-PUBLISHED-TTL:PT1H
BEGIN:VTIMEZONE
TZID:America/Chicago
BEGIN:DAYLIGHT
TZOFFSETFROM:-0600
TZOFFSETTO:-0500
TZNAME:CDT
DTSTART:20250309T080000
END:DAYLIGHT
BEGIN:STANDARD
TZOFFSETFROM:-0500
TZOFFSETTO:-0600
TZNAME:CST
DTSTART:20251102T070000
END:STANDARD
BEGIN:DAYLIGHT
TZOFFSETFROM:-0600
TZOFFSETTO:-0500
TZNAME:CDT
DTSTART:20260308T080000
END:DAYLIGHT
BEGIN:STANDARD
TZOFFSETFROM:-0500
TZOFFSETTO:-0600
TZNAME:CST
DTSTART:20261101T070000
END:STANDARD
BEGIN:DAYLIGHT
TZOFFSETFROM:-0600
TZOFFSETTO:-0500
TZNAME:CDT
DTSTART:20270314T080000
END:DAYLIGHT
BEGIN:STANDARD
TZOFFSETFROM:-0500
TZOFFSETTO:-0600
TZNAME:CST
DTSTART:20271107T070000
END:STANDARD
END:VTIMEZONE
BEGIN:VEVENT
DTSTART;TZID=America/Chicago:20260117T090000
DTEND;TZID=America/Chicago:20260117T150000
DTSTAMP:20260421T081423
CREATED:20260220T060105Z
LAST-MODIFIED:20260220T060105Z
UID:39594-1768640400-1768662000@charitonbeacon.com
SUMMARY:Kick off to Prom Sale
DESCRIPTION:We are hosting our Kick off to Prom Sale Saturday 1/17/26 9am-3pm and 1/19/26 9am-12pm. \nWe will have giveaways\, dresses on super sale\, and new inventory!  \nSchedule your appointment below!  \nhttps://calendly.com/rockinglboutique/prom-dress-appointment
URL:https://charitonbeacon.com/activity/kick-off-to-prom-sale-34/
LOCATION:608 1st St\, Glasgow\, MO 65254-1008\, United States\, 608 1st Street\, Glasgow\, Missouri\, 65254\, United States
CATEGORIES:Area Events
END:VEVENT
BEGIN:VEVENT
DTSTART;TZID=America/Chicago:20260117T090000
DTEND;TZID=America/Chicago:20260117T150000
DTSTAMP:20260421T081423
CREATED:20260219T060057Z
LAST-MODIFIED:20260219T060057Z
UID:39508-1768640400-1768662000@charitonbeacon.com
SUMMARY:Kick off to Prom Sale
DESCRIPTION:We are hosting our Kick off to Prom Sale Saturday 1/17/26 9am-3pm and 1/19/26 9am-12pm. \nWe will have giveaways\, dresses on super sale\, and new inventory!  \nSchedule your appointment below!  \nhttps://calendly.com/rockinglboutique/prom-dress-appointment
URL:https://charitonbeacon.com/activity/kick-off-to-prom-sale-33/
LOCATION:608 1st St\, Glasgow\, MO 65254-1008\, United States\, 608 1st Street\, Glasgow\, Missouri\, 65254\, United States
CATEGORIES:Area Events
END:VEVENT
BEGIN:VEVENT
DTSTART;TZID=America/Chicago:20260117T090000
DTEND;TZID=America/Chicago:20260117T150000
DTSTAMP:20260421T081423
CREATED:20260217T060100Z
LAST-MODIFIED:20260217T060100Z
UID:39371-1768640400-1768662000@charitonbeacon.com
SUMMARY:Kick off to Prom Sale
DESCRIPTION:We are hosting our Kick off to Prom Sale Saturday 1/17/26 9am-3pm and 1/19/26 9am-12pm. \nWe will have giveaways\, dresses on super sale\, and new inventory!  \nSchedule your appointment below!  \nhttps://calendly.com/rockinglboutique/prom-dress-appointment
URL:https://charitonbeacon.com/activity/kick-off-to-prom-sale-32/
LOCATION:608 1st St\, Glasgow\, MO 65254-1008\, United States\, 608 1st Street\, Glasgow\, Missouri\, 65254\, United States
CATEGORIES:Area Events
END:VEVENT
BEGIN:VEVENT
DTSTART;TZID=America/Chicago:20260117T090000
DTEND;TZID=America/Chicago:20260117T150000
DTSTAMP:20260421T081423
CREATED:20260216T060102Z
LAST-MODIFIED:20260216T060102Z
UID:39286-1768640400-1768662000@charitonbeacon.com
SUMMARY:Kick off to Prom Sale
DESCRIPTION:We are hosting our Kick off to Prom Sale Saturday 1/17/26 9am-3pm and 1/19/26 9am-12pm. \nWe will have giveaways\, dresses on super sale\, and new inventory!  \nSchedule your appointment below!  \nhttps://calendly.com/rockinglboutique/prom-dress-appointment
URL:https://charitonbeacon.com/activity/kick-off-to-prom-sale-31/
LOCATION:608 1st St\, Glasgow\, MO 65254-1008\, United States\, 608 1st Street\, Glasgow\, Missouri\, 65254\, United States
CATEGORIES:Area Events
END:VEVENT
BEGIN:VEVENT
DTSTART;TZID=America/Chicago:20260117T090000
DTEND;TZID=America/Chicago:20260117T150000
DTSTAMP:20260421T081423
CREATED:20260215T060108Z
LAST-MODIFIED:20260215T060108Z
UID:39253-1768640400-1768662000@charitonbeacon.com
SUMMARY:Kick off to Prom Sale
DESCRIPTION:We are hosting our Kick off to Prom Sale Saturday 1/17/26 9am-3pm and 1/19/26 9am-12pm. \nWe will have giveaways\, dresses on super sale\, and new inventory!  \nSchedule your appointment below!  \nhttps://calendly.com/rockinglboutique/prom-dress-appointment
URL:https://charitonbeacon.com/activity/kick-off-to-prom-sale-30/
LOCATION:608 1st St\, Glasgow\, MO 65254-1008\, United States\, 608 1st Street\, Glasgow\, Missouri\, 65254\, United States
CATEGORIES:Area Events
END:VEVENT
BEGIN:VEVENT
DTSTART;TZID=America/Chicago:20260117T090000
DTEND;TZID=America/Chicago:20260117T150000
DTSTAMP:20260421T081423
CREATED:20260214T060100Z
LAST-MODIFIED:20260214T060100Z
UID:39215-1768640400-1768662000@charitonbeacon.com
SUMMARY:Kick off to Prom Sale
DESCRIPTION:We are hosting our Kick off to Prom Sale Saturday 1/17/26 9am-3pm and 1/19/26 9am-12pm. \nWe will have giveaways\, dresses on super sale\, and new inventory!  \nSchedule your appointment below!  \nhttps://calendly.com/rockinglboutique/prom-dress-appointment
URL:https://charitonbeacon.com/activity/kick-off-to-prom-sale-29/
LOCATION:608 1st St\, Glasgow\, MO 65254-1008\, United States\, 608 1st Street\, Glasgow\, Missouri\, 65254\, United States
CATEGORIES:Area Events
END:VEVENT
BEGIN:VEVENT
DTSTART;TZID=America/Chicago:20260117T090000
DTEND;TZID=America/Chicago:20260117T150000
DTSTAMP:20260421T081423
CREATED:20260213T060105Z
LAST-MODIFIED:20260213T060105Z
UID:39163-1768640400-1768662000@charitonbeacon.com
SUMMARY:Kick off to Prom Sale
DESCRIPTION:We are hosting our Kick off to Prom Sale Saturday 1/17/26 9am-3pm and 1/19/26 9am-12pm. \nWe will have giveaways\, dresses on super sale\, and new inventory!  \nSchedule your appointment below!  \nhttps://calendly.com/rockinglboutique/prom-dress-appointment
URL:https://charitonbeacon.com/activity/kick-off-to-prom-sale-28/
LOCATION:608 1st St\, Glasgow\, MO 65254-1008\, United States\, 608 1st Street\, Glasgow\, Missouri\, 65254\, United States
CATEGORIES:Area Events
END:VEVENT
BEGIN:VEVENT
DTSTART;TZID=America/Chicago:20260117T090000
DTEND;TZID=America/Chicago:20260117T150000
DTSTAMP:20260421T081423
CREATED:20260212T060056Z
LAST-MODIFIED:20260212T060056Z
UID:39099-1768640400-1768662000@charitonbeacon.com
SUMMARY:Kick off to Prom Sale
DESCRIPTION:We are hosting our Kick off to Prom Sale Saturday 1/17/26 9am-3pm and 1/19/26 9am-12pm. \nWe will have giveaways\, dresses on super sale\, and new inventory!  \nSchedule your appointment below!  \nhttps://calendly.com/rockinglboutique/prom-dress-appointment
URL:https://charitonbeacon.com/activity/kick-off-to-prom-sale-27/
LOCATION:608 1st St\, Glasgow\, MO 65254-1008\, United States\, 608 1st Street\, Glasgow\, Missouri\, 65254\, United States
CATEGORIES:Area Events
END:VEVENT
BEGIN:VEVENT
DTSTART;TZID=America/Chicago:20260117T090000
DTEND;TZID=America/Chicago:20260117T150000
DTSTAMP:20260421T081423
CREATED:20260211T060057Z
LAST-MODIFIED:20260211T060057Z
UID:39036-1768640400-1768662000@charitonbeacon.com
SUMMARY:Kick off to Prom Sale
DESCRIPTION:We are hosting our Kick off to Prom Sale Saturday 1/17/26 9am-3pm and 1/19/26 9am-12pm. \nWe will have giveaways\, dresses on super sale\, and new inventory!  \nSchedule your appointment below!  \nhttps://calendly.com/rockinglboutique/prom-dress-appointment
URL:https://charitonbeacon.com/activity/kick-off-to-prom-sale-26/
LOCATION:608 1st St\, Glasgow\, MO 65254-1008\, United States\, 608 1st Street\, Glasgow\, Missouri\, 65254\, United States
CATEGORIES:Area Events
END:VEVENT
BEGIN:VEVENT
DTSTART;TZID=America/Chicago:20260117T090000
DTEND;TZID=America/Chicago:20260117T150000
DTSTAMP:20260421T081423
CREATED:20260210T060105Z
LAST-MODIFIED:20260210T060105Z
UID:38954-1768640400-1768662000@charitonbeacon.com
SUMMARY:Kick off to Prom Sale
DESCRIPTION:We are hosting our Kick off to Prom Sale Saturday 1/17/26 9am-3pm and 1/19/26 9am-12pm. \nWe will have giveaways\, dresses on super sale\, and new inventory!  \nSchedule your appointment below!  \nhttps://calendly.com/rockinglboutique/prom-dress-appointment
URL:https://charitonbeacon.com/activity/kick-off-to-prom-sale-25/
LOCATION:608 1st St\, Glasgow\, MO 65254-1008\, United States\, 608 1st Street\, Glasgow\, Missouri\, 65254\, United States
CATEGORIES:Area Events
END:VEVENT
BEGIN:VEVENT
DTSTART;TZID=America/Chicago:20260117T090000
DTEND;TZID=America/Chicago:20260117T150000
DTSTAMP:20260421T081423
CREATED:20260209T060057Z
LAST-MODIFIED:20260209T060057Z
UID:38902-1768640400-1768662000@charitonbeacon.com
SUMMARY:Kick off to Prom Sale
DESCRIPTION:We are hosting our Kick off to Prom Sale Saturday 1/17/26 9am-3pm and 1/19/26 9am-12pm. \nWe will have giveaways\, dresses on super sale\, and new inventory!  \nSchedule your appointment below!  \nhttps://calendly.com/rockinglboutique/prom-dress-appointment
URL:https://charitonbeacon.com/activity/kick-off-to-prom-sale-24/
LOCATION:608 1st St\, Glasgow\, MO 65254-1008\, United States\, 608 1st Street\, Glasgow\, Missouri\, 65254\, United States
CATEGORIES:Area Events
END:VEVENT
BEGIN:VEVENT
DTSTART;TZID=America/Chicago:20260117T090000
DTEND;TZID=America/Chicago:20260117T150000
DTSTAMP:20260421T081423
CREATED:20260208T060052Z
LAST-MODIFIED:20260208T060052Z
UID:38856-1768640400-1768662000@charitonbeacon.com
SUMMARY:Kick off to Prom Sale
DESCRIPTION:We are hosting our Kick off to Prom Sale Saturday 1/17/26 9am-3pm and 1/19/26 9am-12pm. \nWe will have giveaways\, dresses on super sale\, and new inventory!  \nSchedule your appointment below!  \nhttps://calendly.com/rockinglboutique/prom-dress-appointment
URL:https://charitonbeacon.com/activity/kick-off-to-prom-sale-23/
LOCATION:608 1st St\, Glasgow\, MO 65254-1008\, United States\, 608 1st Street\, Glasgow\, Missouri\, 65254\, United States
CATEGORIES:Area Events
END:VEVENT
BEGIN:VEVENT
DTSTART;TZID=America/Chicago:20260117T090000
DTEND;TZID=America/Chicago:20260117T150000
DTSTAMP:20260421T081423
CREATED:20260207T060102Z
LAST-MODIFIED:20260207T060102Z
UID:38825-1768640400-1768662000@charitonbeacon.com
SUMMARY:Kick off to Prom Sale
DESCRIPTION:We are hosting our Kick off to Prom Sale Saturday 1/17/26 9am-3pm and 1/19/26 9am-12pm. \nWe will have giveaways\, dresses on super sale\, and new inventory!  \nSchedule your appointment below!  \nhttps://calendly.com/rockinglboutique/prom-dress-appointment
URL:https://charitonbeacon.com/activity/kick-off-to-prom-sale-22/
LOCATION:608 1st St\, Glasgow\, MO 65254-1008\, United States\, 608 1st Street\, Glasgow\, Missouri\, 65254\, United States
CATEGORIES:Area Events
END:VEVENT
BEGIN:VEVENT
DTSTART;TZID=America/Chicago:20260117T090000
DTEND;TZID=America/Chicago:20260117T150000
DTSTAMP:20260421T081423
CREATED:20260206T060101Z
LAST-MODIFIED:20260206T060101Z
UID:38744-1768640400-1768662000@charitonbeacon.com
SUMMARY:Kick off to Prom Sale
DESCRIPTION:We are hosting our Kick off to Prom Sale Saturday 1/17/26 9am-3pm and 1/19/26 9am-12pm. \nWe will have giveaways\, dresses on super sale\, and new inventory!  \nSchedule your appointment below!  \nhttps://calendly.com/rockinglboutique/prom-dress-appointment
URL:https://charitonbeacon.com/activity/kick-off-to-prom-sale-21/
LOCATION:608 1st St\, Glasgow\, MO 65254-1008\, United States\, 608 1st Street\, Glasgow\, Missouri\, 65254\, United States
CATEGORIES:Area Events
END:VEVENT
BEGIN:VEVENT
DTSTART;TZID=America/Chicago:20260117T090000
DTEND;TZID=America/Chicago:20260117T150000
DTSTAMP:20260421T081423
CREATED:20260205T060054Z
LAST-MODIFIED:20260205T060054Z
UID:38691-1768640400-1768662000@charitonbeacon.com
SUMMARY:Kick off to Prom Sale
DESCRIPTION:We are hosting our Kick off to Prom Sale Saturday 1/17/26 9am-3pm and 1/19/26 9am-12pm. \nWe will have giveaways\, dresses on super sale\, and new inventory!  \nSchedule your appointment below!  \nhttps://calendly.com/rockinglboutique/prom-dress-appointment
URL:https://charitonbeacon.com/activity/kick-off-to-prom-sale-20/
LOCATION:608 1st St\, Glasgow\, MO 65254-1008\, United States\, 608 1st Street\, Glasgow\, Missouri\, 65254\, United States
CATEGORIES:Area Events
END:VEVENT
BEGIN:VEVENT
DTSTART;TZID=America/Chicago:20260117T090000
DTEND;TZID=America/Chicago:20260117T150000
DTSTAMP:20260421T081423
CREATED:20260204T060054Z
LAST-MODIFIED:20260204T060054Z
UID:38624-1768640400-1768662000@charitonbeacon.com
SUMMARY:Kick off to Prom Sale
DESCRIPTION:We are hosting our Kick off to Prom Sale Saturday 1/17/26 9am-3pm and 1/19/26 9am-12pm. \nWe will have giveaways\, dresses on super sale\, and new inventory!  \nSchedule your appointment below!  \nhttps://calendly.com/rockinglboutique/prom-dress-appointment
URL:https://charitonbeacon.com/activity/kick-off-to-prom-sale-19/
LOCATION:608 1st St\, Glasgow\, MO 65254-1008\, United States\, 608 1st Street\, Glasgow\, Missouri\, 65254\, United States
CATEGORIES:Area Events
END:VEVENT
BEGIN:VEVENT
DTSTART;TZID=America/Chicago:20260117T090000
DTEND;TZID=America/Chicago:20260117T150000
DTSTAMP:20260421T081423
CREATED:20260203T060057Z
LAST-MODIFIED:20260203T060057Z
UID:38562-1768640400-1768662000@charitonbeacon.com
SUMMARY:Kick off to Prom Sale
DESCRIPTION:We are hosting our Kick off to Prom Sale Saturday 1/17/26 9am-3pm and 1/19/26 9am-12pm. \nWe will have giveaways\, dresses on super sale\, and new inventory!  \nSchedule your appointment below!  \nhttps://calendly.com/rockinglboutique/prom-dress-appointment
URL:https://charitonbeacon.com/activity/kick-off-to-prom-sale-18/
LOCATION:608 1st St\, Glasgow\, MO 65254-1008\, United States\, 608 1st Street\, Glasgow\, Missouri\, 65254\, United States
CATEGORIES:Area Events
END:VEVENT
BEGIN:VEVENT
DTSTART;TZID=America/Chicago:20260117T090000
DTEND;TZID=America/Chicago:20260117T150000
DTSTAMP:20260421T081423
CREATED:20260202T060058Z
LAST-MODIFIED:20260202T060058Z
UID:38503-1768640400-1768662000@charitonbeacon.com
SUMMARY:Kick off to Prom Sale
DESCRIPTION:We are hosting our Kick off to Prom Sale Saturday 1/17/26 9am-3pm and 1/19/26 9am-12pm. \nWe will have giveaways\, dresses on super sale\, and new inventory!  \nSchedule your appointment below!  \nhttps://calendly.com/rockinglboutique/prom-dress-appointment
URL:https://charitonbeacon.com/activity/kick-off-to-prom-sale-17/
LOCATION:608 1st St\, Glasgow\, MO 65254-1008\, United States\, 608 1st Street\, Glasgow\, Missouri\, 65254\, United States
CATEGORIES:Area Events
END:VEVENT
BEGIN:VEVENT
DTSTART;TZID=America/Chicago:20260117T090000
DTEND;TZID=America/Chicago:20260117T150000
DTSTAMP:20260421T081423
CREATED:20260201T060104Z
LAST-MODIFIED:20260201T060104Z
UID:38478-1768640400-1768662000@charitonbeacon.com
SUMMARY:Kick off to Prom Sale
DESCRIPTION:We are hosting our Kick off to Prom Sale Saturday 1/17/26 9am-3pm and 1/19/26 9am-12pm. \nWe will have giveaways\, dresses on super sale\, and new inventory!  \nSchedule your appointment below!  \nhttps://calendly.com/rockinglboutique/prom-dress-appointment
URL:https://charitonbeacon.com/activity/kick-off-to-prom-sale-16/
LOCATION:608 1st St\, Glasgow\, MO 65254-1008\, United States\, 608 1st Street\, Glasgow\, Missouri\, 65254\, United States
CATEGORIES:Area Events
END:VEVENT
BEGIN:VEVENT
DTSTART;TZID=America/Chicago:20260117T090000
DTEND;TZID=America/Chicago:20260117T150000
DTSTAMP:20260421T081423
CREATED:20260131T060104Z
LAST-MODIFIED:20260131T060104Z
UID:38438-1768640400-1768662000@charitonbeacon.com
SUMMARY:Kick off to Prom Sale
DESCRIPTION:We are hosting our Kick off to Prom Sale Saturday 1/17/26 9am-3pm and 1/19/26 9am-12pm. \nWe will have giveaways\, dresses on super sale\, and new inventory!  \nSchedule your appointment below!  \nhttps://calendly.com/rockinglboutique/prom-dress-appointment
URL:https://charitonbeacon.com/activity/kick-off-to-prom-sale-15/
LOCATION:608 1st St\, Glasgow\, MO 65254-1008\, United States\, 608 1st Street\, Glasgow\, Missouri\, 65254\, United States
CATEGORIES:Area Events
END:VEVENT
BEGIN:VEVENT
DTSTART;TZID=America/Chicago:20260117T090000
DTEND;TZID=America/Chicago:20260117T150000
DTSTAMP:20260421T081423
CREATED:20260130T060053Z
LAST-MODIFIED:20260130T060053Z
UID:38387-1768640400-1768662000@charitonbeacon.com
SUMMARY:Kick off to Prom Sale
DESCRIPTION:We are hosting our Kick off to Prom Sale Saturday 1/17/26 9am-3pm and 1/19/26 9am-12pm. \nWe will have giveaways\, dresses on super sale\, and new inventory!  \nSchedule your appointment below!  \nhttps://calendly.com/rockinglboutique/prom-dress-appointment
URL:https://charitonbeacon.com/activity/kick-off-to-prom-sale-14/
LOCATION:608 1st St\, Glasgow\, MO 65254-1008\, United States\, 608 1st Street\, Glasgow\, Missouri\, 65254\, United States
CATEGORIES:Area Events
END:VEVENT
BEGIN:VEVENT
DTSTART;TZID=America/Chicago:20260117T090000
DTEND;TZID=America/Chicago:20260117T150000
DTSTAMP:20260421T081423
CREATED:20260129T060054Z
LAST-MODIFIED:20260129T060054Z
UID:38272-1768640400-1768662000@charitonbeacon.com
SUMMARY:Kick off to Prom Sale
DESCRIPTION:We are hosting our Kick off to Prom Sale Saturday 1/17/26 9am-3pm and 1/19/26 9am-12pm. \nWe will have giveaways\, dresses on super sale\, and new inventory!  \nSchedule your appointment below!  \nhttps://calendly.com/rockinglboutique/prom-dress-appointment
URL:https://charitonbeacon.com/activity/kick-off-to-prom-sale-13/
LOCATION:608 1st St\, Glasgow\, MO 65254-1008\, United States\, 608 1st Street\, Glasgow\, Missouri\, 65254\, United States
CATEGORIES:Area Events
END:VEVENT
BEGIN:VEVENT
DTSTART;TZID=America/Chicago:20260117T090000
DTEND;TZID=America/Chicago:20260117T150000
DTSTAMP:20260421T081423
CREATED:20260128T060054Z
LAST-MODIFIED:20260128T060054Z
UID:38214-1768640400-1768662000@charitonbeacon.com
SUMMARY:Kick off to Prom Sale
DESCRIPTION:We are hosting our Kick off to Prom Sale Saturday 1/17/26 9am-3pm and 1/19/26 9am-12pm. \nWe will have giveaways\, dresses on super sale\, and new inventory!  \nSchedule your appointment below!  \nhttps://calendly.com/rockinglboutique/prom-dress-appointment
URL:https://charitonbeacon.com/activity/kick-off-to-prom-sale-12/
LOCATION:608 1st St\, Glasgow\, MO 65254-1008\, United States\, 608 1st Street\, Glasgow\, Missouri\, 65254\, United States
CATEGORIES:Area Events
END:VEVENT
BEGIN:VEVENT
DTSTART;TZID=America/Chicago:20260117T090000
DTEND;TZID=America/Chicago:20260117T150000
DTSTAMP:20260421T081423
CREATED:20260127T060054Z
LAST-MODIFIED:20260127T060054Z
UID:38158-1768640400-1768662000@charitonbeacon.com
SUMMARY:Kick off to Prom Sale
DESCRIPTION:We are hosting our Kick off to Prom Sale Saturday 1/17/26 9am-3pm and 1/19/26 9am-12pm. \nWe will have giveaways\, dresses on super sale\, and new inventory!  \nSchedule your appointment below!  \nhttps://calendly.com/rockinglboutique/prom-dress-appointment
URL:https://charitonbeacon.com/activity/kick-off-to-prom-sale-11/
LOCATION:608 1st St\, Glasgow\, MO 65254-1008\, United States\, 608 1st Street\, Glasgow\, Missouri\, 65254\, United States
CATEGORIES:Area Events
END:VEVENT
BEGIN:VEVENT
DTSTART;TZID=America/Chicago:20260117T090000
DTEND;TZID=America/Chicago:20260117T150000
DTSTAMP:20260421T081423
CREATED:20260126T060107Z
LAST-MODIFIED:20260126T060107Z
UID:38076-1768640400-1768662000@charitonbeacon.com
SUMMARY:Kick off to Prom Sale
DESCRIPTION:We are hosting our Kick off to Prom Sale Saturday 1/17/26 9am-3pm and 1/19/26 9am-12pm. \nWe will have giveaways\, dresses on super sale\, and new inventory!  \nSchedule your appointment below!  \nhttps://calendly.com/rockinglboutique/prom-dress-appointment
URL:https://charitonbeacon.com/activity/kick-off-to-prom-sale-10/
LOCATION:608 1st St\, Glasgow\, MO 65254-1008\, United States\, 608 1st Street\, Glasgow\, Missouri\, 65254\, United States
CATEGORIES:Area Events
END:VEVENT
BEGIN:VEVENT
DTSTART;TZID=America/Chicago:20260117T090000
DTEND;TZID=America/Chicago:20260117T150000
DTSTAMP:20260421T081423
CREATED:20260125T060051Z
LAST-MODIFIED:20260125T060051Z
UID:38040-1768640400-1768662000@charitonbeacon.com
SUMMARY:Kick off to Prom Sale
DESCRIPTION:We are hosting our Kick off to Prom Sale Saturday 1/17/26 9am-3pm and 1/19/26 9am-12pm. \nWe will have giveaways\, dresses on super sale\, and new inventory!  \nSchedule your appointment below!  \nhttps://calendly.com/rockinglboutique/prom-dress-appointment
URL:https://charitonbeacon.com/activity/kick-off-to-prom-sale-9/
LOCATION:608 1st St\, Glasgow\, MO 65254-1008\, United States\, 608 1st Street\, Glasgow\, Missouri\, 65254\, United States
CATEGORIES:Area Events
END:VEVENT
BEGIN:VEVENT
DTSTART;TZID=America/Chicago:20260117T090000
DTEND;TZID=America/Chicago:20260117T150000
DTSTAMP:20260421T081423
CREATED:20260124T060052Z
LAST-MODIFIED:20260124T060052Z
UID:37980-1768640400-1768662000@charitonbeacon.com
SUMMARY:Kick off to Prom Sale
DESCRIPTION:We are hosting our Kick off to Prom Sale Saturday 1/17/26 9am-3pm and 1/19/26 9am-12pm. \nWe will have giveaways\, dresses on super sale\, and new inventory!  \nSchedule your appointment below!  \nhttps://calendly.com/rockinglboutique/prom-dress-appointment
URL:https://charitonbeacon.com/activity/kick-off-to-prom-sale-8/
LOCATION:608 1st St\, Glasgow\, MO 65254-1008\, United States\, 608 1st Street\, Glasgow\, Missouri\, 65254\, United States
CATEGORIES:Area Events
END:VEVENT
BEGIN:VEVENT
DTSTART;TZID=America/Chicago:20260117T090000
DTEND;TZID=America/Chicago:20260117T150000
DTSTAMP:20260421T081423
CREATED:20260123T060051Z
LAST-MODIFIED:20260123T060051Z
UID:37924-1768640400-1768662000@charitonbeacon.com
SUMMARY:Kick off to Prom Sale
DESCRIPTION:We are hosting our Kick off to Prom Sale Saturday 1/17/26 9am-3pm and 1/19/26 9am-12pm. \nWe will have giveaways\, dresses on super sale\, and new inventory!  \nSchedule your appointment below!  \nhttps://calendly.com/rockinglboutique/prom-dress-appointment
URL:https://charitonbeacon.com/activity/kick-off-to-prom-sale-7/
LOCATION:608 1st St\, Glasgow\, MO 65254-1008\, United States\, 608 1st Street\, Glasgow\, Missouri\, 65254\, United States
CATEGORIES:Area Events
END:VEVENT
BEGIN:VEVENT
DTSTART;TZID=America/Chicago:20260117T090000
DTEND;TZID=America/Chicago:20260117T150000
DTSTAMP:20260421T081423
CREATED:20260122T060053Z
LAST-MODIFIED:20260122T060053Z
UID:37867-1768640400-1768662000@charitonbeacon.com
SUMMARY:Kick off to Prom Sale
DESCRIPTION:We are hosting our Kick off to Prom Sale Saturday 1/17/26 9am-3pm and 1/19/26 9am-12pm. \nWe will have giveaways\, dresses on super sale\, and new inventory!  \nSchedule your appointment below!  \nhttps://calendly.com/rockinglboutique/prom-dress-appointment
URL:https://charitonbeacon.com/activity/kick-off-to-prom-sale-6/
LOCATION:608 1st St\, Glasgow\, MO 65254-1008\, United States\, 608 1st Street\, Glasgow\, Missouri\, 65254\, United States
CATEGORIES:Area Events
END:VEVENT
BEGIN:VEVENT
DTSTART;TZID=America/Chicago:20260117T090000
DTEND;TZID=America/Chicago:20260117T150000
DTSTAMP:20260421T081423
CREATED:20260121T060053Z
LAST-MODIFIED:20260121T060053Z
UID:37823-1768640400-1768662000@charitonbeacon.com
SUMMARY:Kick off to Prom Sale
DESCRIPTION:We are hosting our Kick off to Prom Sale Saturday 1/17/26 9am-3pm and 1/19/26 9am-12pm. \nWe will have giveaways\, dresses on super sale\, and new inventory!  \nSchedule your appointment below!  \nhttps://calendly.com/rockinglboutique/prom-dress-appointment
URL:https://charitonbeacon.com/activity/kick-off-to-prom-sale-5/
LOCATION:608 1st St\, Glasgow\, MO 65254-1008\, United States\, 608 1st Street\, Glasgow\, Missouri\, 65254\, United States
CATEGORIES:Area Events
END:VEVENT
END:VCALENDAR