BEGIN:VCALENDAR
VERSION:2.0
PRODID:-//The Chariton Beacon - ECPv6.15.20//NONSGML v1.0//EN
CALSCALE:GREGORIAN
METHOD:PUBLISH
X-ORIGINAL-URL:https://charitonbeacon.com
X-WR-CALDESC:Events for The Chariton Beacon
REFRESH-INTERVAL;VALUE=DURATION:PT1H
X-Robots-Tag:noindex
X-PUBLISHED-TTL:PT1H
BEGIN:VTIMEZONE
TZID:America/Chicago
BEGIN:DAYLIGHT
TZOFFSETFROM:-0600
TZOFFSETTO:-0500
TZNAME:CDT
DTSTART:20240310T080000
END:DAYLIGHT
BEGIN:STANDARD
TZOFFSETFROM:-0500
TZOFFSETTO:-0600
TZNAME:CST
DTSTART:20241103T070000
END:STANDARD
BEGIN:DAYLIGHT
TZOFFSETFROM:-0600
TZOFFSETTO:-0500
TZNAME:CDT
DTSTART:20250309T080000
END:DAYLIGHT
BEGIN:STANDARD
TZOFFSETFROM:-0500
TZOFFSETTO:-0600
TZNAME:CST
DTSTART:20251102T070000
END:STANDARD
BEGIN:DAYLIGHT
TZOFFSETFROM:-0600
TZOFFSETTO:-0500
TZNAME:CDT
DTSTART:20260308T080000
END:DAYLIGHT
BEGIN:STANDARD
TZOFFSETFROM:-0500
TZOFFSETTO:-0600
TZNAME:CST
DTSTART:20261101T070000
END:STANDARD
END:VTIMEZONE
BEGIN:VEVENT
DTSTART;TZID=America/Chicago:20251220T200000
DTEND;TZID=America/Chicago:20251220T230000
DTSTAMP:20260421T234028
CREATED:20251224T060147Z
LAST-MODIFIED:20251224T060147Z
UID:36239-1766260800-1766271600@charitonbeacon.com
SUMMARY:Murder at the Ugly Christmas Sweater Party
DESCRIPTION:Wear your Ugly Sweater and solve the murder at the same time.  Sign Up for the Murder Mystery!  Call and reserve you spot. We have limited spots.
URL:https://charitonbeacon.com/activity/murder-at-the-ugly-christmas-sweater-party-5/
LOCATION:105 N Madison St\, Brunswick\, MO 65236-1244\, United States\, 105 North Madison Street\, Brunswick\, Missouri\, 65236\, United States
CATEGORIES:Area Events
END:VEVENT
BEGIN:VEVENT
DTSTART;TZID=America/Chicago:20251220T200000
DTEND;TZID=America/Chicago:20251220T230000
DTSTAMP:20260421T234028
CREATED:20251223T060147Z
LAST-MODIFIED:20251223T060147Z
UID:36201-1766260800-1766271600@charitonbeacon.com
SUMMARY:Murder at the Ugly Christmas Sweater Party
DESCRIPTION:Wear your Ugly Sweater and solve the murder at the same time.  Sign Up for the Murder Mystery!  Call and reserve you spot. We have limited spots.
URL:https://charitonbeacon.com/activity/murder-at-the-ugly-christmas-sweater-party-4/
LOCATION:105 N Madison St\, Brunswick\, MO 65236-1244\, United States\, 105 North Madison Street\, Brunswick\, Missouri\, 65236\, United States
CATEGORIES:Area Events
END:VEVENT
BEGIN:VEVENT
DTSTART;TZID=America/Chicago:20251220T200000
DTEND;TZID=America/Chicago:20251220T230000
DTSTAMP:20260421T234028
CREATED:20251222T060155Z
LAST-MODIFIED:20251222T060155Z
UID:36173-1766260800-1766271600@charitonbeacon.com
SUMMARY:Murder at the Ugly Christmas Sweater Party
DESCRIPTION:Wear your Ugly Sweater and solve the murder at the same time.  Sign Up for the Murder Mystery!  Call and reserve you spot. We have limited spots.
URL:https://charitonbeacon.com/activity/murder-at-the-ugly-christmas-sweater-party-3/
LOCATION:105 N Madison St\, Brunswick\, MO 65236-1244\, United States\, 105 North Madison Street\, Brunswick\, Missouri\, 65236\, United States
CATEGORIES:Area Events
END:VEVENT
BEGIN:VEVENT
DTSTART;TZID=America/Chicago:20251220T200000
DTEND;TZID=America/Chicago:20251220T230000
DTSTAMP:20260421T234028
CREATED:20251221T060155Z
LAST-MODIFIED:20251221T060155Z
UID:36144-1766260800-1766271600@charitonbeacon.com
SUMMARY:Murder at the Ugly Christmas Sweater Party
DESCRIPTION:Wear your Ugly Sweater and solve the murder at the same time.  Sign Up for the Murder Mystery!  Call and reserve you spot. We have limited spots.
URL:https://charitonbeacon.com/activity/murder-at-the-ugly-christmas-sweater-party-2/
LOCATION:105 N Madison St\, Brunswick\, MO 65236-1244\, United States\, 105 North Madison Street\, Brunswick\, Missouri\, 65236\, United States
CATEGORIES:Area Events
END:VEVENT
BEGIN:VEVENT
DTSTART;TZID=America/Chicago:20251220T200000
DTEND;TZID=America/Chicago:20251220T230000
DTSTAMP:20260421T234028
CREATED:20251126T060155Z
LAST-MODIFIED:20251220T060143Z
UID:34555-1766260800-1766271600@charitonbeacon.com
SUMMARY:Murder at the Ugly Christmas Sweater Party
DESCRIPTION:Wear your Ugly Sweater and solve the murder at the same time.  Sign Up for the Murder Mystery!  Call and reserve you spot. We have limited spots.
URL:https://charitonbeacon.com/activity/murder-at-the-ugly-christmas-sweater-party/
LOCATION:105 N Madison St\, Brunswick\, MO 65236-1244\, United States\, 105 North Madison Street\, Brunswick\, Missouri\, 65236\, United States
CATEGORIES:Area Events
END:VEVENT
BEGIN:VEVENT
DTSTART;TZID=America/Chicago:20251220T170000
DTEND;TZID=America/Chicago:20251220T210000
DTSTAMP:20260421T234028
CREATED:20251231T060149Z
LAST-MODIFIED:20251231T060149Z
UID:36520-1766250000-1766264400@charitonbeacon.com
SUMMARY:The Living Nativity at First Christian Church
DESCRIPTION:You are invited to walk through our Living Nativity at First Christian Church and experience the wonder of that first Christmas night. You’ll meet Mary\, Joseph\, shepherds\, wise men\, angels\, and of course\, baby Jesus all set in a beautiful live nativity scene.  \nWarm up with a cup of free hot chocolate and enjoy the fellowship of our church family and community. \nThis event is free and open to all ages and is a wonderful way to celebrate the season with family and friends. The Nativity will be on display December 20 from 5:00-7:30 p.m. \nIn addition to The Living Nativity\, we will also be hosting a beautiful 5-course meal (advance ticket purchase required) from 6:30-7:30 p.m. The meal will be followed by the spectacular Choral Cantata (free event) at 7:30 p.m. inside the church. You do not want to miss these events to get you in the Christmas spirit. \nWe can’t wait to see you there!
URL:https://charitonbeacon.com/activity/the-living-nativity-at-first-christian-church-11/
LOCATION:1416 N Main St\, Brookfield\, MO 64628-1014\, United States\, 1416 North Main Street\, Brookfield\, Missouri\, 64628\, United States
CATEGORIES:Area Events
END:VEVENT
BEGIN:VEVENT
DTSTART;TZID=America/Chicago:20251220T170000
DTEND;TZID=America/Chicago:20251220T210000
DTSTAMP:20260421T234028
CREATED:20251230T060138Z
LAST-MODIFIED:20251230T060138Z
UID:36415-1766250000-1766264400@charitonbeacon.com
SUMMARY:The Living Nativity at First Christian Church
DESCRIPTION:You are invited to walk through our Living Nativity at First Christian Church and experience the wonder of that first Christmas night. You’ll meet Mary\, Joseph\, shepherds\, wise men\, angels\, and of course\, baby Jesus all set in a beautiful live nativity scene.  \nWarm up with a cup of free hot chocolate and enjoy the fellowship of our church family and community. \nThis event is free and open to all ages and is a wonderful way to celebrate the season with family and friends. The Nativity will be on display December 20 from 5:00-7:30 p.m. \nIn addition to The Living Nativity\, we will also be hosting a beautiful 5-course meal (advance ticket purchase required) from 6:30-7:30 p.m. The meal will be followed by the spectacular Choral Cantata (free event) at 7:30 p.m. inside the church. You do not want to miss these events to get you in the Christmas spirit. \nWe can’t wait to see you there!
URL:https://charitonbeacon.com/activity/the-living-nativity-at-first-christian-church-10/
LOCATION:1416 N Main St\, Brookfield\, MO 64628-1014\, United States\, 1416 North Main Street\, Brookfield\, Missouri\, 64628\, United States
CATEGORIES:Area Events
END:VEVENT
BEGIN:VEVENT
DTSTART;TZID=America/Chicago:20251220T170000
DTEND;TZID=America/Chicago:20251220T210000
DTSTAMP:20260421T234028
CREATED:20251229T060140Z
LAST-MODIFIED:20251229T060140Z
UID:36388-1766250000-1766264400@charitonbeacon.com
SUMMARY:The Living Nativity at First Christian Church
DESCRIPTION:You are invited to walk through our Living Nativity at First Christian Church and experience the wonder of that first Christmas night. You’ll meet Mary\, Joseph\, shepherds\, wise men\, angels\, and of course\, baby Jesus all set in a beautiful live nativity scene.  \nWarm up with a cup of free hot chocolate and enjoy the fellowship of our church family and community. \nThis event is free and open to all ages and is a wonderful way to celebrate the season with family and friends. The Nativity will be on display December 20 from 5:00-7:30 p.m. \nIn addition to The Living Nativity\, we will also be hosting a beautiful 5-course meal (advance ticket purchase required) from 6:30-7:30 p.m. The meal will be followed by the spectacular Choral Cantata (free event) at 7:30 p.m. inside the church. You do not want to miss these events to get you in the Christmas spirit. \nWe can’t wait to see you there!
URL:https://charitonbeacon.com/activity/the-living-nativity-at-first-christian-church-9/
LOCATION:1416 N Main St\, Brookfield\, MO 64628-1014\, United States\, 1416 North Main Street\, Brookfield\, Missouri\, 64628\, United States
CATEGORIES:Area Events
END:VEVENT
BEGIN:VEVENT
DTSTART;TZID=America/Chicago:20251220T170000
DTEND;TZID=America/Chicago:20251220T210000
DTSTAMP:20260421T234028
CREATED:20251228T060137Z
LAST-MODIFIED:20251228T060137Z
UID:36359-1766250000-1766264400@charitonbeacon.com
SUMMARY:The Living Nativity at First Christian Church
DESCRIPTION:You are invited to walk through our Living Nativity at First Christian Church and experience the wonder of that first Christmas night. You’ll meet Mary\, Joseph\, shepherds\, wise men\, angels\, and of course\, baby Jesus all set in a beautiful live nativity scene.  \nWarm up with a cup of free hot chocolate and enjoy the fellowship of our church family and community. \nThis event is free and open to all ages and is a wonderful way to celebrate the season with family and friends. The Nativity will be on display December 20 from 5:00-7:30 p.m. \nIn addition to The Living Nativity\, we will also be hosting a beautiful 5-course meal (advance ticket purchase required) from 6:30-7:30 p.m. The meal will be followed by the spectacular Choral Cantata (free event) at 7:30 p.m. inside the church. You do not want to miss these events to get you in the Christmas spirit. \nWe can’t wait to see you there!
URL:https://charitonbeacon.com/activity/the-living-nativity-at-first-christian-church-8/
LOCATION:1416 N Main St\, Brookfield\, MO 64628-1014\, United States\, 1416 North Main Street\, Brookfield\, Missouri\, 64628\, United States
CATEGORIES:Area Events
END:VEVENT
BEGIN:VEVENT
DTSTART;TZID=America/Chicago:20251220T170000
DTEND;TZID=America/Chicago:20251220T210000
DTSTAMP:20260421T234028
CREATED:20251226T060149Z
LAST-MODIFIED:20251226T060149Z
UID:36312-1766250000-1766264400@charitonbeacon.com
SUMMARY:The Living Nativity at First Christian Church
DESCRIPTION:You are invited to walk through our Living Nativity at First Christian Church and experience the wonder of that first Christmas night. You’ll meet Mary\, Joseph\, shepherds\, wise men\, angels\, and of course\, baby Jesus all set in a beautiful live nativity scene.  \nWarm up with a cup of free hot chocolate and enjoy the fellowship of our church family and community. \nThis event is free and open to all ages and is a wonderful way to celebrate the season with family and friends. The Nativity will be on display December 20 from 5:00-7:30 p.m. \nIn addition to The Living Nativity\, we will also be hosting a beautiful 5-course meal (advance ticket purchase required) from 6:30-7:30 p.m. The meal will be followed by the spectacular Choral Cantata (free event) at 7:30 p.m. inside the church. You do not want to miss these events to get you in the Christmas spirit. \nWe can’t wait to see you there!
URL:https://charitonbeacon.com/activity/the-living-nativity-at-first-christian-church-7/
LOCATION:1416 N Main St\, Brookfield\, MO 64628-1014\, United States\, 1416 North Main Street\, Brookfield\, Missouri\, 64628\, United States
CATEGORIES:Area Events
END:VEVENT
BEGIN:VEVENT
DTSTART;TZID=America/Chicago:20251220T170000
DTEND;TZID=America/Chicago:20251220T210000
DTSTAMP:20260421T234028
CREATED:20251225T060155Z
LAST-MODIFIED:20251225T060155Z
UID:36285-1766250000-1766264400@charitonbeacon.com
SUMMARY:The Living Nativity at First Christian Church
DESCRIPTION:You are invited to walk through our Living Nativity at First Christian Church and experience the wonder of that first Christmas night. You’ll meet Mary\, Joseph\, shepherds\, wise men\, angels\, and of course\, baby Jesus all set in a beautiful live nativity scene.  \nWarm up with a cup of free hot chocolate and enjoy the fellowship of our church family and community. \nThis event is free and open to all ages and is a wonderful way to celebrate the season with family and friends. The Nativity will be on display December 20 from 5:00-7:30 p.m. \nIn addition to The Living Nativity\, we will also be hosting a beautiful 5-course meal (advance ticket purchase required) from 6:30-7:30 p.m. The meal will be followed by the spectacular Choral Cantata (free event) at 7:30 p.m. inside the church. You do not want to miss these events to get you in the Christmas spirit. \nWe can’t wait to see you there!
URL:https://charitonbeacon.com/activity/the-living-nativity-at-first-christian-church-6/
LOCATION:1416 N Main St\, Brookfield\, MO 64628-1014\, United States\, 1416 North Main Street\, Brookfield\, Missouri\, 64628\, United States
CATEGORIES:Area Events
END:VEVENT
BEGIN:VEVENT
DTSTART;TZID=America/Chicago:20251220T170000
DTEND;TZID=America/Chicago:20251220T210000
DTSTAMP:20260421T234028
CREATED:20251224T060152Z
LAST-MODIFIED:20251224T060152Z
UID:36247-1766250000-1766264400@charitonbeacon.com
SUMMARY:The Living Nativity at First Christian Church
DESCRIPTION:You are invited to walk through our Living Nativity at First Christian Church and experience the wonder of that first Christmas night. You’ll meet Mary\, Joseph\, shepherds\, wise men\, angels\, and of course\, baby Jesus all set in a beautiful live nativity scene.  \nWarm up with a cup of free hot chocolate and enjoy the fellowship of our church family and community. \nThis event is free and open to all ages and is a wonderful way to celebrate the season with family and friends. The Nativity will be on display December 20 from 5:00-7:30 p.m. \nIn addition to The Living Nativity\, we will also be hosting a beautiful 5-course meal (advance ticket purchase required) from 6:30-7:30 p.m. The meal will be followed by the spectacular Choral Cantata (free event) at 7:30 p.m. inside the church. You do not want to miss these events to get you in the Christmas spirit. \nWe can’t wait to see you there!
URL:https://charitonbeacon.com/activity/the-living-nativity-at-first-christian-church-5/
LOCATION:1416 N Main St\, Brookfield\, MO 64628-1014\, United States\, 1416 North Main Street\, Brookfield\, Missouri\, 64628\, United States
CATEGORIES:Area Events
END:VEVENT
BEGIN:VEVENT
DTSTART;TZID=America/Chicago:20251220T170000
DTEND;TZID=America/Chicago:20251220T210000
DTSTAMP:20260421T234028
CREATED:20251223T060150Z
LAST-MODIFIED:20251223T060150Z
UID:36209-1766250000-1766264400@charitonbeacon.com
SUMMARY:The Living Nativity at First Christian Church
DESCRIPTION:You are invited to walk through our Living Nativity at First Christian Church and experience the wonder of that first Christmas night. You’ll meet Mary\, Joseph\, shepherds\, wise men\, angels\, and of course\, baby Jesus all set in a beautiful live nativity scene.  \nWarm up with a cup of free hot chocolate and enjoy the fellowship of our church family and community. \nThis event is free and open to all ages and is a wonderful way to celebrate the season with family and friends. The Nativity will be on display December 20 from 5:00-7:30 p.m. \nIn addition to The Living Nativity\, we will also be hosting a beautiful 5-course meal (advance ticket purchase required) from 6:30-7:30 p.m. The meal will be followed by the spectacular Choral Cantata (free event) at 7:30 p.m. inside the church. You do not want to miss these events to get you in the Christmas spirit. \nWe can’t wait to see you there!
URL:https://charitonbeacon.com/activity/the-living-nativity-at-first-christian-church-4/
LOCATION:1416 N Main St\, Brookfield\, MO 64628-1014\, United States\, 1416 North Main Street\, Brookfield\, Missouri\, 64628\, United States
CATEGORIES:Area Events
END:VEVENT
BEGIN:VEVENT
DTSTART;TZID=America/Chicago:20251220T170000
DTEND;TZID=America/Chicago:20251220T210000
DTSTAMP:20260421T234028
CREATED:20251222T060158Z
LAST-MODIFIED:20251222T060158Z
UID:36180-1766250000-1766264400@charitonbeacon.com
SUMMARY:The Living Nativity at First Christian Church
DESCRIPTION:You are invited to walk through our Living Nativity at First Christian Church and experience the wonder of that first Christmas night. You’ll meet Mary\, Joseph\, shepherds\, wise men\, angels\, and of course\, baby Jesus all set in a beautiful live nativity scene.  \nWarm up with a cup of free hot chocolate and enjoy the fellowship of our church family and community. \nThis event is free and open to all ages and is a wonderful way to celebrate the season with family and friends. The Nativity will be on display December 20 from 5:00-7:30 p.m. \nIn addition to The Living Nativity\, we will also be hosting a beautiful 5-course meal (advance ticket purchase required) from 6:30-7:30 p.m. The meal will be followed by the spectacular Choral Cantata (free event) at 7:30 p.m. inside the church. You do not want to miss these events to get you in the Christmas spirit. \nWe can’t wait to see you there!
URL:https://charitonbeacon.com/activity/the-living-nativity-at-first-christian-church-3/
LOCATION:1416 N Main St\, Brookfield\, MO 64628-1014\, United States\, 1416 North Main Street\, Brookfield\, Missouri\, 64628\, United States
CATEGORIES:Area Events
END:VEVENT
BEGIN:VEVENT
DTSTART;TZID=America/Chicago:20251220T170000
DTEND;TZID=America/Chicago:20251220T210000
DTSTAMP:20260421T234028
CREATED:20251221T060157Z
LAST-MODIFIED:20251221T060157Z
UID:36151-1766250000-1766264400@charitonbeacon.com
SUMMARY:The Living Nativity at First Christian Church
DESCRIPTION:You are invited to walk through our Living Nativity at First Christian Church and experience the wonder of that first Christmas night. You’ll meet Mary\, Joseph\, shepherds\, wise men\, angels\, and of course\, baby Jesus all set in a beautiful live nativity scene.  \nWarm up with a cup of free hot chocolate and enjoy the fellowship of our church family and community. \nThis event is free and open to all ages and is a wonderful way to celebrate the season with family and friends. The Nativity will be on display December 20 from 5:00-7:30 p.m. \nIn addition to The Living Nativity\, we will also be hosting a beautiful 5-course meal (advance ticket purchase required) from 6:30-7:30 p.m. The meal will be followed by the spectacular Choral Cantata (free event) at 7:30 p.m. inside the church. You do not want to miss these events to get you in the Christmas spirit. \nWe can’t wait to see you there!
URL:https://charitonbeacon.com/activity/the-living-nativity-at-first-christian-church-2/
LOCATION:1416 N Main St\, Brookfield\, MO 64628-1014\, United States\, 1416 North Main Street\, Brookfield\, Missouri\, 64628\, United States
CATEGORIES:Area Events
END:VEVENT
BEGIN:VEVENT
DTSTART;TZID=America/Chicago:20251220T170000
DTEND;TZID=America/Chicago:20251220T210000
DTSTAMP:20260421T234028
CREATED:20251126T060158Z
LAST-MODIFIED:20251220T060148Z
UID:34565-1766250000-1766264400@charitonbeacon.com
SUMMARY:The Living Nativity at First Christian Church
DESCRIPTION:You are invited to walk through our Living Nativity at First Christian Church and experience the wonder of that first Christmas night. You’ll meet Mary\, Joseph\, shepherds\, wise men\, angels\, and of course\, baby Jesus all set in a beautiful live nativity scene.  \nWarm up with a cup of free hot chocolate and enjoy the fellowship of our church family and community. \nThis event is free and open to all ages and is a wonderful way to celebrate the season with family and friends. The Nativity will be on display December 20 from 5:00-7:30 p.m. \nIn addition to The Living Nativity\, we will also be hosting a beautiful 5-course meal (advance ticket purchase required) from 6:30-7:30 p.m. The meal will be followed by the spectacular Choral Cantata (free event) at 7:30 p.m. inside the church. You do not want to miss these events to get you in the Christmas spirit. \nWe can’t wait to see you there!
URL:https://charitonbeacon.com/activity/the-living-nativity-at-first-christian-church/
LOCATION:1416 N Main St\, Brookfield\, MO 64628-1014\, United States\, 1416 North Main Street\, Brookfield\, Missouri\, 64628\, United States
CATEGORIES:Area Events
END:VEVENT
BEGIN:VEVENT
DTSTART;TZID=America/Chicago:20251220T170000
DTEND;TZID=America/Chicago:20251220T200000
DTSTAMP:20260421T234028
CREATED:20251231T060149Z
LAST-MODIFIED:20251231T060149Z
UID:36521-1766250000-1766260800@charitonbeacon.com
SUMMARY:P.A Acoustic // Becketts Winery
DESCRIPTION:P.A Acoustic
URL:https://charitonbeacon.com/activity/p-a-acoustic-becketts-winery-11/
LOCATION:Missouri
CATEGORIES:Area Events
END:VEVENT
BEGIN:VEVENT
DTSTART;TZID=America/Chicago:20251220T170000
DTEND;TZID=America/Chicago:20251220T200000
DTSTAMP:20260421T234028
CREATED:20251229T060140Z
LAST-MODIFIED:20251229T060140Z
UID:36389-1766250000-1766260800@charitonbeacon.com
SUMMARY:P.A Acoustic // Becketts Winery
DESCRIPTION:P.A Acoustic
URL:https://charitonbeacon.com/activity/p-a-acoustic-becketts-winery-10/
LOCATION:Missouri
CATEGORIES:Area Events
END:VEVENT
BEGIN:VEVENT
DTSTART;TZID=America/Chicago:20251220T170000
DTEND;TZID=America/Chicago:20251220T200000
DTSTAMP:20260421T234028
CREATED:20251228T060137Z
LAST-MODIFIED:20251228T060137Z
UID:36360-1766250000-1766260800@charitonbeacon.com
SUMMARY:P.A Acoustic // Becketts Winery
DESCRIPTION:P.A Acoustic
URL:https://charitonbeacon.com/activity/p-a-acoustic-becketts-winery-9/
LOCATION:Missouri
CATEGORIES:Area Events
END:VEVENT
BEGIN:VEVENT
DTSTART;TZID=America/Chicago:20251220T170000
DTEND;TZID=America/Chicago:20251220T200000
DTSTAMP:20260421T234028
CREATED:20251227T060142Z
LAST-MODIFIED:20251227T060142Z
UID:36336-1766250000-1766260800@charitonbeacon.com
SUMMARY:P.A Acoustic // Becketts Winery
DESCRIPTION:P.A Acoustic
URL:https://charitonbeacon.com/activity/p-a-acoustic-becketts-winery-8/
LOCATION:Missouri
CATEGORIES:Area Events
END:VEVENT
BEGIN:VEVENT
DTSTART;TZID=America/Chicago:20251220T170000
DTEND;TZID=America/Chicago:20251220T200000
DTSTAMP:20260421T234028
CREATED:20251226T060149Z
LAST-MODIFIED:20251226T060149Z
UID:36313-1766250000-1766260800@charitonbeacon.com
SUMMARY:P.A Acoustic // Becketts Winery
DESCRIPTION:P.A Acoustic
URL:https://charitonbeacon.com/activity/p-a-acoustic-becketts-winery-7/
LOCATION:Missouri
CATEGORIES:Area Events
END:VEVENT
BEGIN:VEVENT
DTSTART;TZID=America/Chicago:20251220T170000
DTEND;TZID=America/Chicago:20251220T200000
DTSTAMP:20260421T234028
CREATED:20251225T060155Z
LAST-MODIFIED:20251225T060155Z
UID:36286-1766250000-1766260800@charitonbeacon.com
SUMMARY:P.A Acoustic // Becketts Winery
DESCRIPTION:P.A Acoustic
URL:https://charitonbeacon.com/activity/p-a-acoustic-becketts-winery-6/
LOCATION:Missouri
CATEGORIES:Area Events
END:VEVENT
BEGIN:VEVENT
DTSTART;TZID=America/Chicago:20251220T170000
DTEND;TZID=America/Chicago:20251220T200000
DTSTAMP:20260421T234028
CREATED:20251224T060153Z
LAST-MODIFIED:20251224T060153Z
UID:36248-1766250000-1766260800@charitonbeacon.com
SUMMARY:P.A Acoustic // Becketts Winery
DESCRIPTION:P.A Acoustic
URL:https://charitonbeacon.com/activity/p-a-acoustic-becketts-winery-5/
LOCATION:Missouri
CATEGORIES:Area Events
END:VEVENT
BEGIN:VEVENT
DTSTART;TZID=America/Chicago:20251220T170000
DTEND;TZID=America/Chicago:20251220T200000
DTSTAMP:20260421T234028
CREATED:20251223T060150Z
LAST-MODIFIED:20251223T060150Z
UID:36210-1766250000-1766260800@charitonbeacon.com
SUMMARY:P.A Acoustic // Becketts Winery
DESCRIPTION:P.A Acoustic
URL:https://charitonbeacon.com/activity/p-a-acoustic-becketts-winery-4/
LOCATION:Missouri
CATEGORIES:Area Events
END:VEVENT
BEGIN:VEVENT
DTSTART;TZID=America/Chicago:20251220T170000
DTEND;TZID=America/Chicago:20251220T200000
DTSTAMP:20260421T234028
CREATED:20251222T060158Z
LAST-MODIFIED:20251222T060158Z
UID:36181-1766250000-1766260800@charitonbeacon.com
SUMMARY:P.A Acoustic // Becketts Winery
DESCRIPTION:P.A Acoustic
URL:https://charitonbeacon.com/activity/p-a-acoustic-becketts-winery-3/
LOCATION:Missouri
CATEGORIES:Area Events
END:VEVENT
BEGIN:VEVENT
DTSTART;TZID=America/Chicago:20251220T170000
DTEND;TZID=America/Chicago:20251220T200000
DTSTAMP:20260421T234028
CREATED:20251221T060158Z
LAST-MODIFIED:20251221T060158Z
UID:36152-1766250000-1766260800@charitonbeacon.com
SUMMARY:P.A Acoustic // Becketts Winery
DESCRIPTION:P.A Acoustic
URL:https://charitonbeacon.com/activity/p-a-acoustic-becketts-winery-2/
LOCATION:Missouri
CATEGORIES:Area Events
END:VEVENT
BEGIN:VEVENT
DTSTART;TZID=America/Chicago:20251220T170000
DTEND;TZID=America/Chicago:20251220T200000
DTSTAMP:20260421T234028
CREATED:20251126T060158Z
LAST-MODIFIED:20251220T060148Z
UID:34567-1766250000-1766260800@charitonbeacon.com
SUMMARY:P.A Acoustic // Becketts Winery
DESCRIPTION:P.A Acoustic
URL:https://charitonbeacon.com/activity/p-a-acoustic-becketts-winery/
LOCATION:Missouri
CATEGORIES:Area Events
END:VEVENT
BEGIN:VEVENT
DTSTART;TZID=America/Chicago:20251218T190000
DTEND;TZID=America/Chicago:20251218T203000
DTSTAMP:20260421T234028
CREATED:20251126T060159Z
LAST-MODIFIED:20251211T060208Z
UID:34570-1766084400-1766089800@charitonbeacon.com
SUMMARY:Trivia at Beckett's Winery
DESCRIPTION:Free to join and the winning team gets $20 off your bar tab!
URL:https://charitonbeacon.com/activity/trivia-at-becketts-winery/
LOCATION:515 1st St\, Glasgow\, MO 65254-1005\, United States\, 515 1st Street\, Glasgow\, Missouri\, 65254\, United States
CATEGORIES:Area Events
END:VEVENT
BEGIN:VEVENT
DTSTART;TZID=America/Chicago:20251214T180000
DTEND;TZID=America/Chicago:20251214T210000
DTSTAMP:20260421T234028
CREATED:20251231T060143Z
LAST-MODIFIED:20251231T060143Z
UID:36506-1765735200-1765746000@charitonbeacon.com
SUMMARY:Children’s Christmas Program
DESCRIPTION:We invite you to join us for our Children’s Christmas Program! We’ll have Christmas treats and fellowship following the program.
URL:https://charitonbeacon.com/activity/childrens-christmas-program-16/
LOCATION:121 E Park St\, Brookfield\, MO 64628-1716\, United States\, 121 East Park Street\, Brookfield\, Missouri\, 64628\, United States
CATEGORIES:Area Events
END:VEVENT
BEGIN:VEVENT
DTSTART;TZID=America/Chicago:20251214T180000
DTEND;TZID=America/Chicago:20251214T210000
DTSTAMP:20260421T234028
CREATED:20251230T060134Z
LAST-MODIFIED:20251230T060134Z
UID:36401-1765735200-1765746000@charitonbeacon.com
SUMMARY:Children’s Christmas Program
DESCRIPTION:We invite you to join us for our Children’s Christmas Program! We’ll have Christmas treats and fellowship following the program.
URL:https://charitonbeacon.com/activity/childrens-christmas-program-15/
LOCATION:121 E Park St\, Brookfield\, MO 64628-1716\, United States\, 121 East Park Street\, Brookfield\, Missouri\, 64628\, United States
CATEGORIES:Area Events
END:VEVENT
END:VCALENDAR