BEGIN:VCALENDAR
VERSION:2.0
PRODID:-//The Chariton Beacon - ECPv6.15.20//NONSGML v1.0//EN
CALSCALE:GREGORIAN
METHOD:PUBLISH
X-ORIGINAL-URL:https://charitonbeacon.com
X-WR-CALDESC:Events for The Chariton Beacon
REFRESH-INTERVAL;VALUE=DURATION:PT1H
X-Robots-Tag:noindex
X-PUBLISHED-TTL:PT1H
BEGIN:VTIMEZONE
TZID:America/Chicago
BEGIN:DAYLIGHT
TZOFFSETFROM:-0600
TZOFFSETTO:-0500
TZNAME:CDT
DTSTART:20240310T080000
END:DAYLIGHT
BEGIN:STANDARD
TZOFFSETFROM:-0500
TZOFFSETTO:-0600
TZNAME:CST
DTSTART:20241103T070000
END:STANDARD
BEGIN:DAYLIGHT
TZOFFSETFROM:-0600
TZOFFSETTO:-0500
TZNAME:CDT
DTSTART:20250309T080000
END:DAYLIGHT
BEGIN:STANDARD
TZOFFSETFROM:-0500
TZOFFSETTO:-0600
TZNAME:CST
DTSTART:20251102T070000
END:STANDARD
BEGIN:DAYLIGHT
TZOFFSETFROM:-0600
TZOFFSETTO:-0500
TZNAME:CDT
DTSTART:20260308T080000
END:DAYLIGHT
BEGIN:STANDARD
TZOFFSETFROM:-0500
TZOFFSETTO:-0600
TZNAME:CST
DTSTART:20261101T070000
END:STANDARD
END:VTIMEZONE
BEGIN:VEVENT
DTSTART;TZID=America/Chicago:20251214T180000
DTEND;TZID=America/Chicago:20251214T210000
DTSTAMP:20260422T024947
CREATED:20251217T060143Z
LAST-MODIFIED:20251217T060143Z
UID:36020-1765735200-1765746000@charitonbeacon.com
SUMMARY:Children’s Christmas Program
DESCRIPTION:We invite you to join us for our Children’s Christmas Program! We’ll have Christmas treats and fellowship following the program.
URL:https://charitonbeacon.com/activity/childrens-christmas-program-4/
LOCATION:121 E Park St\, Brookfield\, MO 64628-1716\, United States\, 121 East Park Street\, Brookfield\, Missouri\, 64628\, United States
CATEGORIES:Area Events
END:VEVENT
BEGIN:VEVENT
DTSTART;TZID=America/Chicago:20251214T180000
DTEND;TZID=America/Chicago:20251214T210000
DTSTAMP:20260422T024947
CREATED:20251216T060144Z
LAST-MODIFIED:20251216T060144Z
UID:35995-1765735200-1765746000@charitonbeacon.com
SUMMARY:Children’s Christmas Program
DESCRIPTION:We invite you to join us for our Children’s Christmas Program! We’ll have Christmas treats and fellowship following the program.
URL:https://charitonbeacon.com/activity/childrens-christmas-program-3/
LOCATION:121 E Park St\, Brookfield\, MO 64628-1716\, United States\, 121 East Park Street\, Brookfield\, Missouri\, 64628\, United States
CATEGORIES:Area Events
END:VEVENT
BEGIN:VEVENT
DTSTART;TZID=America/Chicago:20251214T180000
DTEND;TZID=America/Chicago:20251214T210000
DTSTAMP:20260422T024947
CREATED:20251215T060146Z
LAST-MODIFIED:20251215T060146Z
UID:35967-1765735200-1765746000@charitonbeacon.com
SUMMARY:Children’s Christmas Program
DESCRIPTION:We invite you to join us for our Children’s Christmas Program! We’ll have Christmas treats and fellowship following the program.
URL:https://charitonbeacon.com/activity/childrens-christmas-program-2/
LOCATION:121 E Park St\, Brookfield\, MO 64628-1716\, United States\, 121 East Park Street\, Brookfield\, Missouri\, 64628\, United States
CATEGORIES:Area Events
END:VEVENT
BEGIN:VEVENT
DTSTART;TZID=America/Chicago:20251214T180000
DTEND;TZID=America/Chicago:20251214T210000
DTSTAMP:20260422T024947
CREATED:20251126T060152Z
LAST-MODIFIED:20251214T060145Z
UID:34545-1765735200-1765746000@charitonbeacon.com
SUMMARY:Children’s Christmas Program
DESCRIPTION:We invite you to join us for our Children’s Christmas Program! We’ll have Christmas treats and fellowship following the program.
URL:https://charitonbeacon.com/activity/childrens-christmas-program/
LOCATION:121 E Park St\, Brookfield\, MO 64628-1716\, United States\, 121 East Park Street\, Brookfield\, Missouri\, 64628\, United States
CATEGORIES:Area Events
END:VEVENT
BEGIN:VEVENT
DTSTART;TZID=America/Chicago:20251213T210000
DTEND;TZID=America/Chicago:20251214T000000
DTSTAMP:20260422T024947
CREATED:20251231T060142Z
LAST-MODIFIED:20251231T060142Z
UID:36505-1765659600-1765670400@charitonbeacon.com
SUMMARY:Christmas Trivia and DJ
DESCRIPTION:Get ready to rock around the Christmas tree and put your festive trivia to the test!
URL:https://charitonbeacon.com/activity/christmas-trivia-and-dj-17/
LOCATION:105 N Madison St\, Brunswick\, MO 65236-1244\, United States\, 105 North Madison Street\, Brunswick\, Missouri\, 65236\, United States
CATEGORIES:Area Events
END:VEVENT
BEGIN:VEVENT
DTSTART;TZID=America/Chicago:20251213T210000
DTEND;TZID=America/Chicago:20251214T000000
DTSTAMP:20260422T024947
CREATED:20251229T060134Z
LAST-MODIFIED:20251229T060134Z
UID:36375-1765659600-1765670400@charitonbeacon.com
SUMMARY:Christmas Trivia and DJ
DESCRIPTION:Get ready to rock around the Christmas tree and put your festive trivia to the test!
URL:https://charitonbeacon.com/activity/christmas-trivia-and-dj-16/
LOCATION:105 N Madison St\, Brunswick\, MO 65236-1244\, United States\, 105 North Madison Street\, Brunswick\, Missouri\, 65236\, United States
CATEGORIES:Area Events
END:VEVENT
BEGIN:VEVENT
DTSTART;TZID=America/Chicago:20251213T210000
DTEND;TZID=America/Chicago:20251214T000000
DTSTAMP:20260422T024947
CREATED:20251228T060133Z
LAST-MODIFIED:20251228T060133Z
UID:36350-1765659600-1765670400@charitonbeacon.com
SUMMARY:Christmas Trivia and DJ
DESCRIPTION:Get ready to rock around the Christmas tree and put your festive trivia to the test!
URL:https://charitonbeacon.com/activity/christmas-trivia-and-dj-15/
LOCATION:105 N Madison St\, Brunswick\, MO 65236-1244\, United States\, 105 North Madison Street\, Brunswick\, Missouri\, 65236\, United States
CATEGORIES:Area Events
END:VEVENT
BEGIN:VEVENT
DTSTART;TZID=America/Chicago:20251213T210000
DTEND;TZID=America/Chicago:20251214T000000
DTSTAMP:20260422T024947
CREATED:20251227T060138Z
LAST-MODIFIED:20251227T060138Z
UID:36324-1765659600-1765670400@charitonbeacon.com
SUMMARY:Christmas Trivia and DJ
DESCRIPTION:Get ready to rock around the Christmas tree and put your festive trivia to the test!
URL:https://charitonbeacon.com/activity/christmas-trivia-and-dj-14/
LOCATION:105 N Madison St\, Brunswick\, MO 65236-1244\, United States\, 105 North Madison Street\, Brunswick\, Missouri\, 65236\, United States
CATEGORIES:Area Events
END:VEVENT
BEGIN:VEVENT
DTSTART;TZID=America/Chicago:20251213T210000
DTEND;TZID=America/Chicago:20251214T000000
DTSTAMP:20260422T024947
CREATED:20251226T060144Z
LAST-MODIFIED:20251226T060144Z
UID:36299-1765659600-1765670400@charitonbeacon.com
SUMMARY:Christmas Trivia and DJ
DESCRIPTION:Get ready to rock around the Christmas tree and put your festive trivia to the test!
URL:https://charitonbeacon.com/activity/christmas-trivia-and-dj-13/
LOCATION:105 N Madison St\, Brunswick\, MO 65236-1244\, United States\, 105 North Madison Street\, Brunswick\, Missouri\, 65236\, United States
CATEGORIES:Area Events
END:VEVENT
BEGIN:VEVENT
DTSTART;TZID=America/Chicago:20251213T210000
DTEND;TZID=America/Chicago:20251214T000000
DTSTAMP:20260422T024947
CREATED:20251225T060149Z
LAST-MODIFIED:20251225T060149Z
UID:36270-1765659600-1765670400@charitonbeacon.com
SUMMARY:Christmas Trivia and DJ
DESCRIPTION:Get ready to rock around the Christmas tree and put your festive trivia to the test!
URL:https://charitonbeacon.com/activity/christmas-trivia-and-dj-12/
LOCATION:105 N Madison St\, Brunswick\, MO 65236-1244\, United States\, 105 North Madison Street\, Brunswick\, Missouri\, 65236\, United States
CATEGORIES:Area Events
END:VEVENT
BEGIN:VEVENT
DTSTART;TZID=America/Chicago:20251213T210000
DTEND;TZID=America/Chicago:20251214T000000
DTSTAMP:20260422T024947
CREATED:20251224T060144Z
LAST-MODIFIED:20251224T060144Z
UID:36232-1765659600-1765670400@charitonbeacon.com
SUMMARY:Christmas Trivia and DJ
DESCRIPTION:Get ready to rock around the Christmas tree and put your festive trivia to the test!
URL:https://charitonbeacon.com/activity/christmas-trivia-and-dj-11/
LOCATION:105 N Madison St\, Brunswick\, MO 65236-1244\, United States\, 105 North Madison Street\, Brunswick\, Missouri\, 65236\, United States
CATEGORIES:Area Events
END:VEVENT
BEGIN:VEVENT
DTSTART;TZID=America/Chicago:20251213T210000
DTEND;TZID=America/Chicago:20251214T000000
DTSTAMP:20260422T024947
CREATED:20251223T060145Z
LAST-MODIFIED:20251223T060145Z
UID:36194-1765659600-1765670400@charitonbeacon.com
SUMMARY:Christmas Trivia and DJ
DESCRIPTION:Get ready to rock around the Christmas tree and put your festive trivia to the test!
URL:https://charitonbeacon.com/activity/christmas-trivia-and-dj-10/
LOCATION:105 N Madison St\, Brunswick\, MO 65236-1244\, United States\, 105 North Madison Street\, Brunswick\, Missouri\, 65236\, United States
CATEGORIES:Area Events
END:VEVENT
BEGIN:VEVENT
DTSTART;TZID=America/Chicago:20251213T210000
DTEND;TZID=America/Chicago:20251214T000000
DTSTAMP:20260422T024947
CREATED:20251222T060152Z
LAST-MODIFIED:20251222T060152Z
UID:36166-1765659600-1765670400@charitonbeacon.com
SUMMARY:Christmas Trivia and DJ
DESCRIPTION:Get ready to rock around the Christmas tree and put your festive trivia to the test!
URL:https://charitonbeacon.com/activity/christmas-trivia-and-dj-9/
LOCATION:105 N Madison St\, Brunswick\, MO 65236-1244\, United States\, 105 North Madison Street\, Brunswick\, Missouri\, 65236\, United States
CATEGORIES:Area Events
END:VEVENT
BEGIN:VEVENT
DTSTART;TZID=America/Chicago:20251213T210000
DTEND;TZID=America/Chicago:20251214T000000
DTSTAMP:20260422T024947
CREATED:20251221T060151Z
LAST-MODIFIED:20251221T060151Z
UID:36137-1765659600-1765670400@charitonbeacon.com
SUMMARY:Christmas Trivia and DJ
DESCRIPTION:Get ready to rock around the Christmas tree and put your festive trivia to the test!
URL:https://charitonbeacon.com/activity/christmas-trivia-and-dj-8/
LOCATION:105 N Madison St\, Brunswick\, MO 65236-1244\, United States\, 105 North Madison Street\, Brunswick\, Missouri\, 65236\, United States
CATEGORIES:Area Events
END:VEVENT
BEGIN:VEVENT
DTSTART;TZID=America/Chicago:20251213T210000
DTEND;TZID=America/Chicago:20251214T000000
DTSTAMP:20260422T024947
CREATED:20251220T060140Z
LAST-MODIFIED:20251220T060140Z
UID:36109-1765659600-1765670400@charitonbeacon.com
SUMMARY:Christmas Trivia and DJ
DESCRIPTION:Get ready to rock around the Christmas tree and put your festive trivia to the test!
URL:https://charitonbeacon.com/activity/christmas-trivia-and-dj-7/
LOCATION:105 N Madison St\, Brunswick\, MO 65236-1244\, United States\, 105 North Madison Street\, Brunswick\, Missouri\, 65236\, United States
CATEGORIES:Area Events
END:VEVENT
BEGIN:VEVENT
DTSTART;TZID=America/Chicago:20251213T210000
DTEND;TZID=America/Chicago:20251214T000000
DTSTAMP:20260422T024947
CREATED:20251219T060203Z
LAST-MODIFIED:20251219T060203Z
UID:36079-1765659600-1765670400@charitonbeacon.com
SUMMARY:Christmas Trivia and DJ
DESCRIPTION:Get ready to rock around the Christmas tree and put your festive trivia to the test!
URL:https://charitonbeacon.com/activity/christmas-trivia-and-dj-6/
LOCATION:105 N Madison St\, Brunswick\, MO 65236-1244\, United States\, 105 North Madison Street\, Brunswick\, Missouri\, 65236\, United States
CATEGORIES:Area Events
END:VEVENT
BEGIN:VEVENT
DTSTART;TZID=America/Chicago:20251213T210000
DTEND;TZID=America/Chicago:20251214T000000
DTSTAMP:20260422T024947
CREATED:20251218T060139Z
LAST-MODIFIED:20251218T060139Z
UID:36054-1765659600-1765670400@charitonbeacon.com
SUMMARY:Christmas Trivia and DJ
DESCRIPTION:Get ready to rock around the Christmas tree and put your festive trivia to the test!
URL:https://charitonbeacon.com/activity/christmas-trivia-and-dj-5/
LOCATION:105 N Madison St\, Brunswick\, MO 65236-1244\, United States\, 105 North Madison Street\, Brunswick\, Missouri\, 65236\, United States
CATEGORIES:Area Events
END:VEVENT
BEGIN:VEVENT
DTSTART;TZID=America/Chicago:20251213T210000
DTEND;TZID=America/Chicago:20251214T000000
DTSTAMP:20260422T024947
CREATED:20251216T060144Z
LAST-MODIFIED:20251216T060144Z
UID:35994-1765659600-1765670400@charitonbeacon.com
SUMMARY:Christmas Trivia and DJ
DESCRIPTION:Get ready to rock around the Christmas tree and put your festive trivia to the test!
URL:https://charitonbeacon.com/activity/christmas-trivia-and-dj-4/
LOCATION:105 N Madison St\, Brunswick\, MO 65236-1244\, United States\, 105 North Madison Street\, Brunswick\, Missouri\, 65236\, United States
CATEGORIES:Area Events
END:VEVENT
BEGIN:VEVENT
DTSTART;TZID=America/Chicago:20251213T210000
DTEND;TZID=America/Chicago:20251214T000000
DTSTAMP:20260422T024947
CREATED:20251215T060146Z
LAST-MODIFIED:20251215T060146Z
UID:35966-1765659600-1765670400@charitonbeacon.com
SUMMARY:Christmas Trivia and DJ
DESCRIPTION:Get ready to rock around the Christmas tree and put your festive trivia to the test!
URL:https://charitonbeacon.com/activity/christmas-trivia-and-dj-3/
LOCATION:105 N Madison St\, Brunswick\, MO 65236-1244\, United States\, 105 North Madison Street\, Brunswick\, Missouri\, 65236\, United States
CATEGORIES:Area Events
END:VEVENT
BEGIN:VEVENT
DTSTART;TZID=America/Chicago:20251213T210000
DTEND;TZID=America/Chicago:20251214T000000
DTSTAMP:20260422T024947
CREATED:20251214T060145Z
LAST-MODIFIED:20251214T060145Z
UID:35939-1765659600-1765670400@charitonbeacon.com
SUMMARY:Christmas Trivia and DJ
DESCRIPTION:Get ready to rock around the Christmas tree and put your festive trivia to the test!
URL:https://charitonbeacon.com/activity/christmas-trivia-and-dj-2/
LOCATION:105 N Madison St\, Brunswick\, MO 65236-1244\, United States\, 105 North Madison Street\, Brunswick\, Missouri\, 65236\, United States
CATEGORIES:Area Events
END:VEVENT
BEGIN:VEVENT
DTSTART;TZID=America/Chicago:20251213T210000
DTEND;TZID=America/Chicago:20251214T000000
DTSTAMP:20260422T024947
CREATED:20251126T060151Z
LAST-MODIFIED:20251213T060150Z
UID:34543-1765659600-1765670400@charitonbeacon.com
SUMMARY:Christmas Trivia and DJ
DESCRIPTION:Get ready to rock around the Christmas tree and put your festive trivia to the test!
URL:https://charitonbeacon.com/activity/christmas-trivia-and-dj/
LOCATION:105 N Madison St\, Brunswick\, MO 65236-1244\, United States\, 105 North Madison Street\, Brunswick\, Missouri\, 65236\, United States
CATEGORIES:Area Events
END:VEVENT
BEGIN:VEVENT
DTSTART;TZID=America/Chicago:20251213T190000
DTEND;TZID=America/Chicago:20251213T210000
DTSTAMP:20260422T024947
CREATED:20251231T060146Z
LAST-MODIFIED:20251231T060146Z
UID:36515-1765652400-1765659600@charitonbeacon.com
SUMMARY:Boujee Wine Night
DESCRIPTION:Boujee Holiday Wine Night – where elegance meets festive cheer!\nDate: Dec 13th\, 2025\nTime: 7-9pm\nJ&J on Main\nDress Code: Holiday Glam – think velvet\, sparkle\, and a touch of extra class!  \nJoin us for a luxurious evening of fine wine\, festive bites and elevated holiday vibes.  We’ll be sipping curated reds\, whites\, and bubbles\, paired with a decadent spread of charcuterie and seasonal treats. We will be tasting 6 different wines paired with a charcuterie board for $30.   \nCome ready to clink glasses\, feel fabulous and celebrate the season in true high-style.   \nRsvp by Saturday December 6th to reserve your table & charcuterie boards
URL:https://charitonbeacon.com/activity/boujee-wine-night-18/
LOCATION:116 S Kansas Ave\, Marceline\, MO 64658-1216\, United States\, 116 South Kansas Avenue\, Marceline\, Missouri\, 64658\, United States
CATEGORIES:Area Events
END:VEVENT
BEGIN:VEVENT
DTSTART;TZID=America/Chicago:20251213T190000
DTEND;TZID=America/Chicago:20251213T210000
DTSTAMP:20260422T024947
CREATED:20251230T060136Z
LAST-MODIFIED:20251230T060136Z
UID:36410-1765652400-1765659600@charitonbeacon.com
SUMMARY:Boujee Wine Night
DESCRIPTION:Boujee Holiday Wine Night – where elegance meets festive cheer!\nDate: Dec 13th\, 2025\nTime: 7-9pm\nJ&J on Main\nDress Code: Holiday Glam – think velvet\, sparkle\, and a touch of extra class!  \nJoin us for a luxurious evening of fine wine\, festive bites and elevated holiday vibes.  We’ll be sipping curated reds\, whites\, and bubbles\, paired with a decadent spread of charcuterie and seasonal treats. We will be tasting 6 different wines paired with a charcuterie board for $30.   \nCome ready to clink glasses\, feel fabulous and celebrate the season in true high-style.   \nRsvp by Saturday December 6th to reserve your table & charcuterie boards
URL:https://charitonbeacon.com/activity/boujee-wine-night-17/
LOCATION:116 S Kansas Ave\, Marceline\, MO 64658-1216\, United States\, 116 South Kansas Avenue\, Marceline\, Missouri\, 64658\, United States
CATEGORIES:Area Events
END:VEVENT
BEGIN:VEVENT
DTSTART;TZID=America/Chicago:20251213T190000
DTEND;TZID=America/Chicago:20251213T210000
DTSTAMP:20260422T024947
CREATED:20251229T060138Z
LAST-MODIFIED:20251229T060138Z
UID:36384-1765652400-1765659600@charitonbeacon.com
SUMMARY:Boujee Wine Night
DESCRIPTION:Boujee Holiday Wine Night – where elegance meets festive cheer!\nDate: Dec 13th\, 2025\nTime: 7-9pm\nJ&J on Main\nDress Code: Holiday Glam – think velvet\, sparkle\, and a touch of extra class!  \nJoin us for a luxurious evening of fine wine\, festive bites and elevated holiday vibes.  We’ll be sipping curated reds\, whites\, and bubbles\, paired with a decadent spread of charcuterie and seasonal treats. We will be tasting 6 different wines paired with a charcuterie board for $30.   \nCome ready to clink glasses\, feel fabulous and celebrate the season in true high-style.   \nRsvp by Saturday December 6th to reserve your table & charcuterie boards
URL:https://charitonbeacon.com/activity/boujee-wine-night-16/
LOCATION:116 S Kansas Ave\, Marceline\, MO 64658-1216\, United States\, 116 South Kansas Avenue\, Marceline\, Missouri\, 64658\, United States
CATEGORIES:Area Events
END:VEVENT
BEGIN:VEVENT
DTSTART;TZID=America/Chicago:20251213T190000
DTEND;TZID=America/Chicago:20251213T210000
DTSTAMP:20260422T024947
CREATED:20251227T060140Z
LAST-MODIFIED:20251227T060140Z
UID:36332-1765652400-1765659600@charitonbeacon.com
SUMMARY:Boujee Wine Night
DESCRIPTION:Boujee Holiday Wine Night – where elegance meets festive cheer!\nDate: Dec 13th\, 2025\nTime: 7-9pm\nJ&J on Main\nDress Code: Holiday Glam – think velvet\, sparkle\, and a touch of extra class!  \nJoin us for a luxurious evening of fine wine\, festive bites and elevated holiday vibes.  We’ll be sipping curated reds\, whites\, and bubbles\, paired with a decadent spread of charcuterie and seasonal treats. We will be tasting 6 different wines paired with a charcuterie board for $30.   \nCome ready to clink glasses\, feel fabulous and celebrate the season in true high-style.   \nRsvp by Saturday December 6th to reserve your table & charcuterie boards
URL:https://charitonbeacon.com/activity/boujee-wine-night-15/
LOCATION:116 S Kansas Ave\, Marceline\, MO 64658-1216\, United States\, 116 South Kansas Avenue\, Marceline\, Missouri\, 64658\, United States
CATEGORIES:Area Events
END:VEVENT
BEGIN:VEVENT
DTSTART;TZID=America/Chicago:20251213T190000
DTEND;TZID=America/Chicago:20251213T210000
DTSTAMP:20260422T024947
CREATED:20251226T060147Z
LAST-MODIFIED:20251226T060147Z
UID:36307-1765652400-1765659600@charitonbeacon.com
SUMMARY:Boujee Wine Night
DESCRIPTION:Boujee Holiday Wine Night – where elegance meets festive cheer!\nDate: Dec 13th\, 2025\nTime: 7-9pm\nJ&J on Main\nDress Code: Holiday Glam – think velvet\, sparkle\, and a touch of extra class!  \nJoin us for a luxurious evening of fine wine\, festive bites and elevated holiday vibes.  We’ll be sipping curated reds\, whites\, and bubbles\, paired with a decadent spread of charcuterie and seasonal treats. We will be tasting 6 different wines paired with a charcuterie board for $30.   \nCome ready to clink glasses\, feel fabulous and celebrate the season in true high-style.   \nRsvp by Saturday December 6th to reserve your table & charcuterie boards
URL:https://charitonbeacon.com/activity/boujee-wine-night-14/
LOCATION:116 S Kansas Ave\, Marceline\, MO 64658-1216\, United States\, 116 South Kansas Avenue\, Marceline\, Missouri\, 64658\, United States
CATEGORIES:Area Events
END:VEVENT
BEGIN:VEVENT
DTSTART;TZID=America/Chicago:20251213T190000
DTEND;TZID=America/Chicago:20251213T210000
DTSTAMP:20260422T024947
CREATED:20251225T060153Z
LAST-MODIFIED:20251225T060153Z
UID:36280-1765652400-1765659600@charitonbeacon.com
SUMMARY:Boujee Wine Night
DESCRIPTION:Boujee Holiday Wine Night – where elegance meets festive cheer!\nDate: Dec 13th\, 2025\nTime: 7-9pm\nJ&J on Main\nDress Code: Holiday Glam – think velvet\, sparkle\, and a touch of extra class!  \nJoin us for a luxurious evening of fine wine\, festive bites and elevated holiday vibes.  We’ll be sipping curated reds\, whites\, and bubbles\, paired with a decadent spread of charcuterie and seasonal treats. We will be tasting 6 different wines paired with a charcuterie board for $30.   \nCome ready to clink glasses\, feel fabulous and celebrate the season in true high-style.   \nRsvp by Saturday December 6th to reserve your table & charcuterie boards
URL:https://charitonbeacon.com/activity/boujee-wine-night-13/
LOCATION:116 S Kansas Ave\, Marceline\, MO 64658-1216\, United States\, 116 South Kansas Avenue\, Marceline\, Missouri\, 64658\, United States
CATEGORIES:Area Events
END:VEVENT
BEGIN:VEVENT
DTSTART;TZID=America/Chicago:20251213T190000
DTEND;TZID=America/Chicago:20251213T210000
DTSTAMP:20260422T024947
CREATED:20251224T060148Z
LAST-MODIFIED:20251224T060148Z
UID:36242-1765652400-1765659600@charitonbeacon.com
SUMMARY:Boujee Wine Night
DESCRIPTION:Boujee Holiday Wine Night – where elegance meets festive cheer!\nDate: Dec 13th\, 2025\nTime: 7-9pm\nJ&J on Main\nDress Code: Holiday Glam – think velvet\, sparkle\, and a touch of extra class!  \nJoin us for a luxurious evening of fine wine\, festive bites and elevated holiday vibes.  We’ll be sipping curated reds\, whites\, and bubbles\, paired with a decadent spread of charcuterie and seasonal treats. We will be tasting 6 different wines paired with a charcuterie board for $30.   \nCome ready to clink glasses\, feel fabulous and celebrate the season in true high-style.   \nRsvp by Saturday December 6th to reserve your table & charcuterie boards
URL:https://charitonbeacon.com/activity/boujee-wine-night-12/
LOCATION:116 S Kansas Ave\, Marceline\, MO 64658-1216\, United States\, 116 South Kansas Avenue\, Marceline\, Missouri\, 64658\, United States
CATEGORIES:Area Events
END:VEVENT
BEGIN:VEVENT
DTSTART;TZID=America/Chicago:20251213T190000
DTEND;TZID=America/Chicago:20251213T210000
DTSTAMP:20260422T024947
CREATED:20251223T060148Z
LAST-MODIFIED:20251223T060148Z
UID:36204-1765652400-1765659600@charitonbeacon.com
SUMMARY:Boujee Wine Night
DESCRIPTION:Boujee Holiday Wine Night – where elegance meets festive cheer!\nDate: Dec 13th\, 2025\nTime: 7-9pm\nJ&J on Main\nDress Code: Holiday Glam – think velvet\, sparkle\, and a touch of extra class!  \nJoin us for a luxurious evening of fine wine\, festive bites and elevated holiday vibes.  We’ll be sipping curated reds\, whites\, and bubbles\, paired with a decadent spread of charcuterie and seasonal treats. We will be tasting 6 different wines paired with a charcuterie board for $30.   \nCome ready to clink glasses\, feel fabulous and celebrate the season in true high-style.   \nRsvp by Saturday December 6th to reserve your table & charcuterie boards
URL:https://charitonbeacon.com/activity/boujee-wine-night-11/
LOCATION:116 S Kansas Ave\, Marceline\, MO 64658-1216\, United States\, 116 South Kansas Avenue\, Marceline\, Missouri\, 64658\, United States
CATEGORIES:Area Events
END:VEVENT
BEGIN:VEVENT
DTSTART;TZID=America/Chicago:20251213T190000
DTEND;TZID=America/Chicago:20251213T210000
DTSTAMP:20260422T024947
CREATED:20251222T060155Z
LAST-MODIFIED:20251222T060155Z
UID:36175-1765652400-1765659600@charitonbeacon.com
SUMMARY:Boujee Wine Night
DESCRIPTION:Boujee Holiday Wine Night – where elegance meets festive cheer!\nDate: Dec 13th\, 2025\nTime: 7-9pm\nJ&J on Main\nDress Code: Holiday Glam – think velvet\, sparkle\, and a touch of extra class!  \nJoin us for a luxurious evening of fine wine\, festive bites and elevated holiday vibes.  We’ll be sipping curated reds\, whites\, and bubbles\, paired with a decadent spread of charcuterie and seasonal treats. We will be tasting 6 different wines paired with a charcuterie board for $30.   \nCome ready to clink glasses\, feel fabulous and celebrate the season in true high-style.   \nRsvp by Saturday December 6th to reserve your table & charcuterie boards
URL:https://charitonbeacon.com/activity/boujee-wine-night-10/
LOCATION:116 S Kansas Ave\, Marceline\, MO 64658-1216\, United States\, 116 South Kansas Avenue\, Marceline\, Missouri\, 64658\, United States
CATEGORIES:Area Events
END:VEVENT
END:VCALENDAR