BEGIN:VCALENDAR
VERSION:2.0
PRODID:-//The Chariton Beacon - ECPv6.15.20//NONSGML v1.0//EN
CALSCALE:GREGORIAN
METHOD:PUBLISH
X-ORIGINAL-URL:https://charitonbeacon.com
X-WR-CALDESC:Events for The Chariton Beacon
REFRESH-INTERVAL;VALUE=DURATION:PT1H
X-Robots-Tag:noindex
X-PUBLISHED-TTL:PT1H
BEGIN:VTIMEZONE
TZID:America/Chicago
BEGIN:DAYLIGHT
TZOFFSETFROM:-0600
TZOFFSETTO:-0500
TZNAME:CDT
DTSTART:20240310T080000
END:DAYLIGHT
BEGIN:STANDARD
TZOFFSETFROM:-0500
TZOFFSETTO:-0600
TZNAME:CST
DTSTART:20241103T070000
END:STANDARD
BEGIN:DAYLIGHT
TZOFFSETFROM:-0600
TZOFFSETTO:-0500
TZNAME:CDT
DTSTART:20250309T080000
END:DAYLIGHT
BEGIN:STANDARD
TZOFFSETFROM:-0500
TZOFFSETTO:-0600
TZNAME:CST
DTSTART:20251102T070000
END:STANDARD
BEGIN:DAYLIGHT
TZOFFSETFROM:-0600
TZOFFSETTO:-0500
TZNAME:CDT
DTSTART:20260308T080000
END:DAYLIGHT
BEGIN:STANDARD
TZOFFSETFROM:-0500
TZOFFSETTO:-0600
TZNAME:CST
DTSTART:20261101T070000
END:STANDARD
END:VTIMEZONE
BEGIN:VEVENT
DTSTART;TZID=America/Chicago:20251213T160000
DTEND;TZID=America/Chicago:20251213T190000
DTSTAMP:20260422T054835
CREATED:20251230T060137Z
LAST-MODIFIED:20251230T060137Z
UID:36414-1765641600-1765652400@charitonbeacon.com
SUMMARY:Christmas in the Park
DESCRIPTION:MARK YOUR CALENDARSWith amazing sponsorship from our community businesses we will light up our newly renovated Hunter Park! Come out and enjoy a beautiful evening with friends and family. Let’s brighten up Hobart
URL:https://charitonbeacon.com/activity/christmas-in-the-park-17/
LOCATION:Hobart\, OK 73651\, Hobart\, Oklahoma\, 73651\, United States
CATEGORIES:Area Events
END:VEVENT
BEGIN:VEVENT
DTSTART;TZID=America/Chicago:20251213T160000
DTEND;TZID=America/Chicago:20251213T190000
DTSTAMP:20260422T054835
CREATED:20251229T060139Z
LAST-MODIFIED:20251229T060139Z
UID:36387-1765641600-1765652400@charitonbeacon.com
SUMMARY:Christmas in the Park
DESCRIPTION:MARK YOUR CALENDARSWith amazing sponsorship from our community businesses we will light up our newly renovated Hunter Park! Come out and enjoy a beautiful evening with friends and family. Let’s brighten up Hobart
URL:https://charitonbeacon.com/activity/christmas-in-the-park-16/
LOCATION:Hobart\, OK 73651\, Hobart\, Oklahoma\, 73651\, United States
CATEGORIES:Area Events
END:VEVENT
BEGIN:VEVENT
DTSTART;TZID=America/Chicago:20251213T160000
DTEND;TZID=America/Chicago:20251213T190000
DTSTAMP:20260422T054835
CREATED:20251227T060141Z
LAST-MODIFIED:20251227T060141Z
UID:36335-1765641600-1765652400@charitonbeacon.com
SUMMARY:Christmas in the Park
DESCRIPTION:MARK YOUR CALENDARSWith amazing sponsorship from our community businesses we will light up our newly renovated Hunter Park! Come out and enjoy a beautiful evening with friends and family. Let’s brighten up Hobart
URL:https://charitonbeacon.com/activity/christmas-in-the-park-15/
LOCATION:Hobart\, OK 73651\, Hobart\, Oklahoma\, 73651\, United States
CATEGORIES:Area Events
END:VEVENT
BEGIN:VEVENT
DTSTART;TZID=America/Chicago:20251213T160000
DTEND;TZID=America/Chicago:20251213T190000
DTSTAMP:20260422T054835
CREATED:20251226T060148Z
LAST-MODIFIED:20251226T060148Z
UID:36311-1765641600-1765652400@charitonbeacon.com
SUMMARY:Christmas in the Park
DESCRIPTION:MARK YOUR CALENDARSWith amazing sponsorship from our community businesses we will light up our newly renovated Hunter Park! Come out and enjoy a beautiful evening with friends and family. Let’s brighten up Hobart
URL:https://charitonbeacon.com/activity/christmas-in-the-park-14/
LOCATION:Hobart\, OK 73651\, Hobart\, Oklahoma\, 73651\, United States
CATEGORIES:Area Events
END:VEVENT
BEGIN:VEVENT
DTSTART;TZID=America/Chicago:20251213T160000
DTEND;TZID=America/Chicago:20251213T190000
DTSTAMP:20260422T054835
CREATED:20251225T060154Z
LAST-MODIFIED:20251225T060154Z
UID:36284-1765641600-1765652400@charitonbeacon.com
SUMMARY:Christmas in the Park
DESCRIPTION:MARK YOUR CALENDARSWith amazing sponsorship from our community businesses we will light up our newly renovated Hunter Park! Come out and enjoy a beautiful evening with friends and family. Let’s brighten up Hobart
URL:https://charitonbeacon.com/activity/christmas-in-the-park-13/
LOCATION:Hobart\, OK 73651\, Hobart\, Oklahoma\, 73651\, United States
CATEGORIES:Area Events
END:VEVENT
BEGIN:VEVENT
DTSTART;TZID=America/Chicago:20251213T160000
DTEND;TZID=America/Chicago:20251213T190000
DTSTAMP:20260422T054835
CREATED:20251224T060152Z
LAST-MODIFIED:20251224T060152Z
UID:36246-1765641600-1765652400@charitonbeacon.com
SUMMARY:Christmas in the Park
DESCRIPTION:MARK YOUR CALENDARSWith amazing sponsorship from our community businesses we will light up our newly renovated Hunter Park! Come out and enjoy a beautiful evening with friends and family. Let’s brighten up Hobart
URL:https://charitonbeacon.com/activity/christmas-in-the-park-12/
LOCATION:Hobart\, OK 73651\, Hobart\, Oklahoma\, 73651\, United States
CATEGORIES:Area Events
END:VEVENT
BEGIN:VEVENT
DTSTART;TZID=America/Chicago:20251213T160000
DTEND;TZID=America/Chicago:20251213T190000
DTSTAMP:20260422T054835
CREATED:20251223T060149Z
LAST-MODIFIED:20251223T060149Z
UID:36208-1765641600-1765652400@charitonbeacon.com
SUMMARY:Christmas in the Park
DESCRIPTION:MARK YOUR CALENDARSWith amazing sponsorship from our community businesses we will light up our newly renovated Hunter Park! Come out and enjoy a beautiful evening with friends and family. Let’s brighten up Hobart
URL:https://charitonbeacon.com/activity/christmas-in-the-park-11/
LOCATION:Hobart\, OK 73651\, Hobart\, Oklahoma\, 73651\, United States
CATEGORIES:Area Events
END:VEVENT
BEGIN:VEVENT
DTSTART;TZID=America/Chicago:20251213T160000
DTEND;TZID=America/Chicago:20251213T190000
DTSTAMP:20260422T054835
CREATED:20251222T060157Z
LAST-MODIFIED:20251222T060157Z
UID:36179-1765641600-1765652400@charitonbeacon.com
SUMMARY:Christmas in the Park
DESCRIPTION:MARK YOUR CALENDARSWith amazing sponsorship from our community businesses we will light up our newly renovated Hunter Park! Come out and enjoy a beautiful evening with friends and family. Let’s brighten up Hobart
URL:https://charitonbeacon.com/activity/christmas-in-the-park-10/
LOCATION:Hobart\, OK 73651\, Hobart\, Oklahoma\, 73651\, United States
CATEGORIES:Area Events
END:VEVENT
BEGIN:VEVENT
DTSTART;TZID=America/Chicago:20251213T160000
DTEND;TZID=America/Chicago:20251213T190000
DTSTAMP:20260422T054835
CREATED:20251221T060157Z
LAST-MODIFIED:20251221T060157Z
UID:36150-1765641600-1765652400@charitonbeacon.com
SUMMARY:Christmas in the Park
DESCRIPTION:MARK YOUR CALENDARSWith amazing sponsorship from our community businesses we will light up our newly renovated Hunter Park! Come out and enjoy a beautiful evening with friends and family. Let’s brighten up Hobart
URL:https://charitonbeacon.com/activity/christmas-in-the-park-9/
LOCATION:Hobart\, OK 73651\, Hobart\, Oklahoma\, 73651\, United States
CATEGORIES:Area Events
END:VEVENT
BEGIN:VEVENT
DTSTART;TZID=America/Chicago:20251213T160000
DTEND;TZID=America/Chicago:20251213T190000
DTSTAMP:20260422T054835
CREATED:20251220T060147Z
LAST-MODIFIED:20251220T060147Z
UID:36121-1765641600-1765652400@charitonbeacon.com
SUMMARY:Christmas in the Park
DESCRIPTION:MARK YOUR CALENDARSWith amazing sponsorship from our community businesses we will light up our newly renovated Hunter Park! Come out and enjoy a beautiful evening with friends and family. Let’s brighten up Hobart
URL:https://charitonbeacon.com/activity/christmas-in-the-park-8/
LOCATION:Hobart\, OK 73651\, Hobart\, Oklahoma\, 73651\, United States
CATEGORIES:Area Events
END:VEVENT
BEGIN:VEVENT
DTSTART;TZID=America/Chicago:20251213T160000
DTEND;TZID=America/Chicago:20251213T190000
DTSTAMP:20260422T054835
CREATED:20251219T060209Z
LAST-MODIFIED:20251219T060209Z
UID:36091-1765641600-1765652400@charitonbeacon.com
SUMMARY:Christmas in the Park
DESCRIPTION:MARK YOUR CALENDARSWith amazing sponsorship from our community businesses we will light up our newly renovated Hunter Park! Come out and enjoy a beautiful evening with friends and family. Let’s brighten up Hobart
URL:https://charitonbeacon.com/activity/christmas-in-the-park-7/
LOCATION:Hobart\, OK 73651\, Hobart\, Oklahoma\, 73651\, United States
CATEGORIES:Area Events
END:VEVENT
BEGIN:VEVENT
DTSTART;TZID=America/Chicago:20251213T160000
DTEND;TZID=America/Chicago:20251213T190000
DTSTAMP:20260422T054835
CREATED:20251218T060144Z
LAST-MODIFIED:20251218T060144Z
UID:36065-1765641600-1765652400@charitonbeacon.com
SUMMARY:Christmas in the Park
DESCRIPTION:MARK YOUR CALENDARSWith amazing sponsorship from our community businesses we will light up our newly renovated Hunter Park! Come out and enjoy a beautiful evening with friends and family. Let’s brighten up Hobart
URL:https://charitonbeacon.com/activity/christmas-in-the-park-6/
LOCATION:Hobart\, OK 73651\, Hobart\, Oklahoma\, 73651\, United States
CATEGORIES:Area Events
END:VEVENT
BEGIN:VEVENT
DTSTART;TZID=America/Chicago:20251213T160000
DTEND;TZID=America/Chicago:20251213T190000
DTSTAMP:20260422T054835
CREATED:20251217T060147Z
LAST-MODIFIED:20251217T060147Z
UID:36029-1765641600-1765652400@charitonbeacon.com
SUMMARY:Christmas in the Park
DESCRIPTION:MARK YOUR CALENDARSWith amazing sponsorship from our community businesses we will light up our newly renovated Hunter Park! Come out and enjoy a beautiful evening with friends and family. Let’s brighten up Hobart
URL:https://charitonbeacon.com/activity/christmas-in-the-park-5/
LOCATION:Hobart\, OK 73651\, Hobart\, Oklahoma\, 73651\, United States
CATEGORIES:Area Events
END:VEVENT
BEGIN:VEVENT
DTSTART;TZID=America/Chicago:20251213T160000
DTEND;TZID=America/Chicago:20251213T190000
DTSTAMP:20260422T054835
CREATED:20251216T060149Z
LAST-MODIFIED:20251216T060149Z
UID:36006-1765641600-1765652400@charitonbeacon.com
SUMMARY:Christmas in the Park
DESCRIPTION:MARK YOUR CALENDARSWith amazing sponsorship from our community businesses we will light up our newly renovated Hunter Park! Come out and enjoy a beautiful evening with friends and family. Let’s brighten up Hobart
URL:https://charitonbeacon.com/activity/christmas-in-the-park-4/
LOCATION:Hobart\, OK 73651\, Hobart\, Oklahoma\, 73651\, United States
CATEGORIES:Area Events
END:VEVENT
BEGIN:VEVENT
DTSTART;TZID=America/Chicago:20251213T160000
DTEND;TZID=America/Chicago:20251213T190000
DTSTAMP:20260422T054835
CREATED:20251215T060150Z
LAST-MODIFIED:20251215T060150Z
UID:35977-1765641600-1765652400@charitonbeacon.com
SUMMARY:Christmas in the Park
DESCRIPTION:MARK YOUR CALENDARSWith amazing sponsorship from our community businesses we will light up our newly renovated Hunter Park! Come out and enjoy a beautiful evening with friends and family. Let’s brighten up Hobart
URL:https://charitonbeacon.com/activity/christmas-in-the-park-3/
LOCATION:Hobart\, OK 73651\, Hobart\, Oklahoma\, 73651\, United States
CATEGORIES:Area Events
END:VEVENT
BEGIN:VEVENT
DTSTART;TZID=America/Chicago:20251213T160000
DTEND;TZID=America/Chicago:20251213T190000
DTSTAMP:20260422T054835
CREATED:20251214T060150Z
LAST-MODIFIED:20251214T060150Z
UID:35950-1765641600-1765652400@charitonbeacon.com
SUMMARY:Christmas in the Park
DESCRIPTION:MARK YOUR CALENDARSWith amazing sponsorship from our community businesses we will light up our newly renovated Hunter Park! Come out and enjoy a beautiful evening with friends and family. Let’s brighten up Hobart
URL:https://charitonbeacon.com/activity/christmas-in-the-park-2/
LOCATION:Hobart\, OK 73651\, Hobart\, Oklahoma\, 73651\, United States
CATEGORIES:Area Events
END:VEVENT
BEGIN:VEVENT
DTSTART;TZID=America/Chicago:20251213T160000
DTEND;TZID=America/Chicago:20251213T190000
DTSTAMP:20260422T054835
CREATED:20251126T060157Z
LAST-MODIFIED:20251213T060155Z
UID:34563-1765641600-1765652400@charitonbeacon.com
SUMMARY:Christmas in the Park
DESCRIPTION:MARK YOUR CALENDARSWith amazing sponsorship from our community businesses we will light up our newly renovated Hunter Park! Come out and enjoy a beautiful evening with friends and family. Let’s brighten up Hobart
URL:https://charitonbeacon.com/activity/christmas-in-the-park/
LOCATION:Hobart\, OK 73651\, Hobart\, Oklahoma\, 73651\, United States
CATEGORIES:Area Events
END:VEVENT
BEGIN:VEVENT
DTSTART;TZID=America/Chicago:20251212T200000
DTEND;TZID=America/Chicago:20251213T000000
DTSTAMP:20260422T054835
CREATED:20251231T060146Z
LAST-MODIFIED:20251231T060146Z
UID:36516-1765569600-1765584000@charitonbeacon.com
SUMMARY:Ugly Christmas Sweater Party with DJ Todd Fellows
DESCRIPTION:Ugly Christmas Sweater Party with DJ Todd Fellows!
URL:https://charitonbeacon.com/activity/ugly-christmas-sweater-party-with-dj-todd-fellows-20/
LOCATION:126 E Howell Ave\, Marceline\, MO 64658-1208\, United States\, 126 East Howell Avenue\, Marceline\, Missouri\, 64658\, United States
CATEGORIES:Area Events
END:VEVENT
BEGIN:VEVENT
DTSTART;TZID=America/Chicago:20251212T200000
DTEND;TZID=America/Chicago:20251213T000000
DTSTAMP:20260422T054835
CREATED:20251230T060136Z
LAST-MODIFIED:20251230T060136Z
UID:36411-1765569600-1765584000@charitonbeacon.com
SUMMARY:Ugly Christmas Sweater Party with DJ Todd Fellows
DESCRIPTION:Ugly Christmas Sweater Party with DJ Todd Fellows!
URL:https://charitonbeacon.com/activity/ugly-christmas-sweater-party-with-dj-todd-fellows-19/
LOCATION:126 E Howell Ave\, Marceline\, MO 64658-1208\, United States\, 126 East Howell Avenue\, Marceline\, Missouri\, 64658\, United States
CATEGORIES:Area Events
END:VEVENT
BEGIN:VEVENT
DTSTART;TZID=America/Chicago:20251212T200000
DTEND;TZID=America/Chicago:20251213T000000
DTSTAMP:20260422T054835
CREATED:20251229T060138Z
LAST-MODIFIED:20251229T060138Z
UID:36385-1765569600-1765584000@charitonbeacon.com
SUMMARY:Ugly Christmas Sweater Party with DJ Todd Fellows
DESCRIPTION:Ugly Christmas Sweater Party with DJ Todd Fellows!
URL:https://charitonbeacon.com/activity/ugly-christmas-sweater-party-with-dj-todd-fellows-18/
LOCATION:126 E Howell Ave\, Marceline\, MO 64658-1208\, United States\, 126 East Howell Avenue\, Marceline\, Missouri\, 64658\, United States
CATEGORIES:Area Events
END:VEVENT
BEGIN:VEVENT
DTSTART;TZID=America/Chicago:20251212T200000
DTEND;TZID=America/Chicago:20251213T000000
DTSTAMP:20260422T054835
CREATED:20251228T060136Z
LAST-MODIFIED:20251228T060136Z
UID:36357-1765569600-1765584000@charitonbeacon.com
SUMMARY:Ugly Christmas Sweater Party with DJ Todd Fellows
DESCRIPTION:Ugly Christmas Sweater Party with DJ Todd Fellows!
URL:https://charitonbeacon.com/activity/ugly-christmas-sweater-party-with-dj-todd-fellows-17/
LOCATION:126 E Howell Ave\, Marceline\, MO 64658-1208\, United States\, 126 East Howell Avenue\, Marceline\, Missouri\, 64658\, United States
CATEGORIES:Area Events
END:VEVENT
BEGIN:VEVENT
DTSTART;TZID=America/Chicago:20251212T200000
DTEND;TZID=America/Chicago:20251213T000000
DTSTAMP:20260422T054835
CREATED:20251227T060141Z
LAST-MODIFIED:20251227T060141Z
UID:36333-1765569600-1765584000@charitonbeacon.com
SUMMARY:Ugly Christmas Sweater Party with DJ Todd Fellows
DESCRIPTION:Ugly Christmas Sweater Party with DJ Todd Fellows!
URL:https://charitonbeacon.com/activity/ugly-christmas-sweater-party-with-dj-todd-fellows-16/
LOCATION:126 E Howell Ave\, Marceline\, MO 64658-1208\, United States\, 126 East Howell Avenue\, Marceline\, Missouri\, 64658\, United States
CATEGORIES:Area Events
END:VEVENT
BEGIN:VEVENT
DTSTART;TZID=America/Chicago:20251212T200000
DTEND;TZID=America/Chicago:20251213T000000
DTSTAMP:20260422T054835
CREATED:20251226T060147Z
LAST-MODIFIED:20251226T060147Z
UID:36308-1765569600-1765584000@charitonbeacon.com
SUMMARY:Ugly Christmas Sweater Party with DJ Todd Fellows
DESCRIPTION:Ugly Christmas Sweater Party with DJ Todd Fellows!
URL:https://charitonbeacon.com/activity/ugly-christmas-sweater-party-with-dj-todd-fellows-15/
LOCATION:126 E Howell Ave\, Marceline\, MO 64658-1208\, United States\, 126 East Howell Avenue\, Marceline\, Missouri\, 64658\, United States
CATEGORIES:Area Events
END:VEVENT
BEGIN:VEVENT
DTSTART;TZID=America/Chicago:20251212T200000
DTEND;TZID=America/Chicago:20251213T000000
DTSTAMP:20260422T054835
CREATED:20251225T060153Z
LAST-MODIFIED:20251225T060153Z
UID:36281-1765569600-1765584000@charitonbeacon.com
SUMMARY:Ugly Christmas Sweater Party with DJ Todd Fellows
DESCRIPTION:Ugly Christmas Sweater Party with DJ Todd Fellows!
URL:https://charitonbeacon.com/activity/ugly-christmas-sweater-party-with-dj-todd-fellows-14/
LOCATION:126 E Howell Ave\, Marceline\, MO 64658-1208\, United States\, 126 East Howell Avenue\, Marceline\, Missouri\, 64658\, United States
CATEGORIES:Area Events
END:VEVENT
BEGIN:VEVENT
DTSTART;TZID=America/Chicago:20251212T200000
DTEND;TZID=America/Chicago:20251213T000000
DTSTAMP:20260422T054835
CREATED:20251224T060151Z
LAST-MODIFIED:20251224T060151Z
UID:36243-1765569600-1765584000@charitonbeacon.com
SUMMARY:Ugly Christmas Sweater Party with DJ Todd Fellows
DESCRIPTION:Ugly Christmas Sweater Party with DJ Todd Fellows!
URL:https://charitonbeacon.com/activity/ugly-christmas-sweater-party-with-dj-todd-fellows-13/
LOCATION:126 E Howell Ave\, Marceline\, MO 64658-1208\, United States\, 126 East Howell Avenue\, Marceline\, Missouri\, 64658\, United States
CATEGORIES:Area Events
END:VEVENT
BEGIN:VEVENT
DTSTART;TZID=America/Chicago:20251212T200000
DTEND;TZID=America/Chicago:20251213T000000
DTSTAMP:20260422T054835
CREATED:20251223T060148Z
LAST-MODIFIED:20251223T060148Z
UID:36205-1765569600-1765584000@charitonbeacon.com
SUMMARY:Ugly Christmas Sweater Party with DJ Todd Fellows
DESCRIPTION:Ugly Christmas Sweater Party with DJ Todd Fellows!
URL:https://charitonbeacon.com/activity/ugly-christmas-sweater-party-with-dj-todd-fellows-12/
LOCATION:126 E Howell Ave\, Marceline\, MO 64658-1208\, United States\, 126 East Howell Avenue\, Marceline\, Missouri\, 64658\, United States
CATEGORIES:Area Events
END:VEVENT
BEGIN:VEVENT
DTSTART;TZID=America/Chicago:20251212T200000
DTEND;TZID=America/Chicago:20251213T000000
DTSTAMP:20260422T054835
CREATED:20251222T060156Z
LAST-MODIFIED:20251222T060156Z
UID:36176-1765569600-1765584000@charitonbeacon.com
SUMMARY:Ugly Christmas Sweater Party with DJ Todd Fellows
DESCRIPTION:Ugly Christmas Sweater Party with DJ Todd Fellows!
URL:https://charitonbeacon.com/activity/ugly-christmas-sweater-party-with-dj-todd-fellows-11/
LOCATION:126 E Howell Ave\, Marceline\, MO 64658-1208\, United States\, 126 East Howell Avenue\, Marceline\, Missouri\, 64658\, United States
CATEGORIES:Area Events
END:VEVENT
BEGIN:VEVENT
DTSTART;TZID=America/Chicago:20251212T200000
DTEND;TZID=America/Chicago:20251213T000000
DTSTAMP:20260422T054835
CREATED:20251221T060156Z
LAST-MODIFIED:20251221T060156Z
UID:36147-1765569600-1765584000@charitonbeacon.com
SUMMARY:Ugly Christmas Sweater Party with DJ Todd Fellows
DESCRIPTION:Ugly Christmas Sweater Party with DJ Todd Fellows!
URL:https://charitonbeacon.com/activity/ugly-christmas-sweater-party-with-dj-todd-fellows-10/
LOCATION:126 E Howell Ave\, Marceline\, MO 64658-1208\, United States\, 126 East Howell Avenue\, Marceline\, Missouri\, 64658\, United States
CATEGORIES:Area Events
END:VEVENT
BEGIN:VEVENT
DTSTART;TZID=America/Chicago:20251212T200000
DTEND;TZID=America/Chicago:20251213T000000
DTSTAMP:20260422T054835
CREATED:20251220T060146Z
LAST-MODIFIED:20251220T060146Z
UID:36118-1765569600-1765584000@charitonbeacon.com
SUMMARY:Ugly Christmas Sweater Party with DJ Todd Fellows
DESCRIPTION:Ugly Christmas Sweater Party with DJ Todd Fellows!
URL:https://charitonbeacon.com/activity/ugly-christmas-sweater-party-with-dj-todd-fellows-9/
LOCATION:126 E Howell Ave\, Marceline\, MO 64658-1208\, United States\, 126 East Howell Avenue\, Marceline\, Missouri\, 64658\, United States
CATEGORIES:Area Events
END:VEVENT
BEGIN:VEVENT
DTSTART;TZID=America/Chicago:20251212T200000
DTEND;TZID=America/Chicago:20251213T000000
DTSTAMP:20260422T054835
CREATED:20251219T060208Z
LAST-MODIFIED:20251219T060208Z
UID:36088-1765569600-1765584000@charitonbeacon.com
SUMMARY:Ugly Christmas Sweater Party with DJ Todd Fellows
DESCRIPTION:Ugly Christmas Sweater Party with DJ Todd Fellows!
URL:https://charitonbeacon.com/activity/ugly-christmas-sweater-party-with-dj-todd-fellows-8/
LOCATION:126 E Howell Ave\, Marceline\, MO 64658-1208\, United States\, 126 East Howell Avenue\, Marceline\, Missouri\, 64658\, United States
CATEGORIES:Area Events
END:VEVENT
END:VCALENDAR