BEGIN:VCALENDAR
VERSION:2.0
PRODID:-//The Chariton Beacon - ECPv6.15.20//NONSGML v1.0//EN
CALSCALE:GREGORIAN
METHOD:PUBLISH
X-ORIGINAL-URL:https://charitonbeacon.com
X-WR-CALDESC:Events for The Chariton Beacon
REFRESH-INTERVAL;VALUE=DURATION:PT1H
X-Robots-Tag:noindex
X-PUBLISHED-TTL:PT1H
BEGIN:VTIMEZONE
TZID:America/Chicago
BEGIN:DAYLIGHT
TZOFFSETFROM:-0600
TZOFFSETTO:-0500
TZNAME:CDT
DTSTART:20240310T080000
END:DAYLIGHT
BEGIN:STANDARD
TZOFFSETFROM:-0500
TZOFFSETTO:-0600
TZNAME:CST
DTSTART:20241103T070000
END:STANDARD
BEGIN:DAYLIGHT
TZOFFSETFROM:-0600
TZOFFSETTO:-0500
TZNAME:CDT
DTSTART:20250309T080000
END:DAYLIGHT
BEGIN:STANDARD
TZOFFSETFROM:-0500
TZOFFSETTO:-0600
TZNAME:CST
DTSTART:20251102T070000
END:STANDARD
BEGIN:DAYLIGHT
TZOFFSETFROM:-0600
TZOFFSETTO:-0500
TZNAME:CDT
DTSTART:20260308T080000
END:DAYLIGHT
BEGIN:STANDARD
TZOFFSETFROM:-0500
TZOFFSETTO:-0600
TZNAME:CST
DTSTART:20261101T070000
END:STANDARD
END:VTIMEZONE
BEGIN:VEVENT
DTSTART;TZID=America/Chicago:20251212T200000
DTEND;TZID=America/Chicago:20251212T230000
DTSTAMP:20260422T090111
CREATED:20251228T060133Z
LAST-MODIFIED:20251228T060133Z
UID:36349-1765569600-1765580400@charitonbeacon.com
SUMMARY:Shakey Ground at the Outback Saloon
DESCRIPTION:Live Band “SHAKEY GROUND” at the Outback Saloon Friday Dec 12 starting around 8 pm-midnight. As always no one under 21. No cover charge
URL:https://charitonbeacon.com/activity/shakey-ground-at-the-outback-saloon-16/
LOCATION:10031 MO-5\, Marceline\, MO 64658-8185\, United States\, 10031 Missouri Highway 5\, Marceline\, Missouri\, 64658\, United States
CATEGORIES:Area Events
END:VEVENT
BEGIN:VEVENT
DTSTART;TZID=America/Chicago:20251212T200000
DTEND;TZID=America/Chicago:20251212T230000
DTSTAMP:20260422T090111
CREATED:20251226T060144Z
LAST-MODIFIED:20251226T060144Z
UID:36298-1765569600-1765580400@charitonbeacon.com
SUMMARY:Shakey Ground at the Outback Saloon
DESCRIPTION:Live Band “SHAKEY GROUND” at the Outback Saloon Friday Dec 12 starting around 8 pm-midnight. As always no one under 21. No cover charge
URL:https://charitonbeacon.com/activity/shakey-ground-at-the-outback-saloon-15/
LOCATION:10031 MO-5\, Marceline\, MO 64658-8185\, United States\, 10031 Missouri Highway 5\, Marceline\, Missouri\, 64658\, United States
CATEGORIES:Area Events
END:VEVENT
BEGIN:VEVENT
DTSTART;TZID=America/Chicago:20251212T200000
DTEND;TZID=America/Chicago:20251212T230000
DTSTAMP:20260422T090111
CREATED:20251225T060148Z
LAST-MODIFIED:20251225T060148Z
UID:36269-1765569600-1765580400@charitonbeacon.com
SUMMARY:Shakey Ground at the Outback Saloon
DESCRIPTION:Live Band “SHAKEY GROUND” at the Outback Saloon Friday Dec 12 starting around 8 pm-midnight. As always no one under 21. No cover charge
URL:https://charitonbeacon.com/activity/shakey-ground-at-the-outback-saloon-14/
LOCATION:10031 MO-5\, Marceline\, MO 64658-8185\, United States\, 10031 Missouri Highway 5\, Marceline\, Missouri\, 64658\, United States
CATEGORIES:Area Events
END:VEVENT
BEGIN:VEVENT
DTSTART;TZID=America/Chicago:20251212T200000
DTEND;TZID=America/Chicago:20251212T230000
DTSTAMP:20260422T090111
CREATED:20251224T060144Z
LAST-MODIFIED:20251224T060144Z
UID:36231-1765569600-1765580400@charitonbeacon.com
SUMMARY:Shakey Ground at the Outback Saloon
DESCRIPTION:Live Band “SHAKEY GROUND” at the Outback Saloon Friday Dec 12 starting around 8 pm-midnight. As always no one under 21. No cover charge
URL:https://charitonbeacon.com/activity/shakey-ground-at-the-outback-saloon-13/
LOCATION:10031 MO-5\, Marceline\, MO 64658-8185\, United States\, 10031 Missouri Highway 5\, Marceline\, Missouri\, 64658\, United States
CATEGORIES:Area Events
END:VEVENT
BEGIN:VEVENT
DTSTART;TZID=America/Chicago:20251212T200000
DTEND;TZID=America/Chicago:20251212T230000
DTSTAMP:20260422T090111
CREATED:20251223T060144Z
LAST-MODIFIED:20251223T060144Z
UID:36193-1765569600-1765580400@charitonbeacon.com
SUMMARY:Shakey Ground at the Outback Saloon
DESCRIPTION:Live Band “SHAKEY GROUND” at the Outback Saloon Friday Dec 12 starting around 8 pm-midnight. As always no one under 21. No cover charge
URL:https://charitonbeacon.com/activity/shakey-ground-at-the-outback-saloon-12/
LOCATION:10031 MO-5\, Marceline\, MO 64658-8185\, United States\, 10031 Missouri Highway 5\, Marceline\, Missouri\, 64658\, United States
CATEGORIES:Area Events
END:VEVENT
BEGIN:VEVENT
DTSTART;TZID=America/Chicago:20251212T200000
DTEND;TZID=America/Chicago:20251212T230000
DTSTAMP:20260422T090111
CREATED:20251222T060151Z
LAST-MODIFIED:20251222T060151Z
UID:36165-1765569600-1765580400@charitonbeacon.com
SUMMARY:Shakey Ground at the Outback Saloon
DESCRIPTION:Live Band “SHAKEY GROUND” at the Outback Saloon Friday Dec 12 starting around 8 pm-midnight. As always no one under 21. No cover charge
URL:https://charitonbeacon.com/activity/shakey-ground-at-the-outback-saloon-11/
LOCATION:10031 MO-5\, Marceline\, MO 64658-8185\, United States\, 10031 Missouri Highway 5\, Marceline\, Missouri\, 64658\, United States
CATEGORIES:Area Events
END:VEVENT
BEGIN:VEVENT
DTSTART;TZID=America/Chicago:20251212T200000
DTEND;TZID=America/Chicago:20251212T230000
DTSTAMP:20260422T090111
CREATED:20251221T060151Z
LAST-MODIFIED:20251221T060151Z
UID:36136-1765569600-1765580400@charitonbeacon.com
SUMMARY:Shakey Ground at the Outback Saloon
DESCRIPTION:Live Band “SHAKEY GROUND” at the Outback Saloon Friday Dec 12 starting around 8 pm-midnight. As always no one under 21. No cover charge
URL:https://charitonbeacon.com/activity/shakey-ground-at-the-outback-saloon-10/
LOCATION:10031 MO-5\, Marceline\, MO 64658-8185\, United States\, 10031 Missouri Highway 5\, Marceline\, Missouri\, 64658\, United States
CATEGORIES:Area Events
END:VEVENT
BEGIN:VEVENT
DTSTART;TZID=America/Chicago:20251212T200000
DTEND;TZID=America/Chicago:20251212T230000
DTSTAMP:20260422T090111
CREATED:20251220T060140Z
LAST-MODIFIED:20251220T060140Z
UID:36108-1765569600-1765580400@charitonbeacon.com
SUMMARY:Shakey Ground at the Outback Saloon
DESCRIPTION:Live Band “SHAKEY GROUND” at the Outback Saloon Friday Dec 12 starting around 8 pm-midnight. As always no one under 21. No cover charge
URL:https://charitonbeacon.com/activity/shakey-ground-at-the-outback-saloon-9/
LOCATION:10031 MO-5\, Marceline\, MO 64658-8185\, United States\, 10031 Missouri Highway 5\, Marceline\, Missouri\, 64658\, United States
CATEGORIES:Area Events
END:VEVENT
BEGIN:VEVENT
DTSTART;TZID=America/Chicago:20251212T200000
DTEND;TZID=America/Chicago:20251212T230000
DTSTAMP:20260422T090111
CREATED:20251219T060202Z
LAST-MODIFIED:20251219T060202Z
UID:36078-1765569600-1765580400@charitonbeacon.com
SUMMARY:Shakey Ground at the Outback Saloon
DESCRIPTION:Live Band “SHAKEY GROUND” at the Outback Saloon Friday Dec 12 starting around 8 pm-midnight. As always no one under 21. No cover charge
URL:https://charitonbeacon.com/activity/shakey-ground-at-the-outback-saloon-8/
LOCATION:10031 MO-5\, Marceline\, MO 64658-8185\, United States\, 10031 Missouri Highway 5\, Marceline\, Missouri\, 64658\, United States
CATEGORIES:Area Events
END:VEVENT
BEGIN:VEVENT
DTSTART;TZID=America/Chicago:20251212T200000
DTEND;TZID=America/Chicago:20251212T230000
DTSTAMP:20260422T090111
CREATED:20251218T060139Z
LAST-MODIFIED:20251218T060139Z
UID:36053-1765569600-1765580400@charitonbeacon.com
SUMMARY:Shakey Ground at the Outback Saloon
DESCRIPTION:Live Band “SHAKEY GROUND” at the Outback Saloon Friday Dec 12 starting around 8 pm-midnight. As always no one under 21. No cover charge
URL:https://charitonbeacon.com/activity/shakey-ground-at-the-outback-saloon-7/
LOCATION:10031 MO-5\, Marceline\, MO 64658-8185\, United States\, 10031 Missouri Highway 5\, Marceline\, Missouri\, 64658\, United States
CATEGORIES:Area Events
END:VEVENT
BEGIN:VEVENT
DTSTART;TZID=America/Chicago:20251212T200000
DTEND;TZID=America/Chicago:20251212T230000
DTSTAMP:20260422T090111
CREATED:20251217T060143Z
LAST-MODIFIED:20251217T060143Z
UID:36019-1765569600-1765580400@charitonbeacon.com
SUMMARY:Shakey Ground at the Outback Saloon
DESCRIPTION:Live Band “SHAKEY GROUND” at the Outback Saloon Friday Dec 12 starting around 8 pm-midnight. As always no one under 21. No cover charge
URL:https://charitonbeacon.com/activity/shakey-ground-at-the-outback-saloon-6/
LOCATION:10031 MO-5\, Marceline\, MO 64658-8185\, United States\, 10031 Missouri Highway 5\, Marceline\, Missouri\, 64658\, United States
CATEGORIES:Area Events
END:VEVENT
BEGIN:VEVENT
DTSTART;TZID=America/Chicago:20251212T200000
DTEND;TZID=America/Chicago:20251212T230000
DTSTAMP:20260422T090111
CREATED:20251216T060143Z
LAST-MODIFIED:20251216T060143Z
UID:35993-1765569600-1765580400@charitonbeacon.com
SUMMARY:Shakey Ground at the Outback Saloon
DESCRIPTION:Live Band “SHAKEY GROUND” at the Outback Saloon Friday Dec 12 starting around 8 pm-midnight. As always no one under 21. No cover charge
URL:https://charitonbeacon.com/activity/shakey-ground-at-the-outback-saloon-5/
LOCATION:10031 MO-5\, Marceline\, MO 64658-8185\, United States\, 10031 Missouri Highway 5\, Marceline\, Missouri\, 64658\, United States
CATEGORIES:Area Events
END:VEVENT
BEGIN:VEVENT
DTSTART;TZID=America/Chicago:20251212T200000
DTEND;TZID=America/Chicago:20251212T230000
DTSTAMP:20260422T090111
CREATED:20251215T060145Z
LAST-MODIFIED:20251215T060145Z
UID:35965-1765569600-1765580400@charitonbeacon.com
SUMMARY:Shakey Ground at the Outback Saloon
DESCRIPTION:Live Band “SHAKEY GROUND” at the Outback Saloon Friday Dec 12 starting around 8 pm-midnight. As always no one under 21. No cover charge
URL:https://charitonbeacon.com/activity/shakey-ground-at-the-outback-saloon-4/
LOCATION:10031 MO-5\, Marceline\, MO 64658-8185\, United States\, 10031 Missouri Highway 5\, Marceline\, Missouri\, 64658\, United States
CATEGORIES:Area Events
END:VEVENT
BEGIN:VEVENT
DTSTART;TZID=America/Chicago:20251212T200000
DTEND;TZID=America/Chicago:20251212T230000
DTSTAMP:20260422T090111
CREATED:20251214T060145Z
LAST-MODIFIED:20251214T060145Z
UID:35938-1765569600-1765580400@charitonbeacon.com
SUMMARY:Shakey Ground at the Outback Saloon
DESCRIPTION:Live Band “SHAKEY GROUND” at the Outback Saloon Friday Dec 12 starting around 8 pm-midnight. As always no one under 21. No cover charge
URL:https://charitonbeacon.com/activity/shakey-ground-at-the-outback-saloon-3/
LOCATION:10031 MO-5\, Marceline\, MO 64658-8185\, United States\, 10031 Missouri Highway 5\, Marceline\, Missouri\, 64658\, United States
CATEGORIES:Area Events
END:VEVENT
BEGIN:VEVENT
DTSTART;TZID=America/Chicago:20251212T200000
DTEND;TZID=America/Chicago:20251212T230000
DTSTAMP:20260422T090111
CREATED:20251213T060150Z
LAST-MODIFIED:20251213T060150Z
UID:35912-1765569600-1765580400@charitonbeacon.com
SUMMARY:Shakey Ground at the Outback Saloon
DESCRIPTION:Live Band “SHAKEY GROUND” at the Outback Saloon Friday Dec 12 starting around 8 pm-midnight. As always no one under 21. No cover charge
URL:https://charitonbeacon.com/activity/shakey-ground-at-the-outback-saloon-2/
LOCATION:10031 MO-5\, Marceline\, MO 64658-8185\, United States\, 10031 Missouri Highway 5\, Marceline\, Missouri\, 64658\, United States
CATEGORIES:Area Events
END:VEVENT
BEGIN:VEVENT
DTSTART;TZID=America/Chicago:20251212T200000
DTEND;TZID=America/Chicago:20251212T230000
DTSTAMP:20260422T090111
CREATED:20251126T060150Z
LAST-MODIFIED:20251212T060222Z
UID:34540-1765569600-1765580400@charitonbeacon.com
SUMMARY:Shakey Ground at the Outback Saloon
DESCRIPTION:Live Band “SHAKEY GROUND” at the Outback Saloon Friday Dec 12 starting around 8 pm-midnight. As always no one under 21. No cover charge
URL:https://charitonbeacon.com/activity/shakey-ground-at-the-outback-saloon/
LOCATION:10031 MO-5\, Marceline\, MO 64658-8185\, United States\, 10031 Missouri Highway 5\, Marceline\, Missouri\, 64658\, United States
CATEGORIES:Area Events
END:VEVENT
BEGIN:VEVENT
DTSTART;TZID=America/Chicago:20251208T183000
DTEND;TZID=America/Chicago:20251208T213000
DTSTAMP:20260422T090111
CREATED:20251226T060150Z
LAST-MODIFIED:20251226T060150Z
UID:36315-1765218600-1765229400@charitonbeacon.com
SUMMARY:December UnWined & Sip
DESCRIPTION:Join wine club in December and discover great wine options to take to your holiday events! We will be Tasting 6 new wines paired with 6 snacks. Get 10% off your bottle purchase. RSVP with payment required. Get signed up today by messaging us or stopping in store!
URL:https://charitonbeacon.com/activity/december-unwined-sip-18/
LOCATION:113 S Main St\, Brookfield\, MO 64628-2101\, United States\, 113 South Main Street\, Brookfield\, Missouri\, 64628\, United States
CATEGORIES:Area Events
END:VEVENT
BEGIN:VEVENT
DTSTART;TZID=America/Chicago:20251208T183000
DTEND;TZID=America/Chicago:20251208T213000
DTSTAMP:20260422T090111
CREATED:20251225T060156Z
LAST-MODIFIED:20251225T060156Z
UID:36288-1765218600-1765229400@charitonbeacon.com
SUMMARY:December UnWined & Sip
DESCRIPTION:Join wine club in December and discover great wine options to take to your holiday events! We will be Tasting 6 new wines paired with 6 snacks. Get 10% off your bottle purchase. RSVP with payment required. Get signed up today by messaging us or stopping in store!
URL:https://charitonbeacon.com/activity/december-unwined-sip-17/
LOCATION:113 S Main St\, Brookfield\, MO 64628-2101\, United States\, 113 South Main Street\, Brookfield\, Missouri\, 64628\, United States
CATEGORIES:Area Events
END:VEVENT
BEGIN:VEVENT
DTSTART;TZID=America/Chicago:20251208T183000
DTEND;TZID=America/Chicago:20251208T213000
DTSTAMP:20260422T090111
CREATED:20251224T060153Z
LAST-MODIFIED:20251224T060153Z
UID:36250-1765218600-1765229400@charitonbeacon.com
SUMMARY:December UnWined & Sip
DESCRIPTION:Join wine club in December and discover great wine options to take to your holiday events! We will be Tasting 6 new wines paired with 6 snacks. Get 10% off your bottle purchase. RSVP with payment required. Get signed up today by messaging us or stopping in store!
URL:https://charitonbeacon.com/activity/december-unwined-sip-16/
LOCATION:113 S Main St\, Brookfield\, MO 64628-2101\, United States\, 113 South Main Street\, Brookfield\, Missouri\, 64628\, United States
CATEGORIES:Area Events
END:VEVENT
BEGIN:VEVENT
DTSTART;TZID=America/Chicago:20251208T183000
DTEND;TZID=America/Chicago:20251208T213000
DTSTAMP:20260422T090111
CREATED:20251223T060150Z
LAST-MODIFIED:20251223T060150Z
UID:36212-1765218600-1765229400@charitonbeacon.com
SUMMARY:December UnWined & Sip
DESCRIPTION:Join wine club in December and discover great wine options to take to your holiday events! We will be Tasting 6 new wines paired with 6 snacks. Get 10% off your bottle purchase. RSVP with payment required. Get signed up today by messaging us or stopping in store!
URL:https://charitonbeacon.com/activity/december-unwined-sip-15/
LOCATION:113 S Main St\, Brookfield\, MO 64628-2101\, United States\, 113 South Main Street\, Brookfield\, Missouri\, 64628\, United States
CATEGORIES:Area Events
END:VEVENT
BEGIN:VEVENT
DTSTART;TZID=America/Chicago:20251208T183000
DTEND;TZID=America/Chicago:20251208T213000
DTSTAMP:20260422T090111
CREATED:20251222T060159Z
LAST-MODIFIED:20251222T060159Z
UID:36183-1765218600-1765229400@charitonbeacon.com
SUMMARY:December UnWined & Sip
DESCRIPTION:Join wine club in December and discover great wine options to take to your holiday events! We will be Tasting 6 new wines paired with 6 snacks. Get 10% off your bottle purchase. RSVP with payment required. Get signed up today by messaging us or stopping in store!
URL:https://charitonbeacon.com/activity/december-unwined-sip-14/
LOCATION:113 S Main St\, Brookfield\, MO 64628-2101\, United States\, 113 South Main Street\, Brookfield\, Missouri\, 64628\, United States
CATEGORIES:Area Events
END:VEVENT
BEGIN:VEVENT
DTSTART;TZID=America/Chicago:20251208T183000
DTEND;TZID=America/Chicago:20251208T213000
DTSTAMP:20260422T090111
CREATED:20251221T060158Z
LAST-MODIFIED:20251221T060158Z
UID:36154-1765218600-1765229400@charitonbeacon.com
SUMMARY:December UnWined & Sip
DESCRIPTION:Join wine club in December and discover great wine options to take to your holiday events! We will be Tasting 6 new wines paired with 6 snacks. Get 10% off your bottle purchase. RSVP with payment required. Get signed up today by messaging us or stopping in store!
URL:https://charitonbeacon.com/activity/december-unwined-sip-13/
LOCATION:113 S Main St\, Brookfield\, MO 64628-2101\, United States\, 113 South Main Street\, Brookfield\, Missouri\, 64628\, United States
CATEGORIES:Area Events
END:VEVENT
BEGIN:VEVENT
DTSTART;TZID=America/Chicago:20251208T183000
DTEND;TZID=America/Chicago:20251208T213000
DTSTAMP:20260422T090111
CREATED:20251220T060149Z
LAST-MODIFIED:20251220T060149Z
UID:36123-1765218600-1765229400@charitonbeacon.com
SUMMARY:December UnWined & Sip
DESCRIPTION:Join wine club in December and discover great wine options to take to your holiday events! We will be Tasting 6 new wines paired with 6 snacks. Get 10% off your bottle purchase. RSVP with payment required. Get signed up today by messaging us or stopping in store!
URL:https://charitonbeacon.com/activity/december-unwined-sip-12/
LOCATION:113 S Main St\, Brookfield\, MO 64628-2101\, United States\, 113 South Main Street\, Brookfield\, Missouri\, 64628\, United States
CATEGORIES:Area Events
END:VEVENT
BEGIN:VEVENT
DTSTART;TZID=America/Chicago:20251208T183000
DTEND;TZID=America/Chicago:20251208T213000
DTSTAMP:20260422T090111
CREATED:20251219T060210Z
LAST-MODIFIED:20251219T060210Z
UID:36093-1765218600-1765229400@charitonbeacon.com
SUMMARY:December UnWined & Sip
DESCRIPTION:Join wine club in December and discover great wine options to take to your holiday events! We will be Tasting 6 new wines paired with 6 snacks. Get 10% off your bottle purchase. RSVP with payment required. Get signed up today by messaging us or stopping in store!
URL:https://charitonbeacon.com/activity/december-unwined-sip-11/
LOCATION:113 S Main St\, Brookfield\, MO 64628-2101\, United States\, 113 South Main Street\, Brookfield\, Missouri\, 64628\, United States
CATEGORIES:Area Events
END:VEVENT
BEGIN:VEVENT
DTSTART;TZID=America/Chicago:20251208T183000
DTEND;TZID=America/Chicago:20251208T213000
DTSTAMP:20260422T090111
CREATED:20251218T060146Z
LAST-MODIFIED:20251218T060146Z
UID:36067-1765218600-1765229400@charitonbeacon.com
SUMMARY:December UnWined & Sip
DESCRIPTION:Join wine club in December and discover great wine options to take to your holiday events! We will be Tasting 6 new wines paired with 6 snacks. Get 10% off your bottle purchase. RSVP with payment required. Get signed up today by messaging us or stopping in store!
URL:https://charitonbeacon.com/activity/december-unwined-sip-10/
LOCATION:113 S Main St\, Brookfield\, MO 64628-2101\, United States\, 113 South Main Street\, Brookfield\, Missouri\, 64628\, United States
CATEGORIES:Area Events
END:VEVENT
BEGIN:VEVENT
DTSTART;TZID=America/Chicago:20251208T183000
DTEND;TZID=America/Chicago:20251208T213000
DTSTAMP:20260422T090111
CREATED:20251217T060149Z
LAST-MODIFIED:20251217T060149Z
UID:36031-1765218600-1765229400@charitonbeacon.com
SUMMARY:December UnWined & Sip
DESCRIPTION:Join wine club in December and discover great wine options to take to your holiday events! We will be Tasting 6 new wines paired with 6 snacks. Get 10% off your bottle purchase. RSVP with payment required. Get signed up today by messaging us or stopping in store!
URL:https://charitonbeacon.com/activity/december-unwined-sip-9/
LOCATION:113 S Main St\, Brookfield\, MO 64628-2101\, United States\, 113 South Main Street\, Brookfield\, Missouri\, 64628\, United States
CATEGORIES:Area Events
END:VEVENT
BEGIN:VEVENT
DTSTART;TZID=America/Chicago:20251208T183000
DTEND;TZID=America/Chicago:20251208T213000
DTSTAMP:20260422T090111
CREATED:20251216T060150Z
LAST-MODIFIED:20251216T060150Z
UID:36008-1765218600-1765229400@charitonbeacon.com
SUMMARY:December UnWined & Sip
DESCRIPTION:Join wine club in December and discover great wine options to take to your holiday events! We will be Tasting 6 new wines paired with 6 snacks. Get 10% off your bottle purchase. RSVP with payment required. Get signed up today by messaging us or stopping in store!
URL:https://charitonbeacon.com/activity/december-unwined-sip-8/
LOCATION:113 S Main St\, Brookfield\, MO 64628-2101\, United States\, 113 South Main Street\, Brookfield\, Missouri\, 64628\, United States
CATEGORIES:Area Events
END:VEVENT
BEGIN:VEVENT
DTSTART;TZID=America/Chicago:20251208T183000
DTEND;TZID=America/Chicago:20251208T213000
DTSTAMP:20260422T090111
CREATED:20251215T060151Z
LAST-MODIFIED:20251215T060151Z
UID:35979-1765218600-1765229400@charitonbeacon.com
SUMMARY:December UnWined & Sip
DESCRIPTION:Join wine club in December and discover great wine options to take to your holiday events! We will be Tasting 6 new wines paired with 6 snacks. Get 10% off your bottle purchase. RSVP with payment required. Get signed up today by messaging us or stopping in store!
URL:https://charitonbeacon.com/activity/december-unwined-sip-7/
LOCATION:113 S Main St\, Brookfield\, MO 64628-2101\, United States\, 113 South Main Street\, Brookfield\, Missouri\, 64628\, United States
CATEGORIES:Area Events
END:VEVENT
BEGIN:VEVENT
DTSTART;TZID=America/Chicago:20251208T183000
DTEND;TZID=America/Chicago:20251208T213000
DTSTAMP:20260422T090111
CREATED:20251214T060151Z
LAST-MODIFIED:20251214T060151Z
UID:35952-1765218600-1765229400@charitonbeacon.com
SUMMARY:December UnWined & Sip
DESCRIPTION:Join wine club in December and discover great wine options to take to your holiday events! We will be Tasting 6 new wines paired with 6 snacks. Get 10% off your bottle purchase. RSVP with payment required. Get signed up today by messaging us or stopping in store!
URL:https://charitonbeacon.com/activity/december-unwined-sip-6/
LOCATION:113 S Main St\, Brookfield\, MO 64628-2101\, United States\, 113 South Main Street\, Brookfield\, Missouri\, 64628\, United States
CATEGORIES:Area Events
END:VEVENT
BEGIN:VEVENT
DTSTART;TZID=America/Chicago:20251208T183000
DTEND;TZID=America/Chicago:20251208T213000
DTSTAMP:20260422T090111
CREATED:20251213T060156Z
LAST-MODIFIED:20251213T060156Z
UID:35923-1765218600-1765229400@charitonbeacon.com
SUMMARY:December UnWined & Sip
DESCRIPTION:Join wine club in December and discover great wine options to take to your holiday events! We will be Tasting 6 new wines paired with 6 snacks. Get 10% off your bottle purchase. RSVP with payment required. Get signed up today by messaging us or stopping in store!
URL:https://charitonbeacon.com/activity/december-unwined-sip-5/
LOCATION:113 S Main St\, Brookfield\, MO 64628-2101\, United States\, 113 South Main Street\, Brookfield\, Missouri\, 64628\, United States
CATEGORIES:Area Events
END:VEVENT
END:VCALENDAR