BEGIN:VCALENDAR
VERSION:2.0
PRODID:-//The Chariton Beacon - ECPv6.15.20//NONSGML v1.0//EN
CALSCALE:GREGORIAN
METHOD:PUBLISH
X-ORIGINAL-URL:https://charitonbeacon.com
X-WR-CALDESC:Events for The Chariton Beacon
REFRESH-INTERVAL;VALUE=DURATION:PT1H
X-Robots-Tag:noindex
X-PUBLISHED-TTL:PT1H
BEGIN:VTIMEZONE
TZID:America/Chicago
BEGIN:DAYLIGHT
TZOFFSETFROM:-0600
TZOFFSETTO:-0500
TZNAME:CDT
DTSTART:20240310T080000
END:DAYLIGHT
BEGIN:STANDARD
TZOFFSETFROM:-0500
TZOFFSETTO:-0600
TZNAME:CST
DTSTART:20241103T070000
END:STANDARD
BEGIN:DAYLIGHT
TZOFFSETFROM:-0600
TZOFFSETTO:-0500
TZNAME:CDT
DTSTART:20250309T080000
END:DAYLIGHT
BEGIN:STANDARD
TZOFFSETFROM:-0500
TZOFFSETTO:-0600
TZNAME:CST
DTSTART:20251102T070000
END:STANDARD
BEGIN:DAYLIGHT
TZOFFSETFROM:-0600
TZOFFSETTO:-0500
TZNAME:CDT
DTSTART:20260308T080000
END:DAYLIGHT
BEGIN:STANDARD
TZOFFSETFROM:-0500
TZOFFSETTO:-0600
TZNAME:CST
DTSTART:20261101T070000
END:STANDARD
END:VTIMEZONE
BEGIN:VEVENT
DTSTART;TZID=America/Chicago:20251129T210000
DTEND;TZID=America/Chicago:20251130T000000
DTSTAMP:20260422T191509
CREATED:20251214T060149Z
LAST-MODIFIED:20251214T060149Z
UID:35948-1764450000-1764460800@charitonbeacon.com
SUMMARY:Bring Back the 90's Christmas Event
DESCRIPTION:’90s Christmas Spectacular: Rock that Retro Style\, Test Your Nostalgia Know-How with ’90s Trivia!
URL:https://charitonbeacon.com/activity/bring-back-the-90s-christmas-event-16/
LOCATION:105 N Madison St\, Brunswick\, MO 65236-1244\, United States\, 105 North Madison Street\, Brunswick\, Missouri\, 65236\, United States
CATEGORIES:Area Events
END:VEVENT
BEGIN:VEVENT
DTSTART;TZID=America/Chicago:20251129T210000
DTEND;TZID=America/Chicago:20251130T000000
DTSTAMP:20260422T191509
CREATED:20251213T060154Z
LAST-MODIFIED:20251213T060154Z
UID:35920-1764450000-1764460800@charitonbeacon.com
SUMMARY:Bring Back the 90's Christmas Event
DESCRIPTION:’90s Christmas Spectacular: Rock that Retro Style\, Test Your Nostalgia Know-How with ’90s Trivia!
URL:https://charitonbeacon.com/activity/bring-back-the-90s-christmas-event-15/
LOCATION:105 N Madison St\, Brunswick\, MO 65236-1244\, United States\, 105 North Madison Street\, Brunswick\, Missouri\, 65236\, United States
CATEGORIES:Area Events
END:VEVENT
BEGIN:VEVENT
DTSTART;TZID=America/Chicago:20251129T210000
DTEND;TZID=America/Chicago:20251130T000000
DTSTAMP:20260422T191509
CREATED:20251212T060226Z
LAST-MODIFIED:20251212T060226Z
UID:35888-1764450000-1764460800@charitonbeacon.com
SUMMARY:Bring Back the 90's Christmas Event
DESCRIPTION:’90s Christmas Spectacular: Rock that Retro Style\, Test Your Nostalgia Know-How with ’90s Trivia!
URL:https://charitonbeacon.com/activity/bring-back-the-90s-christmas-event-14/
LOCATION:105 N Madison St\, Brunswick\, MO 65236-1244\, United States\, 105 North Madison Street\, Brunswick\, Missouri\, 65236\, United States
CATEGORIES:Area Events
END:VEVENT
BEGIN:VEVENT
DTSTART;TZID=America/Chicago:20251129T210000
DTEND;TZID=America/Chicago:20251130T000000
DTSTAMP:20260422T191509
CREATED:20251211T060206Z
LAST-MODIFIED:20251211T060206Z
UID:35787-1764450000-1764460800@charitonbeacon.com
SUMMARY:Bring Back the 90's Christmas Event
DESCRIPTION:’90s Christmas Spectacular: Rock that Retro Style\, Test Your Nostalgia Know-How with ’90s Trivia!
URL:https://charitonbeacon.com/activity/bring-back-the-90s-christmas-event-13/
LOCATION:105 N Madison St\, Brunswick\, MO 65236-1244\, United States\, 105 North Madison Street\, Brunswick\, Missouri\, 65236\, United States
CATEGORIES:Area Events
END:VEVENT
BEGIN:VEVENT
DTSTART;TZID=America/Chicago:20251129T210000
DTEND;TZID=America/Chicago:20251130T000000
DTSTAMP:20260422T191509
CREATED:20251210T060213Z
LAST-MODIFIED:20251210T060213Z
UID:35762-1764450000-1764460800@charitonbeacon.com
SUMMARY:Bring Back the 90's Christmas Event
DESCRIPTION:’90s Christmas Spectacular: Rock that Retro Style\, Test Your Nostalgia Know-How with ’90s Trivia!
URL:https://charitonbeacon.com/activity/bring-back-the-90s-christmas-event-12/
LOCATION:105 N Madison St\, Brunswick\, MO 65236-1244\, United States\, 105 North Madison Street\, Brunswick\, Missouri\, 65236\, United States
CATEGORIES:Area Events
END:VEVENT
BEGIN:VEVENT
DTSTART;TZID=America/Chicago:20251129T210000
DTEND;TZID=America/Chicago:20251130T000000
DTSTAMP:20260422T191509
CREATED:20251209T060145Z
LAST-MODIFIED:20251209T060145Z
UID:35700-1764450000-1764460800@charitonbeacon.com
SUMMARY:Bring Back the 90's Christmas Event
DESCRIPTION:’90s Christmas Spectacular: Rock that Retro Style\, Test Your Nostalgia Know-How with ’90s Trivia!
URL:https://charitonbeacon.com/activity/bring-back-the-90s-christmas-event-11/
LOCATION:105 N Madison St\, Brunswick\, MO 65236-1244\, United States\, 105 North Madison Street\, Brunswick\, Missouri\, 65236\, United States
CATEGORIES:Area Events
END:VEVENT
BEGIN:VEVENT
DTSTART;TZID=America/Chicago:20251129T210000
DTEND;TZID=America/Chicago:20251130T000000
DTSTAMP:20260422T191509
CREATED:20251208T060148Z
LAST-MODIFIED:20251208T060148Z
UID:35607-1764450000-1764460800@charitonbeacon.com
SUMMARY:Bring Back the 90's Christmas Event
DESCRIPTION:’90s Christmas Spectacular: Rock that Retro Style\, Test Your Nostalgia Know-How with ’90s Trivia!
URL:https://charitonbeacon.com/activity/bring-back-the-90s-christmas-event-10/
LOCATION:105 N Madison St\, Brunswick\, MO 65236-1244\, United States\, 105 North Madison Street\, Brunswick\, Missouri\, 65236\, United States
CATEGORIES:Area Events
END:VEVENT
BEGIN:VEVENT
DTSTART;TZID=America/Chicago:20251129T210000
DTEND;TZID=America/Chicago:20251130T000000
DTSTAMP:20260422T191509
CREATED:20251207T060152Z
LAST-MODIFIED:20251207T060152Z
UID:35523-1764450000-1764460800@charitonbeacon.com
SUMMARY:Bring Back the 90's Christmas Event
DESCRIPTION:’90s Christmas Spectacular: Rock that Retro Style\, Test Your Nostalgia Know-How with ’90s Trivia!
URL:https://charitonbeacon.com/activity/bring-back-the-90s-christmas-event-9/
LOCATION:105 N Madison St\, Brunswick\, MO 65236-1244\, United States\, 105 North Madison Street\, Brunswick\, Missouri\, 65236\, United States
CATEGORIES:Area Events
END:VEVENT
BEGIN:VEVENT
DTSTART;TZID=America/Chicago:20251129T210000
DTEND;TZID=America/Chicago:20251130T000000
DTSTAMP:20260422T191509
CREATED:20251206T060149Z
LAST-MODIFIED:20251206T060149Z
UID:35436-1764450000-1764460800@charitonbeacon.com
SUMMARY:Bring Back the 90's Christmas Event
DESCRIPTION:’90s Christmas Spectacular: Rock that Retro Style\, Test Your Nostalgia Know-How with ’90s Trivia!
URL:https://charitonbeacon.com/activity/bring-back-the-90s-christmas-event-8/
LOCATION:105 N Madison St\, Brunswick\, MO 65236-1244\, United States\, 105 North Madison Street\, Brunswick\, Missouri\, 65236\, United States
CATEGORIES:Area Events
END:VEVENT
BEGIN:VEVENT
DTSTART;TZID=America/Chicago:20251129T210000
DTEND;TZID=America/Chicago:20251130T000000
DTSTAMP:20260422T191509
CREATED:20251205T060135Z
LAST-MODIFIED:20251205T060135Z
UID:35367-1764450000-1764460800@charitonbeacon.com
SUMMARY:Bring Back the 90's Christmas Event
DESCRIPTION:’90s Christmas Spectacular: Rock that Retro Style\, Test Your Nostalgia Know-How with ’90s Trivia!
URL:https://charitonbeacon.com/activity/bring-back-the-90s-christmas-event-7/
LOCATION:105 N Madison St\, Brunswick\, MO 65236-1244\, United States\, 105 North Madison Street\, Brunswick\, Missouri\, 65236\, United States
CATEGORIES:Area Events
END:VEVENT
BEGIN:VEVENT
DTSTART;TZID=America/Chicago:20251129T210000
DTEND;TZID=America/Chicago:20251130T000000
DTSTAMP:20260422T191509
CREATED:20251204T060223Z
LAST-MODIFIED:20251204T060223Z
UID:35282-1764450000-1764460800@charitonbeacon.com
SUMMARY:Bring Back the 90's Christmas Event
DESCRIPTION:’90s Christmas Spectacular: Rock that Retro Style\, Test Your Nostalgia Know-How with ’90s Trivia!
URL:https://charitonbeacon.com/activity/bring-back-the-90s-christmas-event-6/
LOCATION:105 N Madison St\, Brunswick\, MO 65236-1244\, United States\, 105 North Madison Street\, Brunswick\, Missouri\, 65236\, United States
CATEGORIES:Area Events
END:VEVENT
BEGIN:VEVENT
DTSTART;TZID=America/Chicago:20251129T210000
DTEND;TZID=America/Chicago:20251130T000000
DTSTAMP:20260422T191509
CREATED:20251203T060149Z
LAST-MODIFIED:20251203T060149Z
UID:35186-1764450000-1764460800@charitonbeacon.com
SUMMARY:Bring Back the 90's Christmas Event
DESCRIPTION:’90s Christmas Spectacular: Rock that Retro Style\, Test Your Nostalgia Know-How with ’90s Trivia!
URL:https://charitonbeacon.com/activity/bring-back-the-90s-christmas-event-5/
LOCATION:105 N Madison St\, Brunswick\, MO 65236-1244\, United States\, 105 North Madison Street\, Brunswick\, Missouri\, 65236\, United States
CATEGORIES:Area Events
END:VEVENT
BEGIN:VEVENT
DTSTART;TZID=America/Chicago:20251129T210000
DTEND;TZID=America/Chicago:20251130T000000
DTSTAMP:20260422T191509
CREATED:20251202T060145Z
LAST-MODIFIED:20251202T060145Z
UID:35101-1764450000-1764460800@charitonbeacon.com
SUMMARY:Bring Back the 90's Christmas Event
DESCRIPTION:’90s Christmas Spectacular: Rock that Retro Style\, Test Your Nostalgia Know-How with ’90s Trivia!
URL:https://charitonbeacon.com/activity/bring-back-the-90s-christmas-event-4/
LOCATION:105 N Madison St\, Brunswick\, MO 65236-1244\, United States\, 105 North Madison Street\, Brunswick\, Missouri\, 65236\, United States
CATEGORIES:Area Events
END:VEVENT
BEGIN:VEVENT
DTSTART;TZID=America/Chicago:20251129T210000
DTEND;TZID=America/Chicago:20251130T000000
DTSTAMP:20260422T191509
CREATED:20251201T060148Z
LAST-MODIFIED:20251201T060148Z
UID:34976-1764450000-1764460800@charitonbeacon.com
SUMMARY:Bring Back the 90's Christmas Event
DESCRIPTION:’90s Christmas Spectacular: Rock that Retro Style\, Test Your Nostalgia Know-How with ’90s Trivia!
URL:https://charitonbeacon.com/activity/bring-back-the-90s-christmas-event-3/
LOCATION:105 N Madison St\, Brunswick\, MO 65236-1244\, United States\, 105 North Madison Street\, Brunswick\, Missouri\, 65236\, United States
CATEGORIES:Area Events
END:VEVENT
BEGIN:VEVENT
DTSTART;TZID=America/Chicago:20251129T210000
DTEND;TZID=America/Chicago:20251130T000000
DTSTAMP:20260422T191509
CREATED:20251130T060217Z
LAST-MODIFIED:20251130T060217Z
UID:34871-1764450000-1764460800@charitonbeacon.com
SUMMARY:Bring Back the 90's Christmas Event
DESCRIPTION:’90s Christmas Spectacular: Rock that Retro Style\, Test Your Nostalgia Know-How with ’90s Trivia!
URL:https://charitonbeacon.com/activity/bring-back-the-90s-christmas-event-2/
LOCATION:105 N Madison St\, Brunswick\, MO 65236-1244\, United States\, 105 North Madison Street\, Brunswick\, Missouri\, 65236\, United States
CATEGORIES:Area Events
END:VEVENT
BEGIN:VEVENT
DTSTART;TZID=America/Chicago:20251129T210000
DTEND;TZID=America/Chicago:20251130T000000
DTSTAMP:20260422T191509
CREATED:20251126T060156Z
LAST-MODIFIED:20251129T060143Z
UID:34560-1764450000-1764460800@charitonbeacon.com
SUMMARY:Bring Back the 90's Christmas Event
DESCRIPTION:’90s Christmas Spectacular: Rock that Retro Style\, Test Your Nostalgia Know-How with ’90s Trivia!
URL:https://charitonbeacon.com/activity/bring-back-the-90s-christmas-event/
LOCATION:105 N Madison St\, Brunswick\, MO 65236-1244\, United States\, 105 North Madison Street\, Brunswick\, Missouri\, 65236\, United States
CATEGORIES:Area Events
END:VEVENT
BEGIN:VEVENT
DTSTART;TZID=America/Chicago:20251129T200000
DTEND;TZID=America/Chicago:20251130T000000
DTSTAMP:20260422T191509
CREATED:20251231T060143Z
LAST-MODIFIED:20251231T060143Z
UID:36508-1764446400-1764460800@charitonbeacon.com
SUMMARY:DJ Landen Gardner
DESCRIPTION:Landon  Gardner on the Patio -NO Cover Charge
URL:https://charitonbeacon.com/activity/dj-landen-gardner-31/
LOCATION:126 E Howell Ave\, Marceline\, MO 64658-1208\, United States\, 126 East Howell Avenue\, Marceline\, Missouri\, 64658\, United States
CATEGORIES:Area Events
END:VEVENT
BEGIN:VEVENT
DTSTART;TZID=America/Chicago:20251129T200000
DTEND;TZID=America/Chicago:20251130T000000
DTSTAMP:20260422T191509
CREATED:20251230T060134Z
LAST-MODIFIED:20251230T060134Z
UID:36403-1764446400-1764460800@charitonbeacon.com
SUMMARY:DJ Landen Gardner
DESCRIPTION:Landon  Gardner on the Patio -NO Cover Charge
URL:https://charitonbeacon.com/activity/dj-landen-gardner-30/
LOCATION:126 E Howell Ave\, Marceline\, MO 64658-1208\, United States\, 126 East Howell Avenue\, Marceline\, Missouri\, 64658\, United States
CATEGORIES:Area Events
END:VEVENT
BEGIN:VEVENT
DTSTART;TZID=America/Chicago:20251129T200000
DTEND;TZID=America/Chicago:20251130T000000
DTSTAMP:20260422T191509
CREATED:20251229T060136Z
LAST-MODIFIED:20251229T060136Z
UID:36378-1764446400-1764460800@charitonbeacon.com
SUMMARY:DJ Landen Gardner
DESCRIPTION:Landon  Gardner on the Patio -NO Cover Charge
URL:https://charitonbeacon.com/activity/dj-landen-gardner-29/
LOCATION:126 E Howell Ave\, Marceline\, MO 64658-1208\, United States\, 126 East Howell Avenue\, Marceline\, Missouri\, 64658\, United States
CATEGORIES:Area Events
END:VEVENT
BEGIN:VEVENT
DTSTART;TZID=America/Chicago:20251129T200000
DTEND;TZID=America/Chicago:20251130T000000
DTSTAMP:20260422T191509
CREATED:20251227T060138Z
LAST-MODIFIED:20251227T060138Z
UID:36326-1764446400-1764460800@charitonbeacon.com
SUMMARY:DJ Landen Gardner
DESCRIPTION:Landon  Gardner on the Patio -NO Cover Charge
URL:https://charitonbeacon.com/activity/dj-landen-gardner-28/
LOCATION:126 E Howell Ave\, Marceline\, MO 64658-1208\, United States\, 126 East Howell Avenue\, Marceline\, Missouri\, 64658\, United States
CATEGORIES:Area Events
END:VEVENT
BEGIN:VEVENT
DTSTART;TZID=America/Chicago:20251129T200000
DTEND;TZID=America/Chicago:20251130T000000
DTSTAMP:20260422T191509
CREATED:20251226T060145Z
LAST-MODIFIED:20251226T060145Z
UID:36300-1764446400-1764460800@charitonbeacon.com
SUMMARY:DJ Landen Gardner
DESCRIPTION:Landon  Gardner on the Patio -NO Cover Charge
URL:https://charitonbeacon.com/activity/dj-landen-gardner-27/
LOCATION:126 E Howell Ave\, Marceline\, MO 64658-1208\, United States\, 126 East Howell Avenue\, Marceline\, Missouri\, 64658\, United States
CATEGORIES:Area Events
END:VEVENT
BEGIN:VEVENT
DTSTART;TZID=America/Chicago:20251129T200000
DTEND;TZID=America/Chicago:20251130T000000
DTSTAMP:20260422T191509
CREATED:20251225T060150Z
LAST-MODIFIED:20251225T060150Z
UID:36273-1764446400-1764460800@charitonbeacon.com
SUMMARY:DJ Landen Gardner
DESCRIPTION:Landon  Gardner on the Patio -NO Cover Charge
URL:https://charitonbeacon.com/activity/dj-landen-gardner-26/
LOCATION:126 E Howell Ave\, Marceline\, MO 64658-1208\, United States\, 126 East Howell Avenue\, Marceline\, Missouri\, 64658\, United States
CATEGORIES:Area Events
END:VEVENT
BEGIN:VEVENT
DTSTART;TZID=America/Chicago:20251129T200000
DTEND;TZID=America/Chicago:20251130T000000
DTSTAMP:20260422T191509
CREATED:20251224T060145Z
LAST-MODIFIED:20251224T060145Z
UID:36235-1764446400-1764460800@charitonbeacon.com
SUMMARY:DJ Landen Gardner
DESCRIPTION:Landon  Gardner on the Patio -NO Cover Charge
URL:https://charitonbeacon.com/activity/dj-landen-gardner-25/
LOCATION:126 E Howell Ave\, Marceline\, MO 64658-1208\, United States\, 126 East Howell Avenue\, Marceline\, Missouri\, 64658\, United States
CATEGORIES:Area Events
END:VEVENT
BEGIN:VEVENT
DTSTART;TZID=America/Chicago:20251129T200000
DTEND;TZID=America/Chicago:20251130T000000
DTSTAMP:20260422T191509
CREATED:20251223T060146Z
LAST-MODIFIED:20251223T060146Z
UID:36197-1764446400-1764460800@charitonbeacon.com
SUMMARY:DJ Landen Gardner
DESCRIPTION:Landon  Gardner on the Patio -NO Cover Charge
URL:https://charitonbeacon.com/activity/dj-landen-gardner-24/
LOCATION:126 E Howell Ave\, Marceline\, MO 64658-1208\, United States\, 126 East Howell Avenue\, Marceline\, Missouri\, 64658\, United States
CATEGORIES:Area Events
END:VEVENT
BEGIN:VEVENT
DTSTART;TZID=America/Chicago:20251129T200000
DTEND;TZID=America/Chicago:20251130T000000
DTSTAMP:20260422T191509
CREATED:20251222T060153Z
LAST-MODIFIED:20251222T060153Z
UID:36169-1764446400-1764460800@charitonbeacon.com
SUMMARY:DJ Landen Gardner
DESCRIPTION:Landon  Gardner on the Patio -NO Cover Charge
URL:https://charitonbeacon.com/activity/dj-landen-gardner-23/
LOCATION:126 E Howell Ave\, Marceline\, MO 64658-1208\, United States\, 126 East Howell Avenue\, Marceline\, Missouri\, 64658\, United States
CATEGORIES:Area Events
END:VEVENT
BEGIN:VEVENT
DTSTART;TZID=America/Chicago:20251129T200000
DTEND;TZID=America/Chicago:20251130T000000
DTSTAMP:20260422T191509
CREATED:20251221T060153Z
LAST-MODIFIED:20251221T060153Z
UID:36140-1764446400-1764460800@charitonbeacon.com
SUMMARY:DJ Landen Gardner
DESCRIPTION:Landon  Gardner on the Patio -NO Cover Charge
URL:https://charitonbeacon.com/activity/dj-landen-gardner-22/
LOCATION:126 E Howell Ave\, Marceline\, MO 64658-1208\, United States\, 126 East Howell Avenue\, Marceline\, Missouri\, 64658\, United States
CATEGORIES:Area Events
END:VEVENT
BEGIN:VEVENT
DTSTART;TZID=America/Chicago:20251129T200000
DTEND;TZID=America/Chicago:20251130T000000
DTSTAMP:20260422T191509
CREATED:20251220T060141Z
LAST-MODIFIED:20251220T060141Z
UID:36112-1764446400-1764460800@charitonbeacon.com
SUMMARY:DJ Landen Gardner
DESCRIPTION:Landon  Gardner on the Patio -NO Cover Charge
URL:https://charitonbeacon.com/activity/dj-landen-gardner-21/
LOCATION:126 E Howell Ave\, Marceline\, MO 64658-1208\, United States\, 126 East Howell Avenue\, Marceline\, Missouri\, 64658\, United States
CATEGORIES:Area Events
END:VEVENT
BEGIN:VEVENT
DTSTART;TZID=America/Chicago:20251129T200000
DTEND;TZID=America/Chicago:20251130T000000
DTSTAMP:20260422T191509
CREATED:20251219T060205Z
LAST-MODIFIED:20251219T060205Z
UID:36082-1764446400-1764460800@charitonbeacon.com
SUMMARY:DJ Landen Gardner
DESCRIPTION:Landon  Gardner on the Patio -NO Cover Charge
URL:https://charitonbeacon.com/activity/dj-landen-gardner-20/
LOCATION:126 E Howell Ave\, Marceline\, MO 64658-1208\, United States\, 126 East Howell Avenue\, Marceline\, Missouri\, 64658\, United States
CATEGORIES:Area Events
END:VEVENT
BEGIN:VEVENT
DTSTART;TZID=America/Chicago:20251129T200000
DTEND;TZID=America/Chicago:20251130T000000
DTSTAMP:20260422T191509
CREATED:20251218T060140Z
LAST-MODIFIED:20251218T060140Z
UID:36056-1764446400-1764460800@charitonbeacon.com
SUMMARY:DJ Landen Gardner
DESCRIPTION:Landon  Gardner on the Patio -NO Cover Charge
URL:https://charitonbeacon.com/activity/dj-landen-gardner-19/
LOCATION:126 E Howell Ave\, Marceline\, MO 64658-1208\, United States\, 126 East Howell Avenue\, Marceline\, Missouri\, 64658\, United States
CATEGORIES:Area Events
END:VEVENT
BEGIN:VEVENT
DTSTART;TZID=America/Chicago:20251129T200000
DTEND;TZID=America/Chicago:20251130T000000
DTSTAMP:20260422T191509
CREATED:20251216T060145Z
LAST-MODIFIED:20251216T060145Z
UID:35997-1764446400-1764460800@charitonbeacon.com
SUMMARY:DJ Landen Gardner
DESCRIPTION:Landon  Gardner on the Patio -NO Cover Charge
URL:https://charitonbeacon.com/activity/dj-landen-gardner-18/
LOCATION:126 E Howell Ave\, Marceline\, MO 64658-1208\, United States\, 126 East Howell Avenue\, Marceline\, Missouri\, 64658\, United States
CATEGORIES:Area Events
END:VEVENT
END:VCALENDAR