BEGIN:VCALENDAR
VERSION:2.0
PRODID:-//The Chariton Beacon - ECPv6.15.20//NONSGML v1.0//EN
CALSCALE:GREGORIAN
METHOD:PUBLISH
X-WR-CALNAME:The Chariton Beacon
X-ORIGINAL-URL:https://charitonbeacon.com
X-WR-CALDESC:Events for The Chariton Beacon
REFRESH-INTERVAL;VALUE=DURATION:PT1H
X-Robots-Tag:noindex
X-PUBLISHED-TTL:PT1H
BEGIN:VTIMEZONE
TZID:America/Chicago
BEGIN:DAYLIGHT
TZOFFSETFROM:-0600
TZOFFSETTO:-0500
TZNAME:CDT
DTSTART:20240310T080000
END:DAYLIGHT
BEGIN:STANDARD
TZOFFSETFROM:-0500
TZOFFSETTO:-0600
TZNAME:CST
DTSTART:20241103T070000
END:STANDARD
BEGIN:DAYLIGHT
TZOFFSETFROM:-0600
TZOFFSETTO:-0500
TZNAME:CDT
DTSTART:20250309T080000
END:DAYLIGHT
BEGIN:STANDARD
TZOFFSETFROM:-0500
TZOFFSETTO:-0600
TZNAME:CST
DTSTART:20251102T070000
END:STANDARD
BEGIN:DAYLIGHT
TZOFFSETFROM:-0600
TZOFFSETTO:-0500
TZNAME:CDT
DTSTART:20260308T080000
END:DAYLIGHT
BEGIN:STANDARD
TZOFFSETFROM:-0500
TZOFFSETTO:-0600
TZNAME:CST
DTSTART:20261101T070000
END:STANDARD
END:VTIMEZONE
BEGIN:VEVENT
DTSTART;TZID=America/Chicago:20251129T110000
DTEND;TZID=America/Chicago:20251129T140000
DTSTAMP:20260422T233411
CREATED:20251218T060137Z
LAST-MODIFIED:20251218T060137Z
UID:36049-1764414000-1764424800@charitonbeacon.com
SUMMARY:Santa Claus
DESCRIPTION:Santa will be at Brookfield dollar tree this Saturday 11-29-25 from 11 am to 2 pm ..
URL:https://charitonbeacon.com/activity/santa-claus-19/
LOCATION:406 W. Lockling Ave\, Brookfield\, MO 64628\, 406 West Lockling Avenue\, Brookfield\, Missouri\, 64628\, United States
CATEGORIES:Area Events
END:VEVENT
BEGIN:VEVENT
DTSTART;TZID=America/Chicago:20251129T110000
DTEND;TZID=America/Chicago:20251129T140000
DTSTAMP:20260422T233411
CREATED:20251217T060139Z
LAST-MODIFIED:20251217T060139Z
UID:36015-1764414000-1764424800@charitonbeacon.com
SUMMARY:Santa Claus
DESCRIPTION:Santa will be at Brookfield dollar tree this Saturday 11-29-25 from 11 am to 2 pm ..
URL:https://charitonbeacon.com/activity/santa-claus-18/
LOCATION:406 W. Lockling Ave\, Brookfield\, MO 64628\, 406 West Lockling Avenue\, Brookfield\, Missouri\, 64628\, United States
CATEGORIES:Area Events
END:VEVENT
BEGIN:VEVENT
DTSTART;TZID=America/Chicago:20251129T110000
DTEND;TZID=America/Chicago:20251129T140000
DTSTAMP:20260422T233411
CREATED:20251216T060141Z
LAST-MODIFIED:20251216T060141Z
UID:35989-1764414000-1764424800@charitonbeacon.com
SUMMARY:Santa Claus
DESCRIPTION:Santa will be at Brookfield dollar tree this Saturday 11-29-25 from 11 am to 2 pm ..
URL:https://charitonbeacon.com/activity/santa-claus-17/
LOCATION:406 W. Lockling Ave\, Brookfield\, MO 64628\, 406 West Lockling Avenue\, Brookfield\, Missouri\, 64628\, United States
CATEGORIES:Area Events
END:VEVENT
BEGIN:VEVENT
DTSTART;TZID=America/Chicago:20251129T110000
DTEND;TZID=America/Chicago:20251129T140000
DTSTAMP:20260422T233412
CREATED:20251215T060143Z
LAST-MODIFIED:20251215T060143Z
UID:35961-1764414000-1764424800@charitonbeacon.com
SUMMARY:Santa Claus
DESCRIPTION:Santa will be at Brookfield dollar tree this Saturday 11-29-25 from 11 am to 2 pm ..
URL:https://charitonbeacon.com/activity/santa-claus-16/
LOCATION:406 W. Lockling Ave\, Brookfield\, MO 64628\, 406 West Lockling Avenue\, Brookfield\, Missouri\, 64628\, United States
CATEGORIES:Area Events
END:VEVENT
BEGIN:VEVENT
DTSTART;TZID=America/Chicago:20251129T110000
DTEND;TZID=America/Chicago:20251129T140000
DTSTAMP:20260422T233412
CREATED:20251214T060142Z
LAST-MODIFIED:20251214T060142Z
UID:35934-1764414000-1764424800@charitonbeacon.com
SUMMARY:Santa Claus
DESCRIPTION:Santa will be at Brookfield dollar tree this Saturday 11-29-25 from 11 am to 2 pm ..
URL:https://charitonbeacon.com/activity/santa-claus-15/
LOCATION:406 W. Lockling Ave\, Brookfield\, MO 64628\, 406 West Lockling Avenue\, Brookfield\, Missouri\, 64628\, United States
CATEGORIES:Area Events
END:VEVENT
BEGIN:VEVENT
DTSTART;TZID=America/Chicago:20251129T110000
DTEND;TZID=America/Chicago:20251129T140000
DTSTAMP:20260422T233412
CREATED:20251213T060148Z
LAST-MODIFIED:20251213T060148Z
UID:35909-1764414000-1764424800@charitonbeacon.com
SUMMARY:Santa Claus
DESCRIPTION:Santa will be at Brookfield dollar tree this Saturday 11-29-25 from 11 am to 2 pm ..
URL:https://charitonbeacon.com/activity/santa-claus-14/
LOCATION:406 W. Lockling Ave\, Brookfield\, MO 64628\, 406 West Lockling Avenue\, Brookfield\, Missouri\, 64628\, United States
CATEGORIES:Area Events
END:VEVENT
BEGIN:VEVENT
DTSTART;TZID=America/Chicago:20251129T110000
DTEND;TZID=America/Chicago:20251129T140000
DTSTAMP:20260422T233412
CREATED:20251212T060219Z
LAST-MODIFIED:20251212T060219Z
UID:35878-1764414000-1764424800@charitonbeacon.com
SUMMARY:Santa Claus
DESCRIPTION:Santa will be at Brookfield dollar tree this Saturday 11-29-25 from 11 am to 2 pm ..
URL:https://charitonbeacon.com/activity/santa-claus-13/
LOCATION:406 W. Lockling Ave\, Brookfield\, MO 64628\, 406 West Lockling Avenue\, Brookfield\, Missouri\, 64628\, United States
CATEGORIES:Area Events
END:VEVENT
BEGIN:VEVENT
DTSTART;TZID=America/Chicago:20251129T110000
DTEND;TZID=America/Chicago:20251129T140000
DTSTAMP:20260422T233412
CREATED:20251211T060200Z
LAST-MODIFIED:20251211T060200Z
UID:35775-1764414000-1764424800@charitonbeacon.com
SUMMARY:Santa Claus
DESCRIPTION:Santa will be at Brookfield dollar tree this Saturday 11-29-25 from 11 am to 2 pm ..
URL:https://charitonbeacon.com/activity/santa-claus-12/
LOCATION:406 W. Lockling Ave\, Brookfield\, MO 64628\, 406 West Lockling Avenue\, Brookfield\, Missouri\, 64628\, United States
CATEGORIES:Area Events
END:VEVENT
BEGIN:VEVENT
DTSTART;TZID=America/Chicago:20251129T110000
DTEND;TZID=America/Chicago:20251129T140000
DTSTAMP:20260422T233412
CREATED:20251210T060206Z
LAST-MODIFIED:20251210T060206Z
UID:35753-1764414000-1764424800@charitonbeacon.com
SUMMARY:Santa Claus
DESCRIPTION:Santa will be at Brookfield dollar tree this Saturday 11-29-25 from 11 am to 2 pm ..
URL:https://charitonbeacon.com/activity/santa-claus-11/
LOCATION:406 W. Lockling Ave\, Brookfield\, MO 64628\, 406 West Lockling Avenue\, Brookfield\, Missouri\, 64628\, United States
CATEGORIES:Area Events
END:VEVENT
BEGIN:VEVENT
DTSTART;TZID=America/Chicago:20251129T110000
DTEND;TZID=America/Chicago:20251129T140000
DTSTAMP:20260422T233412
CREATED:20251209T060139Z
LAST-MODIFIED:20251209T060139Z
UID:35691-1764414000-1764424800@charitonbeacon.com
SUMMARY:Santa Claus
DESCRIPTION:Santa will be at Brookfield dollar tree this Saturday 11-29-25 from 11 am to 2 pm ..
URL:https://charitonbeacon.com/activity/santa-claus-10/
LOCATION:406 W. Lockling Ave\, Brookfield\, MO 64628\, 406 West Lockling Avenue\, Brookfield\, Missouri\, 64628\, United States
CATEGORIES:Area Events
END:VEVENT
BEGIN:VEVENT
DTSTART;TZID=America/Chicago:20251129T110000
DTEND;TZID=America/Chicago:20251129T140000
DTSTAMP:20260422T233412
CREATED:20251208T060142Z
LAST-MODIFIED:20251208T060142Z
UID:35597-1764414000-1764424800@charitonbeacon.com
SUMMARY:Santa Claus
DESCRIPTION:Santa will be at Brookfield dollar tree this Saturday 11-29-25 from 11 am to 2 pm ..
URL:https://charitonbeacon.com/activity/santa-claus-9/
LOCATION:406 W. Lockling Ave\, Brookfield\, MO 64628\, 406 West Lockling Avenue\, Brookfield\, Missouri\, 64628\, United States
CATEGORIES:Area Events
END:VEVENT
BEGIN:VEVENT
DTSTART;TZID=America/Chicago:20251129T110000
DTEND;TZID=America/Chicago:20251129T140000
DTSTAMP:20260422T233412
CREATED:20251207T060147Z
LAST-MODIFIED:20251207T060147Z
UID:35516-1764414000-1764424800@charitonbeacon.com
SUMMARY:Santa Claus
DESCRIPTION:Santa will be at Brookfield dollar tree this Saturday 11-29-25 from 11 am to 2 pm ..
URL:https://charitonbeacon.com/activity/santa-claus-8/
LOCATION:406 W. Lockling Ave\, Brookfield\, MO 64628\, 406 West Lockling Avenue\, Brookfield\, Missouri\, 64628\, United States
CATEGORIES:Area Events
END:VEVENT
BEGIN:VEVENT
DTSTART;TZID=America/Chicago:20251129T110000
DTEND;TZID=America/Chicago:20251129T140000
DTSTAMP:20260422T233412
CREATED:20251205T060131Z
LAST-MODIFIED:20251205T060131Z
UID:35361-1764414000-1764424800@charitonbeacon.com
SUMMARY:Santa Claus
DESCRIPTION:Santa will be at Brookfield dollar tree this Saturday 11-29-25 from 11 am to 2 pm ..
URL:https://charitonbeacon.com/activity/santa-claus-7/
LOCATION:406 W. Lockling Ave\, Brookfield\, MO 64628\, 406 West Lockling Avenue\, Brookfield\, Missouri\, 64628\, United States
CATEGORIES:Area Events
END:VEVENT
BEGIN:VEVENT
DTSTART;TZID=America/Chicago:20251129T110000
DTEND;TZID=America/Chicago:20251129T140000
DTSTAMP:20260422T233412
CREATED:20251204T060217Z
LAST-MODIFIED:20251204T060217Z
UID:35275-1764414000-1764424800@charitonbeacon.com
SUMMARY:Santa Claus
DESCRIPTION:Santa will be at Brookfield dollar tree this Saturday 11-29-25 from 11 am to 2 pm ..
URL:https://charitonbeacon.com/activity/santa-claus-6/
LOCATION:406 W. Lockling Ave\, Brookfield\, MO 64628\, 406 West Lockling Avenue\, Brookfield\, Missouri\, 64628\, United States
CATEGORIES:Area Events
END:VEVENT
BEGIN:VEVENT
DTSTART;TZID=America/Chicago:20251129T110000
DTEND;TZID=America/Chicago:20251129T140000
DTSTAMP:20260422T233412
CREATED:20251203T060143Z
LAST-MODIFIED:20251203T060143Z
UID:35179-1764414000-1764424800@charitonbeacon.com
SUMMARY:Santa Claus
DESCRIPTION:Santa will be at Brookfield dollar tree this Saturday 11-29-25 from 11 am to 2 pm ..
URL:https://charitonbeacon.com/activity/santa-claus-5/
LOCATION:406 W. Lockling Ave\, Brookfield\, MO 64628\, 406 West Lockling Avenue\, Brookfield\, Missouri\, 64628\, United States
CATEGORIES:Area Events
END:VEVENT
BEGIN:VEVENT
DTSTART;TZID=America/Chicago:20251129T110000
DTEND;TZID=America/Chicago:20251129T140000
DTSTAMP:20260422T233412
CREATED:20251202T060140Z
LAST-MODIFIED:20251202T060140Z
UID:35096-1764414000-1764424800@charitonbeacon.com
SUMMARY:Santa Claus
DESCRIPTION:Santa will be at Brookfield dollar tree this Saturday 11-29-25 from 11 am to 2 pm ..
URL:https://charitonbeacon.com/activity/santa-claus-4/
LOCATION:406 W. Lockling Ave\, Brookfield\, MO 64628\, 406 West Lockling Avenue\, Brookfield\, Missouri\, 64628\, United States
CATEGORIES:Area Events
END:VEVENT
BEGIN:VEVENT
DTSTART;TZID=America/Chicago:20251129T110000
DTEND;TZID=America/Chicago:20251129T140000
DTSTAMP:20260422T233412
CREATED:20251201T060142Z
LAST-MODIFIED:20251201T060142Z
UID:34969-1764414000-1764424800@charitonbeacon.com
SUMMARY:Santa Claus
DESCRIPTION:Santa will be at Brookfield dollar tree this Saturday 11-29-25 from 11 am to 2 pm ..
URL:https://charitonbeacon.com/activity/santa-claus-3/
LOCATION:406 W. Lockling Ave\, Brookfield\, MO 64628\, 406 West Lockling Avenue\, Brookfield\, Missouri\, 64628\, United States
CATEGORIES:Area Events
END:VEVENT
BEGIN:VEVENT
DTSTART;TZID=America/Chicago:20251129T110000
DTEND;TZID=America/Chicago:20251129T140000
DTSTAMP:20260422T233412
CREATED:20251130T060211Z
LAST-MODIFIED:20251130T060211Z
UID:34865-1764414000-1764424800@charitonbeacon.com
SUMMARY:Santa Claus
DESCRIPTION:Santa will be at Brookfield dollar tree this Saturday 11-29-25 from 11 am to 2 pm ..
URL:https://charitonbeacon.com/activity/santa-claus-2/
LOCATION:406 W. Lockling Ave\, Brookfield\, MO 64628\, 406 West Lockling Avenue\, Brookfield\, Missouri\, 64628\, United States
CATEGORIES:Area Events
END:VEVENT
BEGIN:VEVENT
DTSTART;TZID=America/Chicago:20251129T110000
DTEND;TZID=America/Chicago:20251129T140000
DTSTAMP:20260422T233412
CREATED:20251126T060146Z
LAST-MODIFIED:20251129T060137Z
UID:34527-1764414000-1764424800@charitonbeacon.com
SUMMARY:Santa Claus
DESCRIPTION:Santa will be at Brookfield dollar tree this Saturday 11-29-25 from 11 am to 2 pm ..
URL:https://charitonbeacon.com/activity/santa-claus/
LOCATION:406 W. Lockling Ave\, Brookfield\, MO 64628\, 406 West Lockling Avenue\, Brookfield\, Missouri\, 64628\, United States
CATEGORIES:Area Events
END:VEVENT
BEGIN:VEVENT
DTSTART;TZID=America/Chicago:20251129T100000
DTEND;TZID=America/Chicago:20251129T170000
DTSTAMP:20260422T233412
CREATED:20251231T060144Z
LAST-MODIFIED:20251231T060144Z
UID:36511-1764410400-1764435600@charitonbeacon.com
SUMMARY:Holiday Craft Frenzy 2025
DESCRIPTION:Annual indoor\, handmade or repurposed craft show in conjunction with Marceline’s Peanut Night festivities.  \nBooth spaces are 10’ x 10’ for $25 or 5’ x 8’ for $15 with an additional $5 for electricity\, if needed. We provide two tables for the large space and one table for smaller spaces. Chairs are also provided. \nConcession stand with homemade food and snacks open throughout the show.  \nThe ONLY contacts for this event are: Brandi Stuart littlestu85@hotmail.com or 816-752-6853 OR Kathi Stuart klsmarcmo@yahoo.com or 660-413-7278. Do not respond to others claiming to be with this show!
URL:https://charitonbeacon.com/activity/holiday-craft-frenzy-2025-31/
LOCATION:Walsworth Community Center\, 124 E Ritchie Ave\, Marceline\, MO 64658\, United States\, 124 East Ritchie Avenue\, Marceline\, Missouri\, 64658\, United States
CATEGORIES:Area Events
END:VEVENT
BEGIN:VEVENT
DTSTART;TZID=America/Chicago:20251129T100000
DTEND;TZID=America/Chicago:20251129T170000
DTSTAMP:20260422T233412
CREATED:20251230T060135Z
LAST-MODIFIED:20251230T060135Z
UID:36406-1764410400-1764435600@charitonbeacon.com
SUMMARY:Holiday Craft Frenzy 2025
DESCRIPTION:Annual indoor\, handmade or repurposed craft show in conjunction with Marceline’s Peanut Night festivities.  \nBooth spaces are 10’ x 10’ for $25 or 5’ x 8’ for $15 with an additional $5 for electricity\, if needed. We provide two tables for the large space and one table for smaller spaces. Chairs are also provided. \nConcession stand with homemade food and snacks open throughout the show.  \nThe ONLY contacts for this event are: Brandi Stuart littlestu85@hotmail.com or 816-752-6853 OR Kathi Stuart klsmarcmo@yahoo.com or 660-413-7278. Do not respond to others claiming to be with this show!
URL:https://charitonbeacon.com/activity/holiday-craft-frenzy-2025-30/
LOCATION:Walsworth Community Center\, 124 E Ritchie Ave\, Marceline\, MO 64658\, United States\, 124 East Ritchie Avenue\, Marceline\, Missouri\, 64658\, United States
CATEGORIES:Area Events
END:VEVENT
BEGIN:VEVENT
DTSTART;TZID=America/Chicago:20251129T100000
DTEND;TZID=America/Chicago:20251129T170000
DTSTAMP:20260422T233412
CREATED:20251229T060137Z
LAST-MODIFIED:20251229T060137Z
UID:36381-1764410400-1764435600@charitonbeacon.com
SUMMARY:Holiday Craft Frenzy 2025
DESCRIPTION:Annual indoor\, handmade or repurposed craft show in conjunction with Marceline’s Peanut Night festivities.  \nBooth spaces are 10’ x 10’ for $25 or 5’ x 8’ for $15 with an additional $5 for electricity\, if needed. We provide two tables for the large space and one table for smaller spaces. Chairs are also provided. \nConcession stand with homemade food and snacks open throughout the show.  \nThe ONLY contacts for this event are: Brandi Stuart littlestu85@hotmail.com or 816-752-6853 OR Kathi Stuart klsmarcmo@yahoo.com or 660-413-7278. Do not respond to others claiming to be with this show!
URL:https://charitonbeacon.com/activity/holiday-craft-frenzy-2025-29/
LOCATION:Walsworth Community Center\, 124 E Ritchie Ave\, Marceline\, MO 64658\, United States\, 124 East Ritchie Avenue\, Marceline\, Missouri\, 64658\, United States
CATEGORIES:Area Events
END:VEVENT
BEGIN:VEVENT
DTSTART;TZID=America/Chicago:20251129T100000
DTEND;TZID=America/Chicago:20251129T170000
DTSTAMP:20260422T233412
CREATED:20251228T060135Z
LAST-MODIFIED:20251228T060135Z
UID:36354-1764410400-1764435600@charitonbeacon.com
SUMMARY:Holiday Craft Frenzy 2025
DESCRIPTION:Annual indoor\, handmade or repurposed craft show in conjunction with Marceline’s Peanut Night festivities.  \nBooth spaces are 10’ x 10’ for $25 or 5’ x 8’ for $15 with an additional $5 for electricity\, if needed. We provide two tables for the large space and one table for smaller spaces. Chairs are also provided. \nConcession stand with homemade food and snacks open throughout the show.  \nThe ONLY contacts for this event are: Brandi Stuart littlestu85@hotmail.com or 816-752-6853 OR Kathi Stuart klsmarcmo@yahoo.com or 660-413-7278. Do not respond to others claiming to be with this show!
URL:https://charitonbeacon.com/activity/holiday-craft-frenzy-2025-28/
LOCATION:Walsworth Community Center\, 124 E Ritchie Ave\, Marceline\, MO 64658\, United States\, 124 East Ritchie Avenue\, Marceline\, Missouri\, 64658\, United States
CATEGORIES:Area Events
END:VEVENT
BEGIN:VEVENT
DTSTART;TZID=America/Chicago:20251129T100000
DTEND;TZID=America/Chicago:20251129T170000
DTSTAMP:20260422T233412
CREATED:20251227T060139Z
LAST-MODIFIED:20251227T060139Z
UID:36328-1764410400-1764435600@charitonbeacon.com
SUMMARY:Holiday Craft Frenzy 2025
DESCRIPTION:Annual indoor\, handmade or repurposed craft show in conjunction with Marceline’s Peanut Night festivities.  \nBooth spaces are 10’ x 10’ for $25 or 5’ x 8’ for $15 with an additional $5 for electricity\, if needed. We provide two tables for the large space and one table for smaller spaces. Chairs are also provided. \nConcession stand with homemade food and snacks open throughout the show.  \nThe ONLY contacts for this event are: Brandi Stuart littlestu85@hotmail.com or 816-752-6853 OR Kathi Stuart klsmarcmo@yahoo.com or 660-413-7278. Do not respond to others claiming to be with this show!
URL:https://charitonbeacon.com/activity/holiday-craft-frenzy-2025-27/
LOCATION:Walsworth Community Center\, 124 E Ritchie Ave\, Marceline\, MO 64658\, United States\, 124 East Ritchie Avenue\, Marceline\, Missouri\, 64658\, United States
CATEGORIES:Area Events
END:VEVENT
BEGIN:VEVENT
DTSTART;TZID=America/Chicago:20251129T100000
DTEND;TZID=America/Chicago:20251129T170000
DTSTAMP:20260422T233412
CREATED:20251226T060146Z
LAST-MODIFIED:20251226T060146Z
UID:36303-1764410400-1764435600@charitonbeacon.com
SUMMARY:Holiday Craft Frenzy 2025
DESCRIPTION:Annual indoor\, handmade or repurposed craft show in conjunction with Marceline’s Peanut Night festivities.  \nBooth spaces are 10’ x 10’ for $25 or 5’ x 8’ for $15 with an additional $5 for electricity\, if needed. We provide two tables for the large space and one table for smaller spaces. Chairs are also provided. \nConcession stand with homemade food and snacks open throughout the show.  \nThe ONLY contacts for this event are: Brandi Stuart littlestu85@hotmail.com or 816-752-6853 OR Kathi Stuart klsmarcmo@yahoo.com or 660-413-7278. Do not respond to others claiming to be with this show!
URL:https://charitonbeacon.com/activity/holiday-craft-frenzy-2025-26/
LOCATION:Walsworth Community Center\, 124 E Ritchie Ave\, Marceline\, MO 64658\, United States\, 124 East Ritchie Avenue\, Marceline\, Missouri\, 64658\, United States
CATEGORIES:Area Events
END:VEVENT
BEGIN:VEVENT
DTSTART;TZID=America/Chicago:20251129T100000
DTEND;TZID=America/Chicago:20251129T170000
DTSTAMP:20260422T233412
CREATED:20251225T060151Z
LAST-MODIFIED:20251225T060151Z
UID:36276-1764410400-1764435600@charitonbeacon.com
SUMMARY:Holiday Craft Frenzy 2025
DESCRIPTION:Annual indoor\, handmade or repurposed craft show in conjunction with Marceline’s Peanut Night festivities.  \nBooth spaces are 10’ x 10’ for $25 or 5’ x 8’ for $15 with an additional $5 for electricity\, if needed. We provide two tables for the large space and one table for smaller spaces. Chairs are also provided. \nConcession stand with homemade food and snacks open throughout the show.  \nThe ONLY contacts for this event are: Brandi Stuart littlestu85@hotmail.com or 816-752-6853 OR Kathi Stuart klsmarcmo@yahoo.com or 660-413-7278. Do not respond to others claiming to be with this show!
URL:https://charitonbeacon.com/activity/holiday-craft-frenzy-2025-25/
LOCATION:Walsworth Community Center\, 124 E Ritchie Ave\, Marceline\, MO 64658\, United States\, 124 East Ritchie Avenue\, Marceline\, Missouri\, 64658\, United States
CATEGORIES:Area Events
END:VEVENT
BEGIN:VEVENT
DTSTART;TZID=America/Chicago:20251129T100000
DTEND;TZID=America/Chicago:20251129T170000
DTSTAMP:20260422T233412
CREATED:20251224T060146Z
LAST-MODIFIED:20251224T060146Z
UID:36238-1764410400-1764435600@charitonbeacon.com
SUMMARY:Holiday Craft Frenzy 2025
DESCRIPTION:Annual indoor\, handmade or repurposed craft show in conjunction with Marceline’s Peanut Night festivities.  \nBooth spaces are 10’ x 10’ for $25 or 5’ x 8’ for $15 with an additional $5 for electricity\, if needed. We provide two tables for the large space and one table for smaller spaces. Chairs are also provided. \nConcession stand with homemade food and snacks open throughout the show.  \nThe ONLY contacts for this event are: Brandi Stuart littlestu85@hotmail.com or 816-752-6853 OR Kathi Stuart klsmarcmo@yahoo.com or 660-413-7278. Do not respond to others claiming to be with this show!
URL:https://charitonbeacon.com/activity/holiday-craft-frenzy-2025-24/
LOCATION:Walsworth Community Center\, 124 E Ritchie Ave\, Marceline\, MO 64658\, United States\, 124 East Ritchie Avenue\, Marceline\, Missouri\, 64658\, United States
CATEGORIES:Area Events
END:VEVENT
BEGIN:VEVENT
DTSTART;TZID=America/Chicago:20251129T100000
DTEND;TZID=America/Chicago:20251129T170000
DTSTAMP:20260422T233412
CREATED:20251223T060147Z
LAST-MODIFIED:20251223T060147Z
UID:36200-1764410400-1764435600@charitonbeacon.com
SUMMARY:Holiday Craft Frenzy 2025
DESCRIPTION:Annual indoor\, handmade or repurposed craft show in conjunction with Marceline’s Peanut Night festivities.  \nBooth spaces are 10’ x 10’ for $25 or 5’ x 8’ for $15 with an additional $5 for electricity\, if needed. We provide two tables for the large space and one table for smaller spaces. Chairs are also provided. \nConcession stand with homemade food and snacks open throughout the show.  \nThe ONLY contacts for this event are: Brandi Stuart littlestu85@hotmail.com or 816-752-6853 OR Kathi Stuart klsmarcmo@yahoo.com or 660-413-7278. Do not respond to others claiming to be with this show!
URL:https://charitonbeacon.com/activity/holiday-craft-frenzy-2025-23/
LOCATION:Walsworth Community Center\, 124 E Ritchie Ave\, Marceline\, MO 64658\, United States\, 124 East Ritchie Avenue\, Marceline\, Missouri\, 64658\, United States
CATEGORIES:Area Events
END:VEVENT
BEGIN:VEVENT
DTSTART;TZID=America/Chicago:20251129T100000
DTEND;TZID=America/Chicago:20251129T170000
DTSTAMP:20260422T233412
CREATED:20251222T060154Z
LAST-MODIFIED:20251222T060154Z
UID:36172-1764410400-1764435600@charitonbeacon.com
SUMMARY:Holiday Craft Frenzy 2025
DESCRIPTION:Annual indoor\, handmade or repurposed craft show in conjunction with Marceline’s Peanut Night festivities.  \nBooth spaces are 10’ x 10’ for $25 or 5’ x 8’ for $15 with an additional $5 for electricity\, if needed. We provide two tables for the large space and one table for smaller spaces. Chairs are also provided. \nConcession stand with homemade food and snacks open throughout the show.  \nThe ONLY contacts for this event are: Brandi Stuart littlestu85@hotmail.com or 816-752-6853 OR Kathi Stuart klsmarcmo@yahoo.com or 660-413-7278. Do not respond to others claiming to be with this show!
URL:https://charitonbeacon.com/activity/holiday-craft-frenzy-2025-22/
LOCATION:Walsworth Community Center\, 124 E Ritchie Ave\, Marceline\, MO 64658\, United States\, 124 East Ritchie Avenue\, Marceline\, Missouri\, 64658\, United States
CATEGORIES:Area Events
END:VEVENT
BEGIN:VEVENT
DTSTART;TZID=America/Chicago:20251129T100000
DTEND;TZID=America/Chicago:20251129T170000
DTSTAMP:20260422T233412
CREATED:20251221T060154Z
LAST-MODIFIED:20251221T060154Z
UID:36143-1764410400-1764435600@charitonbeacon.com
SUMMARY:Holiday Craft Frenzy 2025
DESCRIPTION:Annual indoor\, handmade or repurposed craft show in conjunction with Marceline’s Peanut Night festivities.  \nBooth spaces are 10’ x 10’ for $25 or 5’ x 8’ for $15 with an additional $5 for electricity\, if needed. We provide two tables for the large space and one table for smaller spaces. Chairs are also provided. \nConcession stand with homemade food and snacks open throughout the show.  \nThe ONLY contacts for this event are: Brandi Stuart littlestu85@hotmail.com or 816-752-6853 OR Kathi Stuart klsmarcmo@yahoo.com or 660-413-7278. Do not respond to others claiming to be with this show!
URL:https://charitonbeacon.com/activity/holiday-craft-frenzy-2025-21/
LOCATION:Walsworth Community Center\, 124 E Ritchie Ave\, Marceline\, MO 64658\, United States\, 124 East Ritchie Avenue\, Marceline\, Missouri\, 64658\, United States
CATEGORIES:Area Events
END:VEVENT
END:VCALENDAR