BEGIN:VCALENDAR
VERSION:2.0
PRODID:-//The Chariton Beacon - ECPv6.15.20//NONSGML v1.0//EN
CALSCALE:GREGORIAN
METHOD:PUBLISH
X-ORIGINAL-URL:https://charitonbeacon.com
X-WR-CALDESC:Events for The Chariton Beacon
REFRESH-INTERVAL;VALUE=DURATION:PT1H
X-Robots-Tag:noindex
X-PUBLISHED-TTL:PT1H
BEGIN:VTIMEZONE
TZID:America/Chicago
BEGIN:DAYLIGHT
TZOFFSETFROM:-0600
TZOFFSETTO:-0500
TZNAME:CDT
DTSTART:20240310T080000
END:DAYLIGHT
BEGIN:STANDARD
TZOFFSETFROM:-0500
TZOFFSETTO:-0600
TZNAME:CST
DTSTART:20241103T070000
END:STANDARD
BEGIN:DAYLIGHT
TZOFFSETFROM:-0600
TZOFFSETTO:-0500
TZNAME:CDT
DTSTART:20250309T080000
END:DAYLIGHT
BEGIN:STANDARD
TZOFFSETFROM:-0500
TZOFFSETTO:-0600
TZNAME:CST
DTSTART:20251102T070000
END:STANDARD
BEGIN:DAYLIGHT
TZOFFSETFROM:-0600
TZOFFSETTO:-0500
TZNAME:CDT
DTSTART:20260308T080000
END:DAYLIGHT
BEGIN:STANDARD
TZOFFSETFROM:-0500
TZOFFSETTO:-0600
TZNAME:CST
DTSTART:20261101T070000
END:STANDARD
END:VTIMEZONE
BEGIN:VEVENT
DTSTART;TZID=America/Chicago:20251111T140000
DTEND;TZID=America/Chicago:20251111T150000
DTSTAMP:20260422T035906
CREATED:20251022T210009Z
LAST-MODIFIED:20251022T210009Z
UID:31263-1762869600-1762873200@charitonbeacon.com
SUMMARY:Veterans Day Assembly
DESCRIPTION:
URL:https://charitonbeacon.com/activity/veterans-day-assembly-2/
CATEGORIES:Keytesville R-3
END:VEVENT
BEGIN:VEVENT
DTSTART;TZID=America/Chicago:20251110T180000
DTEND;TZID=America/Chicago:20251110T200000
DTSTAMP:20260422T035906
CREATED:20250511T130003Z
LAST-MODIFIED:20251015T210007Z
UID:15830-1762797600-1762804800@charitonbeacon.com
SUMMARY:Monthly Board of Education Meeting
DESCRIPTION:Attendance – (District main\, “Modules”\, attendance\,“Daily attendance”\, Overall stats) \n·        ELEM YTD attendance was 93.2% (94.)(87 students)   \n·        HS YTD Attendance was (89.9) 90.2  (58students) \n·        Overall district attendance 91.8%
URL:https://charitonbeacon.com/activity/monthly-board-of-education-meeting-11/
CATEGORIES:Keytesville R-3
END:VEVENT
BEGIN:VEVENT
DTSTART;TZID=America/Chicago:20251110T180000
DTEND;TZID=America/Chicago:20251110T190000
DTSTAMP:20260422T035906
CREATED:20250511T130003Z
LAST-MODIFIED:20250511T130003Z
UID:15831-1762797600-1762801200@charitonbeacon.com
SUMMARY:JH BB @ Tina Avalon
DESCRIPTION:
URL:https://charitonbeacon.com/activity/jh-bb-tina-avalon/
CATEGORIES:Keytesville R-3
END:VEVENT
BEGIN:VEVENT
DTSTART;TZID=America/Chicago:20251107T180000
DTEND;TZID=America/Chicago:20251107T190000
DTSTAMP:20260422T035906
CREATED:20250508T130003Z
LAST-MODIFIED:20250508T130003Z
UID:15585-1762538400-1762542000@charitonbeacon.com
SUMMARY:JH BB @ Mendon
DESCRIPTION:
URL:https://charitonbeacon.com/activity/jh-bb-mendon/
CATEGORIES:Keytesville R-3
END:VEVENT
BEGIN:VEVENT
DTSTART;TZID=America/Chicago:20251106T180000
DTEND;TZID=America/Chicago:20251106T190000
DTSTAMP:20260422T035906
CREATED:20250507T130004Z
LAST-MODIFIED:20250507T130004Z
UID:15502-1762452000-1762455600@charitonbeacon.com
SUMMARY:JH BB vs Renick
DESCRIPTION:
URL:https://charitonbeacon.com/activity/jh-bb-vs-renick/
CATEGORIES:Keytesville R-3
END:VEVENT
BEGIN:VEVENT
DTSTART;VALUE=DATE:20251105
DTEND;VALUE=DATE:20251106
DTSTAMP:20260422T035906
CREATED:20250912T210007Z
LAST-MODIFIED:20250912T210007Z
UID:27149-1762300800-1762387199@charitonbeacon.com
SUMMARY:Thunder HS Softball Banquet
DESCRIPTION:
URL:https://charitonbeacon.com/activity/thunder-hs-softball-banquet/
CATEGORIES:Keytesville R-3
END:VEVENT
BEGIN:VEVENT
DTSTART;VALUE=DATE:20251105
DTEND;VALUE=DATE:20251106
DTSTAMP:20260422T035906
CREATED:20250903T210011Z
LAST-MODIFIED:20250903T210011Z
UID:26101-1762300800-1762387199@charitonbeacon.com
SUMMARY:Flu Vaccinations
DESCRIPTION:
URL:https://charitonbeacon.com/activity/flu-vaccinations/
CATEGORIES:Keytesville R-3
END:VEVENT
BEGIN:VEVENT
DTSTART;TZID=America/Chicago:20251103T170000
DTEND;TZID=America/Chicago:20251103T180000
DTSTAMP:20260422T035906
CREATED:20250912T210007Z
LAST-MODIFIED:20250912T210007Z
UID:27148-1762189200-1762192800@charitonbeacon.com
SUMMARY:JH Basketball @ Schuyler Co
DESCRIPTION:
URL:https://charitonbeacon.com/activity/jh-basketball-schuyler-co/
CATEGORIES:Keytesville R-3
END:VEVENT
BEGIN:VEVENT
DTSTART;VALUE=DATE:20251031
DTEND;VALUE=DATE:20251101
DTSTAMP:20260422T035906
CREATED:20250501T130004Z
LAST-MODIFIED:20250501T130004Z
UID:15010-1761868800-1761955199@charitonbeacon.com
SUMMARY:Varsity Football Districts
DESCRIPTION:
URL:https://charitonbeacon.com/activity/varsity-football-districts/
CATEGORIES:Keytesville R-3
END:VEVENT
BEGIN:VEVENT
DTSTART;TZID=America/Chicago:20251030T170000
DTEND;TZID=America/Chicago:20251030T180000
DTSTAMP:20260422T035906
CREATED:20250501T130004Z
LAST-MODIFIED:20251022T210009Z
UID:15009-1761843600-1761847200@charitonbeacon.com
SUMMARY:JH BB @ Orrick
DESCRIPTION:
URL:https://charitonbeacon.com/activity/jh-bb-orrick/
CATEGORIES:Keytesville R-3
END:VEVENT
BEGIN:VEVENT
DTSTART;TZID=America/Chicago:20251029T180000
DTEND;TZID=America/Chicago:20251029T190000
DTSTAMP:20260422T035906
CREATED:20250430T130004Z
LAST-MODIFIED:20250430T130004Z
UID:14909-1761760800-1761764400@charitonbeacon.com
SUMMARY:JH BB vs Higbee
DESCRIPTION:
URL:https://charitonbeacon.com/activity/jh-bb-vs-higbee/
CATEGORIES:Keytesville R-3
END:VEVENT
BEGIN:VEVENT
DTSTART;VALUE=DATE:20251029
DTEND;VALUE=DATE:20251102
DTSTAMP:20260422T035906
CREATED:20250820T210009Z
LAST-MODIFIED:20250911T210008Z
UID:25142-1761696000-1762041599@charitonbeacon.com
SUMMARY:National FFA Convention
DESCRIPTION:
URL:https://charitonbeacon.com/activity/national-ffa-convention-2/
CATEGORIES:Keytesville R-3
END:VEVENT
BEGIN:VEVENT
DTSTART;TZID=America/Chicago:20251027T180000
DTEND;TZID=America/Chicago:20251027T190000
DTSTAMP:20260422T035906
CREATED:20250428T130003Z
LAST-MODIFIED:20250428T130003Z
UID:14721-1761588000-1761591600@charitonbeacon.com
SUMMARY:JH BB vs Braymer
DESCRIPTION:
URL:https://charitonbeacon.com/activity/jh-bb-vs-braymer/
CATEGORIES:Keytesville R-3
END:VEVENT
BEGIN:VEVENT
DTSTART;TZID=America/Chicago:20251027T130000
DTEND;TZID=America/Chicago:20251027T160000
DTSTAMP:20260422T035906
CREATED:20250829T210008Z
LAST-MODIFIED:20250829T210008Z
UID:25687-1761570000-1761580800@charitonbeacon.com
SUMMARY:BOO! Grams Prep Day
DESCRIPTION:
URL:https://charitonbeacon.com/activity/boo-grams-prep-day/
CATEGORIES:Keytesville R-3
END:VEVENT
BEGIN:VEVENT
DTSTART;VALUE=DATE:20251024
DTEND;VALUE=DATE:20251025
DTSTAMP:20260422T035906
CREATED:20250519T210007Z
LAST-MODIFIED:20250519T210007Z
UID:16599-1761264000-1761350399@charitonbeacon.com
SUMMARY:NO SCHOOL
DESCRIPTION:
URL:https://charitonbeacon.com/activity/no-school-9/
CATEGORIES:Keytesville R-3
END:VEVENT
BEGIN:VEVENT
DTSTART;TZID=America/Chicago:20251023T133000
DTEND;TZID=America/Chicago:20251023T180000
DTSTAMP:20260422T035906
CREATED:20250519T210007Z
LAST-MODIFIED:20250519T210007Z
UID:16598-1761226200-1761242400@charitonbeacon.com
SUMMARY:Parent Teacher Conferences
DESCRIPTION:
URL:https://charitonbeacon.com/activity/parent-teacher-conferences-3/
CATEGORIES:Keytesville R-3
END:VEVENT
BEGIN:VEVENT
DTSTART;TZID=America/Chicago:20251023T090000
DTEND;TZID=America/Chicago:20251023T110000
DTSTAMP:20260422T035906
CREATED:20250923T210006Z
LAST-MODIFIED:20250923T210006Z
UID:28249-1761210000-1761217200@charitonbeacon.com
SUMMARY:Special Persons Day
DESCRIPTION:
URL:https://charitonbeacon.com/activity/special-persons-day/
CATEGORIES:Keytesville R-3
END:VEVENT
BEGIN:VEVENT
DTSTART;VALUE=DATE:20251023
DTEND;VALUE=DATE:20251024
DTSTAMP:20260422T035906
CREATED:20250519T210006Z
LAST-MODIFIED:20251020T050008Z
UID:16597-1761177600-1761263999@charitonbeacon.com
SUMMARY:Early Out (12:30 p.m)
DESCRIPTION:
URL:https://charitonbeacon.com/activity/early-out-1230-p-m/
CATEGORIES:Keytesville R-3
END:VEVENT
BEGIN:VEVENT
DTSTART;VALUE=DATE:20251022
DTEND;VALUE=DATE:20251029
DTSTAMP:20260422T035906
CREATED:20250917T210007Z
LAST-MODIFIED:20250917T210007Z
UID:27665-1761091200-1761695999@charitonbeacon.com
SUMMARY:Book Fair
DESCRIPTION:
URL:https://charitonbeacon.com/activity/book-fair/
CATEGORIES:Keytesville R-3
END:VEVENT
BEGIN:VEVENT
DTSTART;VALUE=DATE:20251020
DTEND;VALUE=DATE:20251026
DTSTAMP:20260422T035906
CREATED:20250420T210003Z
LAST-MODIFIED:20250420T210003Z
UID:14057-1760918400-1761436799@charitonbeacon.com
SUMMARY:JH BB CLAA Tournament @ Hale
DESCRIPTION:
URL:https://charitonbeacon.com/activity/jh-bb-claa-tournament-hale/
CATEGORIES:Keytesville R-3
END:VEVENT
BEGIN:VEVENT
DTSTART;VALUE=DATE:20251020
DTEND;VALUE=DATE:20251021
DTSTAMP:20260422T035906
CREATED:20250519T210006Z
LAST-MODIFIED:20250519T210006Z
UID:16596-1760918400-1761004799@charitonbeacon.com
SUMMARY:SCHOOL IN SESSION
DESCRIPTION:
URL:https://charitonbeacon.com/activity/school-in-session-4/
CATEGORIES:Keytesville R-3
END:VEVENT
END:VCALENDAR