BEGIN:VCALENDAR
VERSION:2.0
PRODID:-//The Chariton Beacon - ECPv6.15.20//NONSGML v1.0//EN
CALSCALE:GREGORIAN
METHOD:PUBLISH
X-WR-CALNAME:The Chariton Beacon
X-ORIGINAL-URL:https://charitonbeacon.com
X-WR-CALDESC:Events for The Chariton Beacon
REFRESH-INTERVAL;VALUE=DURATION:PT1H
X-Robots-Tag:noindex
X-PUBLISHED-TTL:PT1H
BEGIN:VTIMEZONE
TZID:America/Chicago
BEGIN:DAYLIGHT
TZOFFSETFROM:-0600
TZOFFSETTO:-0500
TZNAME:CDT
DTSTART:20250309T080000
END:DAYLIGHT
BEGIN:STANDARD
TZOFFSETFROM:-0500
TZOFFSETTO:-0600
TZNAME:CST
DTSTART:20251102T070000
END:STANDARD
BEGIN:DAYLIGHT
TZOFFSETFROM:-0600
TZOFFSETTO:-0500
TZNAME:CDT
DTSTART:20260308T080000
END:DAYLIGHT
BEGIN:STANDARD
TZOFFSETFROM:-0500
TZOFFSETTO:-0600
TZNAME:CST
DTSTART:20261101T070000
END:STANDARD
BEGIN:DAYLIGHT
TZOFFSETFROM:-0600
TZOFFSETTO:-0500
TZNAME:CDT
DTSTART:20270314T080000
END:DAYLIGHT
BEGIN:STANDARD
TZOFFSETFROM:-0500
TZOFFSETTO:-0600
TZNAME:CST
DTSTART:20271107T070000
END:STANDARD
END:VTIMEZONE
BEGIN:VEVENT
DTSTART;TZID=America/Chicago:20260329T173000
DTEND;TZID=America/Chicago:20260329T183000
DTSTAMP:20260421T111120
CREATED:20260312T210013Z
LAST-MODIFIED:20260312T210013Z
UID:41061-1774805400-1774809000@charitonbeacon.com
SUMMARY:JH/HS Thunder Cheer Meeting
DESCRIPTION:
URL:https://charitonbeacon.com/activity/jh-hs-thunder-cheer-meeting/
CATEGORIES:Keytesville R-3
END:VEVENT
BEGIN:VEVENT
DTSTART;VALUE=DATE:20260328
DTEND;VALUE=DATE:20260329
DTSTAMP:20260421T111120
CREATED:20260303T220010Z
LAST-MODIFIED:20260303T220010Z
UID:40378-1774656000-1774742399@charitonbeacon.com
SUMMARY:HS Baseball @ Home (CLAA Tourney)
DESCRIPTION:
URL:https://charitonbeacon.com/activity/hs-baseball-home-claa-tourney/
CATEGORIES:Keytesville R-3
END:VEVENT
BEGIN:VEVENT
DTSTART;TZID=America/Chicago:20260327T180000
DTEND;TZID=America/Chicago:20260327T190000
DTSTAMP:20260421T111120
CREATED:20260219T220031Z
LAST-MODIFIED:20260219T220031Z
UID:39553-1774634400-1774638000@charitonbeacon.com
SUMMARY:Chamber Movie Night
DESCRIPTION:
URL:https://charitonbeacon.com/activity/chamber-movie-night/
CATEGORIES:Keytesville R-3
END:VEVENT
BEGIN:VEVENT
DTSTART;TZID=America/Chicago:20260327T073000
DTEND;TZID=America/Chicago:20260327T150000
DTSTAMP:20260421T111120
CREATED:20260227T220006Z
LAST-MODIFIED:20260227T220006Z
UID:40096-1774596600-1774623600@charitonbeacon.com
SUMMARY:FCCLA Service Trip to Ronald McDonald House
DESCRIPTION:
URL:https://charitonbeacon.com/activity/fccla-service-trip-to-ronald-mcdonald-house/
CATEGORIES:Keytesville R-3
END:VEVENT
BEGIN:VEVENT
DTSTART;VALUE=DATE:20260327
DTEND;VALUE=DATE:20260328
DTSTAMP:20260421T111120
CREATED:20260318T210014Z
LAST-MODIFIED:20260318T210014Z
UID:41465-1774569600-1774655999@charitonbeacon.com
SUMMARY:Spring Pictures
DESCRIPTION:
URL:https://charitonbeacon.com/activity/spring-pictures/
CATEGORIES:Keytesville R-3
END:VEVENT
BEGIN:VEVENT
DTSTART;TZID=America/Chicago:20260326T160000
DTEND;TZID=America/Chicago:20260326T170000
DTSTAMP:20260421T111120
CREATED:20260303T220010Z
LAST-MODIFIED:20260303T220010Z
UID:40376-1774540800-1774544400@charitonbeacon.com
SUMMARY:HS Golf @ Home
DESCRIPTION:
URL:https://charitonbeacon.com/activity/hs-golf-home/
CATEGORIES:Keytesville R-3
END:VEVENT
BEGIN:VEVENT
DTSTART;TZID=America/Chicago:20260326T123000
DTEND;TZID=America/Chicago:20260326T133000
DTSTAMP:20260421T111120
CREATED:20250927T050011Z
LAST-MODIFIED:20260325T210019Z
UID:28614-1774528200-1774531800@charitonbeacon.com
SUMMARY:JH & HS Track @ Carrollton
DESCRIPTION:
URL:https://charitonbeacon.com/activity/jh-hs-track-carrollton-2/
CATEGORIES:Keytesville R-3
END:VEVENT
BEGIN:VEVENT
DTSTART;TZID=America/Chicago:20260325T120000
DTEND;TZID=America/Chicago:20260325T180000
DTSTAMP:20260421T111120
CREATED:20250925T210008Z
LAST-MODIFIED:20260109T220008Z
UID:28460-1774440000-1774461600@charitonbeacon.com
SUMMARY:North Shelby CDE
DESCRIPTION:
URL:https://charitonbeacon.com/activity/north-shelby-cde-2/
CATEGORIES:Keytesville R-3
END:VEVENT
BEGIN:VEVENT
DTSTART;TZID=America/Chicago:20260325T110000
DTEND;TZID=America/Chicago:20260325T150000
DTSTAMP:20260421T111120
CREATED:20260310T210012Z
LAST-MODIFIED:20260310T210012Z
UID:40872-1774436400-1774450800@charitonbeacon.com
SUMMARY:Yearbook Selling Ads
DESCRIPTION:
URL:https://charitonbeacon.com/activity/yearbook-selling-ads-2/
CATEGORIES:Keytesville R-3
END:VEVENT
BEGIN:VEVENT
DTSTART;TZID=America/Chicago:20260324T170000
DTEND;TZID=America/Chicago:20260324T180000
DTSTAMP:20260421T111120
CREATED:20260303T220010Z
LAST-MODIFIED:20260303T220010Z
UID:40375-1774371600-1774375200@charitonbeacon.com
SUMMARY:HS Baseball @ Home
DESCRIPTION:
URL:https://charitonbeacon.com/activity/hs-baseball-home/
CATEGORIES:Keytesville R-3
END:VEVENT
BEGIN:VEVENT
DTSTART;TZID=America/Chicago:20260324T153000
DTEND;TZID=America/Chicago:20260324T163000
DTSTAMP:20260421T111120
CREATED:20250925T130007Z
LAST-MODIFIED:20250925T130007Z
UID:28439-1774366200-1774369800@charitonbeacon.com
SUMMARY:2nd-5th CLAA Spelling Bee @ Brunswick
DESCRIPTION:
URL:https://charitonbeacon.com/activity/2nd-5th-claa-spelling-bee-brunswick/
CATEGORIES:Keytesville R-3
END:VEVENT
BEGIN:VEVENT
DTSTART;TZID=America/Chicago:20260324T083000
DTEND;TZID=America/Chicago:20260324T093000
DTSTAMP:20260421T111120
CREATED:20251120T220010Z
LAST-MODIFIED:20251120T220010Z
UID:34030-1774341000-1774344600@charitonbeacon.com
SUMMARY:HS Conference Scholar Bowl Tournament @ Norborne
DESCRIPTION:
URL:https://charitonbeacon.com/activity/hs-conference-scholar-bowl-tournament-norborne/
CATEGORIES:Keytesville R-3
END:VEVENT
BEGIN:VEVENT
DTSTART;TZID=America/Chicago:20260323T170000
DTEND;TZID=America/Chicago:20260323T180000
DTSTAMP:20260421T111120
CREATED:20260303T220009Z
LAST-MODIFIED:20260303T220009Z
UID:40374-1774285200-1774288800@charitonbeacon.com
SUMMARY:HS Baseball @ Galt
DESCRIPTION:
URL:https://charitonbeacon.com/activity/hs-baseball-galt/
CATEGORIES:Keytesville R-3
END:VEVENT
BEGIN:VEVENT
DTSTART;VALUE=DATE:20260323
DTEND;VALUE=DATE:20260324
DTSTAMP:20260421T111120
CREATED:20260226T220007Z
LAST-MODIFIED:20260226T220007Z
UID:40030-1774224000-1774310399@charitonbeacon.com
SUMMARY:7th/8th Band Smithton Festival
DESCRIPTION:
URL:https://charitonbeacon.com/activity/7th-8th-band-smithton-festival/
CATEGORIES:Keytesville R-3
END:VEVENT
BEGIN:VEVENT
DTSTART;VALUE=DATE:20260323
DTEND;VALUE=DATE:20260324
DTSTAMP:20260421T111120
CREATED:20250923T210007Z
LAST-MODIFIED:20250923T210007Z
UID:28251-1774224000-1774310399@charitonbeacon.com
SUMMARY:District LDE ( must Qualify)
DESCRIPTION:
URL:https://charitonbeacon.com/activity/district-lde-must-qualify/
CATEGORIES:Keytesville R-3
END:VEVENT
BEGIN:VEVENT
DTSTART;TZID=America/Chicago:20260321T113000
DTEND;TZID=America/Chicago:20260321T123000
DTSTAMP:20260421T111120
CREATED:20260210T220019Z
LAST-MODIFIED:20260210T220019Z
UID:38971-1774092600-1774096200@charitonbeacon.com
SUMMARY:HS Track @ UCM-Warrensburg
DESCRIPTION:
URL:https://charitonbeacon.com/activity/hs-track-ucm-warrensburg-2/
CATEGORIES:Keytesville R-3
END:VEVENT
BEGIN:VEVENT
DTSTART;TZID=America/Chicago:20260320T170000
DTEND;TZID=America/Chicago:20260320T180000
DTSTAMP:20260421T111120
CREATED:20260303T220009Z
LAST-MODIFIED:20260303T220009Z
UID:40373-1774026000-1774029600@charitonbeacon.com
SUMMARY:HS Baseball @ Harrisburg
DESCRIPTION:
URL:https://charitonbeacon.com/activity/hs-baseball-harrisburg/
CATEGORIES:Keytesville R-3
END:VEVENT
BEGIN:VEVENT
DTSTART;TZID=America/Chicago:20260320T160000
DTEND;TZID=America/Chicago:20260320T170000
DTSTAMP:20260421T111120
CREATED:20260212T220016Z
LAST-MODIFIED:20260212T220016Z
UID:39119-1774022400-1774026000@charitonbeacon.com
SUMMARY:Fundraiser for Keytesville Alumni Chris Jackson
DESCRIPTION:
URL:https://charitonbeacon.com/activity/fundraiser-for-keytesville-alumni-chris-jackson/
CATEGORIES:Keytesville R-3
END:VEVENT
BEGIN:VEVENT
DTSTART;TZID=America/Chicago:20260320T083000
DTEND;TZID=America/Chicago:20260320T093000
DTSTAMP:20260421T111120
CREATED:20251120T220009Z
LAST-MODIFIED:20251120T220009Z
UID:34029-1773995400-1773999000@charitonbeacon.com
SUMMARY:JH Conference Scholar Bowl Tournament @ Bosworth
DESCRIPTION:
URL:https://charitonbeacon.com/activity/jh-conference-scholar-bowl-tournament-bosworth/
CATEGORIES:Keytesville R-3
END:VEVENT
BEGIN:VEVENT
DTSTART;VALUE=DATE:20260320
DTEND;VALUE=DATE:20260321
DTSTAMP:20260421T111120
CREATED:20260310T210012Z
LAST-MODIFIED:20260320T210017Z
UID:40870-1773964800-1774051199@charitonbeacon.com
SUMMARY:County Government Day-8th Grade
DESCRIPTION:
URL:https://charitonbeacon.com/activity/county-government-day/
CATEGORIES:Keytesville R-3
END:VEVENT
BEGIN:VEVENT
DTSTART;VALUE=DATE:20260320
DTEND;VALUE=DATE:20260321
DTSTAMP:20260421T111120
CREATED:20260305T220011Z
LAST-MODIFIED:20260305T220011Z
UID:40550-1773964800-1774051199@charitonbeacon.com
SUMMARY:FCCLA Hat Days
DESCRIPTION:
URL:https://charitonbeacon.com/activity/fccla-hat-days-3/
CATEGORIES:Keytesville R-3
END:VEVENT
BEGIN:VEVENT
DTSTART;TZID=America/Chicago:20260319T090000
DTEND;TZID=America/Chicago:20260319T150000
DTSTAMP:20260421T111120
CREATED:20250919T210006Z
LAST-MODIFIED:20260109T220008Z
UID:27876-1773910800-1773932400@charitonbeacon.com
SUMMARY:Trenton CDE
DESCRIPTION:
URL:https://charitonbeacon.com/activity/trenton-cde/
CATEGORIES:Keytesville R-3
END:VEVENT
BEGIN:VEVENT
DTSTART;TZID=America/Chicago:20260318T163000
DTEND;TZID=America/Chicago:20260318T173000
DTSTAMP:20260421T111120
CREATED:20260109T220007Z
LAST-MODIFIED:20260109T220007Z
UID:37101-1773851400-1773855000@charitonbeacon.com
SUMMARY:Area LDE @ Centralia
DESCRIPTION:
URL:https://charitonbeacon.com/activity/area-lde-centralia/
CATEGORIES:Keytesville R-3
END:VEVENT
BEGIN:VEVENT
DTSTART;TZID=America/Chicago:20260318T110000
DTEND;TZID=America/Chicago:20260318T150000
DTSTAMP:20260421T111120
CREATED:20260310T210011Z
LAST-MODIFIED:20260310T210011Z
UID:40869-1773831600-1773846000@charitonbeacon.com
SUMMARY:Yearbook Selling Ads
DESCRIPTION:
URL:https://charitonbeacon.com/activity/yearbook-selling-ads/
CATEGORIES:Keytesville R-3
END:VEVENT
BEGIN:VEVENT
DTSTART;TZID=America/Chicago:20260317T160000
DTEND;TZID=America/Chicago:20260317T163000
DTSTAMP:20260421T111120
CREATED:20251120T220009Z
LAST-MODIFIED:20260212T220015Z
UID:34027-1773763200-1773765000@charitonbeacon.com
SUMMARY:JH & HS Scholar Bowl @ Keytesville
DESCRIPTION:
URL:https://charitonbeacon.com/activity/jh-hs-scholar-bowl-keytesville-2/
CATEGORIES:Keytesville R-3
END:VEVENT
BEGIN:VEVENT
DTSTART;VALUE=DATE:20260315
DTEND;VALUE=DATE:20260318
DTSTAMP:20260421T111120
CREATED:20250915T210010Z
LAST-MODIFIED:20250915T210010Z
UID:27457-1773532800-1773791999@charitonbeacon.com
SUMMARY:FCCLA State Leadership Conference @ Springfield
DESCRIPTION:
URL:https://charitonbeacon.com/activity/fccla-state-leadership-conference-springfield/
CATEGORIES:Keytesville R-3
END:VEVENT
BEGIN:VEVENT
DTSTART;TZID=America/Chicago:20260313T090000
DTEND;TZID=America/Chicago:20260313T150000
DTSTAMP:20260421T111120
CREATED:20250913T210006Z
LAST-MODIFIED:20260109T220007Z
UID:27251-1773392400-1773414000@charitonbeacon.com
SUMMARY:Paris Aggie Days
DESCRIPTION:
URL:https://charitonbeacon.com/activity/paris-aggie-days/
CATEGORIES:Keytesville R-3
END:VEVENT
BEGIN:VEVENT
DTSTART;VALUE=DATE:20260313
DTEND;VALUE=DATE:20260314
DTSTAMP:20260421T111120
CREATED:20260305T220011Z
LAST-MODIFIED:20260305T220011Z
UID:40549-1773360000-1773446399@charitonbeacon.com
SUMMARY:FCCLA Hat Days
DESCRIPTION:
URL:https://charitonbeacon.com/activity/fccla-hat-days-2/
CATEGORIES:Keytesville R-3
END:VEVENT
BEGIN:VEVENT
DTSTART;TZID=America/Chicago:20260312T153000
DTEND;TZID=America/Chicago:20260312T160000
DTSTAMP:20260421T111120
CREATED:20250913T130008Z
LAST-MODIFIED:20250913T130008Z
UID:27239-1773329400-1773331200@charitonbeacon.com
SUMMARY:2nd-5th CLAA Math Bee @ Brunswick
DESCRIPTION:
URL:https://charitonbeacon.com/activity/2nd-5th-claa-math-bee-brunswick/
CATEGORIES:Keytesville R-3
END:VEVENT
BEGIN:VEVENT
DTSTART;TZID=America/Chicago:20260311T163000
DTEND;TZID=America/Chicago:20260311T220000
DTSTAMP:20260421T111120
CREATED:20260305T220010Z
LAST-MODIFIED:20260310T210011Z
UID:40548-1773246600-1773266400@charitonbeacon.com
SUMMARY:Drama Club Field Trip
DESCRIPTION:
URL:https://charitonbeacon.com/activity/drama-club-field-trip/
CATEGORIES:Keytesville R-3
END:VEVENT
END:VCALENDAR