BEGIN:VCALENDAR
VERSION:2.0
PRODID:-//The Chariton Beacon - ECPv6.15.20//NONSGML v1.0//EN
CALSCALE:GREGORIAN
METHOD:PUBLISH
X-WR-CALNAME:The Chariton Beacon
X-ORIGINAL-URL:https://charitonbeacon.com
X-WR-CALDESC:Events for The Chariton Beacon
REFRESH-INTERVAL;VALUE=DURATION:PT1H
X-Robots-Tag:noindex
X-PUBLISHED-TTL:PT1H
BEGIN:VTIMEZONE
TZID:America/Chicago
BEGIN:DAYLIGHT
TZOFFSETFROM:-0600
TZOFFSETTO:-0500
TZNAME:CDT
DTSTART:20250309T080000
END:DAYLIGHT
BEGIN:STANDARD
TZOFFSETFROM:-0500
TZOFFSETTO:-0600
TZNAME:CST
DTSTART:20251102T070000
END:STANDARD
BEGIN:DAYLIGHT
TZOFFSETFROM:-0600
TZOFFSETTO:-0500
TZNAME:CDT
DTSTART:20260308T080000
END:DAYLIGHT
BEGIN:STANDARD
TZOFFSETFROM:-0500
TZOFFSETTO:-0600
TZNAME:CST
DTSTART:20261101T070000
END:STANDARD
BEGIN:DAYLIGHT
TZOFFSETFROM:-0600
TZOFFSETTO:-0500
TZNAME:CDT
DTSTART:20270314T080000
END:DAYLIGHT
BEGIN:STANDARD
TZOFFSETFROM:-0500
TZOFFSETTO:-0600
TZNAME:CST
DTSTART:20271107T070000
END:STANDARD
END:VTIMEZONE
BEGIN:VEVENT
DTSTART;TZID=America/Chicago:20260501T170000
DTEND;TZID=America/Chicago:20260501T180000
DTSTAMP:20260421T094115
CREATED:20260303T220018Z
LAST-MODIFIED:20260303T220018Z
UID:40399-1777654800-1777658400@charitonbeacon.com
SUMMARY:HS Baseball @ Home
DESCRIPTION:
URL:https://charitonbeacon.com/activity/hs-baseball-home-7/
CATEGORIES:Keytesville R-3
END:VEVENT
BEGIN:VEVENT
DTSTART;TZID=America/Chicago:20260502T100000
DTEND;TZID=America/Chicago:20260502T103000
DTSTAMP:20260421T094115
CREATED:20251103T060012Z
LAST-MODIFIED:20251103T060012Z
UID:32350-1777716000-1777717800@charitonbeacon.com
SUMMARY:JH Track @ Glasgow
DESCRIPTION:
URL:https://charitonbeacon.com/activity/jh-track-glasgow/
CATEGORIES:Keytesville R-3
END:VEVENT
BEGIN:VEVENT
DTSTART;TZID=America/Chicago:20260504T080000
DTEND;TZID=America/Chicago:20260504T150000
DTSTAMP:20260421T094115
CREATED:20260303T220018Z
LAST-MODIFIED:20260303T220018Z
UID:40400-1777881600-1777906800@charitonbeacon.com
SUMMARY:HS Golf @ Carrollton
DESCRIPTION:
URL:https://charitonbeacon.com/activity/hs-golf-carrollton-3/
CATEGORIES:Keytesville R-3
END:VEVENT
BEGIN:VEVENT
DTSTART;TZID=America/Chicago:20260504T110000
DTEND;TZID=America/Chicago:20260504T120000
DTSTAMP:20260421T094115
CREATED:20251105T060011Z
LAST-MODIFIED:20251105T060011Z
UID:32515-1777892400-1777896000@charitonbeacon.com
SUMMARY:HS Track @ Brookfield
DESCRIPTION:
URL:https://charitonbeacon.com/activity/hs-track-brookfield/
CATEGORIES:Keytesville R-3
END:VEVENT
BEGIN:VEVENT
DTSTART;TZID=America/Chicago:20260504T170000
DTEND;TZID=America/Chicago:20260504T180000
DTSTAMP:20260421T094115
CREATED:20260303T220023Z
LAST-MODIFIED:20260303T220023Z
UID:40401-1777914000-1777917600@charitonbeacon.com
SUMMARY:HS Baseball @ Home
DESCRIPTION:
URL:https://charitonbeacon.com/activity/hs-baseball-home-8/
CATEGORIES:Keytesville R-3
END:VEVENT
BEGIN:VEVENT
DTSTART;VALUE=DATE:20260505
DTEND;VALUE=DATE:20260509
DTSTAMP:20260421T094115
CREATED:20260327T210024Z
LAST-MODIFIED:20260327T210024Z
UID:42197-1777939200-1778284799@charitonbeacon.com
SUMMARY:MAP/EOC testing
DESCRIPTION:
URL:https://charitonbeacon.com/activity/map-eoc-testing-4/
CATEGORIES:Keytesville R-3
END:VEVENT
BEGIN:VEVENT
DTSTART;TZID=America/Chicago:20260505T130000
DTEND;TZID=America/Chicago:20260505T140000
DTSTAMP:20260421T094115
CREATED:20260304T220010Z
LAST-MODIFIED:20260304T220010Z
UID:40483-1777986000-1777989600@charitonbeacon.com
SUMMARY:K-6 Co-Op Assembly
DESCRIPTION:
URL:https://charitonbeacon.com/activity/k-6-co-op-assembly/
CATEGORIES:Keytesville R-3
END:VEVENT
BEGIN:VEVENT
DTSTART;TZID=America/Chicago:20260505T150000
DTEND;TZID=America/Chicago:20260505T160000
DTSTAMP:20260421T094115
CREATED:20251106T140009Z
LAST-MODIFIED:20260106T220007Z
UID:32654-1777993200-1777996800@charitonbeacon.com
SUMMARY:JH @ Paris
DESCRIPTION:
URL:https://charitonbeacon.com/activity/jh-hs-track-paris/
CATEGORIES:Keytesville R-3
END:VEVENT
BEGIN:VEVENT
DTSTART;TZID=America/Chicago:20260506T080000
DTEND;TZID=America/Chicago:20260506T150000
DTSTAMP:20260421T094115
CREATED:20260319T210018Z
LAST-MODIFIED:20260319T210018Z
UID:41541-1778054400-1778079600@charitonbeacon.com
SUMMARY:K-3 Field Trip to Kansas City
DESCRIPTION:
URL:https://charitonbeacon.com/activity/k-3-field-trip-to-kansas-city/
CATEGORIES:Keytesville R-3
END:VEVENT
BEGIN:VEVENT
DTSTART;TZID=America/Chicago:20260506T123000
DTEND;TZID=America/Chicago:20260506T133000
DTSTAMP:20260421T094115
CREATED:20260317T210015Z
LAST-MODIFIED:20260325T210021Z
UID:41410-1778070600-1778074200@charitonbeacon.com
SUMMARY:HS Track @ Glasgow
DESCRIPTION:
URL:https://charitonbeacon.com/activity/hs-track-glasgow/
CATEGORIES:Keytesville R-3
END:VEVENT
BEGIN:VEVENT
DTSTART;TZID=America/Chicago:20260506T180000
DTEND;TZID=America/Chicago:20260506T190000
DTSTAMP:20260421T094115
CREATED:20251107T140008Z
LAST-MODIFIED:20260408T210023Z
UID:32782-1778090400-1778094000@charitonbeacon.com
SUMMARY:Senior Awards
DESCRIPTION:
URL:https://charitonbeacon.com/activity/senior-awards-and-baccalaureate-2/
CATEGORIES:Keytesville R-3
END:VEVENT
BEGIN:VEVENT
DTSTART;TZID=America/Chicago:20260506T184500
DTEND;TZID=America/Chicago:20260506T194500
DTSTAMP:20260421T094115
CREATED:20260408T210024Z
LAST-MODIFIED:20260408T210024Z
UID:42919-1778093100-1778096700@charitonbeacon.com
SUMMARY:Baccalaureate at the Methodist Church
DESCRIPTION:
URL:https://charitonbeacon.com/activity/baccalaureate-at-the-methodist-church/
CATEGORIES:Keytesville R-3
END:VEVENT
BEGIN:VEVENT
DTSTART;VALUE=DATE:20260507
DTEND;VALUE=DATE:20260508
DTSTAMP:20260421T094115
CREATED:20251107T220009Z
LAST-MODIFIED:20260331T210019Z
UID:32800-1778112000-1778198399@charitonbeacon.com
SUMMARY:PreK-6 Track & Field Day
DESCRIPTION:
URL:https://charitonbeacon.com/activity/k-6-track-field-day/
CATEGORIES:Keytesville R-3
END:VEVENT
BEGIN:VEVENT
DTSTART;TZID=America/Chicago:20260507T170000
DTEND;TZID=America/Chicago:20260507T180000
DTSTAMP:20260421T094115
CREATED:20260303T220023Z
LAST-MODIFIED:20260303T220023Z
UID:40402-1778173200-1778176800@charitonbeacon.com
SUMMARY:HS Baseball @ Glasgow
DESCRIPTION:
URL:https://charitonbeacon.com/activity/hs-baseball-glasgow/
CATEGORIES:Keytesville R-3
END:VEVENT
BEGIN:VEVENT
DTSTART;TZID=America/Chicago:20260508T080000
DTEND;TZID=America/Chicago:20260508T150000
DTSTAMP:20260421T094115
CREATED:20260303T220024Z
LAST-MODIFIED:20260303T220024Z
UID:40403-1778227200-1778252400@charitonbeacon.com
SUMMARY:HS Golf @ Districts
DESCRIPTION:
URL:https://charitonbeacon.com/activity/hs-golf-districts/
CATEGORIES:Keytesville R-3
END:VEVENT
BEGIN:VEVENT
DTSTART;TZID=America/Chicago:20260508T170000
DTEND;TZID=America/Chicago:20260508T180000
DTSTAMP:20260421T094115
CREATED:20260303T220024Z
LAST-MODIFIED:20260303T220024Z
UID:40404-1778259600-1778263200@charitonbeacon.com
SUMMARY:HS Baseball @ Home
DESCRIPTION:
URL:https://charitonbeacon.com/activity/hs-baseball-home-9/
CATEGORIES:Keytesville R-3
END:VEVENT
BEGIN:VEVENT
DTSTART;TZID=America/Chicago:20260508T190000
DTEND;TZID=America/Chicago:20260508T200000
DTSTAMP:20260421T094115
CREATED:20251109T140007Z
LAST-MODIFIED:20251109T140007Z
UID:32969-1778266800-1778270400@charitonbeacon.com
SUMMARY:Graduation
DESCRIPTION:
URL:https://charitonbeacon.com/activity/graduation/
CATEGORIES:Keytesville R-3
END:VEVENT
BEGIN:VEVENT
DTSTART;VALUE=DATE:20260511
DTEND;VALUE=DATE:20260512
DTSTAMP:20260421T094115
CREATED:20251111T220007Z
LAST-MODIFIED:20251111T220007Z
UID:33182-1778457600-1778543999@charitonbeacon.com
SUMMARY:SCHOOL IN SESSION
DESCRIPTION:
URL:https://charitonbeacon.com/activity/school-in-session/
CATEGORIES:Keytesville R-3
END:VEVENT
BEGIN:VEVENT
DTSTART;TZID=America/Chicago:20260511T080000
DTEND;TZID=America/Chicago:20260511T150000
DTSTAMP:20260421T094115
CREATED:20260309T210016Z
LAST-MODIFIED:20260309T210016Z
UID:40794-1778486400-1778511600@charitonbeacon.com
SUMMARY:Roaring Tigers Trip to Liberty
DESCRIPTION:
URL:https://charitonbeacon.com/activity/roaring-tigers-trip-to-liberty/
CATEGORIES:Keytesville R-3
END:VEVENT
BEGIN:VEVENT
DTSTART;TZID=America/Chicago:20260511T180000
DTEND;TZID=America/Chicago:20260511T200000
DTSTAMP:20260421T094115
CREATED:20251112T140006Z
LAST-MODIFIED:20260209T220016Z
UID:33268-1778522400-1778529600@charitonbeacon.com
SUMMARY:Monthly Board of Education Meeting
DESCRIPTION:Attendance – (District main\, “Modules”\, attendance\,“Daily attendance”\, Overall stats) \n·        ELEM YTD attendance was 93.2% (94.)(87 students)   \n·        HS YTD Attendance was (89.9) 90.2  (58students) \n·        Overall district attendance 91.8%
URL:https://charitonbeacon.com/activity/monthly-board-of-education-meeting-4/
CATEGORIES:Keytesville R-3
END:VEVENT
BEGIN:VEVENT
DTSTART;TZID=America/Chicago:20260512T170000
DTEND;TZID=America/Chicago:20260512T180000
DTSTAMP:20260421T094115
CREATED:20260303T220024Z
LAST-MODIFIED:20260303T220024Z
UID:40406-1778605200-1778608800@charitonbeacon.com
SUMMARY:HS Baseball @ South Shelby
DESCRIPTION:
URL:https://charitonbeacon.com/activity/hs-baseball-south-shelby/
CATEGORIES:Keytesville R-3
END:VEVENT
BEGIN:VEVENT
DTSTART;TZID=America/Chicago:20260512T183000
DTEND;TZID=America/Chicago:20260512T190000
DTSTAMP:20260421T094115
CREATED:20251113T140007Z
LAST-MODIFIED:20251113T140007Z
UID:33349-1778610600-1778612400@charitonbeacon.com
SUMMARY:Preschool Graduation
DESCRIPTION:
URL:https://charitonbeacon.com/activity/preschool-graduation/
CATEGORIES:Keytesville R-3
END:VEVENT
BEGIN:VEVENT
DTSTART;VALUE=DATE:20260513
DTEND;VALUE=DATE:20260514
DTSTAMP:20260421T094115
CREATED:20251113T220006Z
LAST-MODIFIED:20251113T220006Z
UID:33365-1778630400-1778716799@charitonbeacon.com
SUMMARY:JH/HS Field Trip
DESCRIPTION:
URL:https://charitonbeacon.com/activity/jh-hs-field-trip/
CATEGORIES:Keytesville R-3
END:VEVENT
BEGIN:VEVENT
DTSTART;VALUE=DATE:20260513
DTEND;VALUE=DATE:20260514
DTSTAMP:20260421T094115
CREATED:20260309T210016Z
LAST-MODIFIED:20260309T210016Z
UID:40795-1778630400-1778716799@charitonbeacon.com
SUMMARY:Elementary Picnic Day
DESCRIPTION:
URL:https://charitonbeacon.com/activity/elementary-picnic-day/
CATEGORIES:Keytesville R-3
END:VEVENT
BEGIN:VEVENT
DTSTART;TZID=America/Chicago:20260513T180000
DTEND;TZID=America/Chicago:20260513T190000
DTSTAMP:20260421T094115
CREATED:20260120T220013Z
LAST-MODIFIED:20260120T220013Z
UID:37776-1778695200-1778698800@charitonbeacon.com
SUMMARY:Winter Spring Sports/Activities Banquet
DESCRIPTION:
URL:https://charitonbeacon.com/activity/winter-spring-sports-activities-banquet/
CATEGORIES:Keytesville R-3
END:VEVENT
BEGIN:VEVENT
DTSTART;VALUE=DATE:20260514
DTEND;VALUE=DATE:20260515
DTSTAMP:20260421T094115
CREATED:20251114T220007Z
LAST-MODIFIED:20251114T220007Z
UID:33461-1778716800-1778803199@charitonbeacon.com
SUMMARY:Last Day of School (Early Out 12:30 p.m.)
DESCRIPTION:
URL:https://charitonbeacon.com/activity/last-day-of-school-early-out-1230-p-m/
CATEGORIES:Keytesville R-3
END:VEVENT
BEGIN:VEVENT
DTSTART;VALUE=DATE:20260514
DTEND;VALUE=DATE:20260526
DTSTAMP:20260421T094115
CREATED:20260303T220025Z
LAST-MODIFIED:20260303T220025Z
UID:40407-1778716800-1779753599@charitonbeacon.com
SUMMARY:HS Baseball @ Districts
DESCRIPTION:
URL:https://charitonbeacon.com/activity/hs-baseball-districts/
CATEGORIES:Keytesville R-3
END:VEVENT
BEGIN:VEVENT
DTSTART;TZID=America/Chicago:20260514T090000
DTEND;TZID=America/Chicago:20260514T100000
DTSTAMP:20260421T094115
CREATED:20251115T060011Z
LAST-MODIFIED:20251115T060011Z
UID:33499-1778749200-1778752800@charitonbeacon.com
SUMMARY:Elementary Awards
DESCRIPTION:
URL:https://charitonbeacon.com/activity/elementary-awards/
CATEGORIES:Keytesville R-3
END:VEVENT
BEGIN:VEVENT
DTSTART;TZID=America/Chicago:20260514T101500
DTEND;TZID=America/Chicago:20260514T111500
DTSTAMP:20260421T094115
CREATED:20251115T060012Z
LAST-MODIFIED:20251115T060012Z
UID:33501-1778753700-1778757300@charitonbeacon.com
SUMMARY:JH/HS Awards
DESCRIPTION:
URL:https://charitonbeacon.com/activity/jh-hs-awards/
CATEGORIES:Keytesville R-3
END:VEVENT
BEGIN:VEVENT
DTSTART;TZID=America/Chicago:20260608T180000
DTEND;TZID=America/Chicago:20260608T200000
DTSTAMP:20260421T094115
CREATED:20251209T140007Z
LAST-MODIFIED:20260209T220017Z
UID:35706-1780941600-1780948800@charitonbeacon.com
SUMMARY:Monthly Board of Education Meeting
DESCRIPTION:Attendance – (District main\, “Modules”\, attendance\,“Daily attendance”\, Overall stats) \n·        ELEM YTD attendance was 93.2% (94.)(87 students)   \n·        HS YTD Attendance was (89.9) 90.2  (58students) \n·        Overall district attendance 91.8%
URL:https://charitonbeacon.com/activity/monthly-board-of-education-meeting-5/
CATEGORIES:Keytesville R-3
END:VEVENT
END:VCALENDAR