BEGIN:VCALENDAR
VERSION:2.0
PRODID:-//The Chariton Beacon - ECPv6.15.20//NONSGML v1.0//EN
CALSCALE:GREGORIAN
METHOD:PUBLISH
X-ORIGINAL-URL:https://charitonbeacon.com
X-WR-CALDESC:Events for The Chariton Beacon
REFRESH-INTERVAL;VALUE=DURATION:PT1H
X-Robots-Tag:noindex
X-PUBLISHED-TTL:PT1H
BEGIN:VTIMEZONE
TZID:America/Chicago
BEGIN:DAYLIGHT
TZOFFSETFROM:-0600
TZOFFSETTO:-0500
TZNAME:CDT
DTSTART:20250309T080000
END:DAYLIGHT
BEGIN:STANDARD
TZOFFSETFROM:-0500
TZOFFSETTO:-0600
TZNAME:CST
DTSTART:20251102T070000
END:STANDARD
BEGIN:DAYLIGHT
TZOFFSETFROM:-0600
TZOFFSETTO:-0500
TZNAME:CDT
DTSTART:20260308T080000
END:DAYLIGHT
BEGIN:STANDARD
TZOFFSETFROM:-0500
TZOFFSETTO:-0600
TZNAME:CST
DTSTART:20261101T070000
END:STANDARD
BEGIN:DAYLIGHT
TZOFFSETFROM:-0600
TZOFFSETTO:-0500
TZNAME:CDT
DTSTART:20270314T080000
END:DAYLIGHT
BEGIN:STANDARD
TZOFFSETFROM:-0500
TZOFFSETTO:-0600
TZNAME:CST
DTSTART:20271107T070000
END:STANDARD
END:VTIMEZONE
BEGIN:VEVENT
DTSTART;VALUE=DATE:20260320
DTEND;VALUE=DATE:20260321
DTSTAMP:20260421T124458
CREATED:20260305T220011Z
LAST-MODIFIED:20260305T220011Z
UID:40550-1773964800-1774051199@charitonbeacon.com
SUMMARY:FCCLA Hat Days
DESCRIPTION:
URL:https://charitonbeacon.com/activity/fccla-hat-days-3/
CATEGORIES:Keytesville R-3
END:VEVENT
BEGIN:VEVENT
DTSTART;TZID=America/Chicago:20260319T090000
DTEND;TZID=America/Chicago:20260319T150000
DTSTAMP:20260421T124458
CREATED:20250919T210006Z
LAST-MODIFIED:20260109T220008Z
UID:27876-1773910800-1773932400@charitonbeacon.com
SUMMARY:Trenton CDE
DESCRIPTION:
URL:https://charitonbeacon.com/activity/trenton-cde/
CATEGORIES:Keytesville R-3
END:VEVENT
BEGIN:VEVENT
DTSTART;TZID=America/Chicago:20260318T163000
DTEND;TZID=America/Chicago:20260318T173000
DTSTAMP:20260421T124458
CREATED:20260109T220007Z
LAST-MODIFIED:20260109T220007Z
UID:37101-1773851400-1773855000@charitonbeacon.com
SUMMARY:Area LDE @ Centralia
DESCRIPTION:
URL:https://charitonbeacon.com/activity/area-lde-centralia/
CATEGORIES:Keytesville R-3
END:VEVENT
BEGIN:VEVENT
DTSTART;TZID=America/Chicago:20260318T110000
DTEND;TZID=America/Chicago:20260318T150000
DTSTAMP:20260421T124458
CREATED:20260310T210011Z
LAST-MODIFIED:20260310T210011Z
UID:40869-1773831600-1773846000@charitonbeacon.com
SUMMARY:Yearbook Selling Ads
DESCRIPTION:
URL:https://charitonbeacon.com/activity/yearbook-selling-ads/
CATEGORIES:Keytesville R-3
END:VEVENT
BEGIN:VEVENT
DTSTART;TZID=America/Chicago:20260317T160000
DTEND;TZID=America/Chicago:20260317T163000
DTSTAMP:20260421T124458
CREATED:20251120T220009Z
LAST-MODIFIED:20260212T220015Z
UID:34027-1773763200-1773765000@charitonbeacon.com
SUMMARY:JH & HS Scholar Bowl @ Keytesville
DESCRIPTION:
URL:https://charitonbeacon.com/activity/jh-hs-scholar-bowl-keytesville-2/
CATEGORIES:Keytesville R-3
END:VEVENT
BEGIN:VEVENT
DTSTART;VALUE=DATE:20260315
DTEND;VALUE=DATE:20260318
DTSTAMP:20260421T124458
CREATED:20250915T210010Z
LAST-MODIFIED:20250915T210010Z
UID:27457-1773532800-1773791999@charitonbeacon.com
SUMMARY:FCCLA State Leadership Conference @ Springfield
DESCRIPTION:
URL:https://charitonbeacon.com/activity/fccla-state-leadership-conference-springfield/
CATEGORIES:Keytesville R-3
END:VEVENT
BEGIN:VEVENT
DTSTART;TZID=America/Chicago:20260313T090000
DTEND;TZID=America/Chicago:20260313T150000
DTSTAMP:20260421T124458
CREATED:20250913T210006Z
LAST-MODIFIED:20260109T220007Z
UID:27251-1773392400-1773414000@charitonbeacon.com
SUMMARY:Paris Aggie Days
DESCRIPTION:
URL:https://charitonbeacon.com/activity/paris-aggie-days/
CATEGORIES:Keytesville R-3
END:VEVENT
BEGIN:VEVENT
DTSTART;VALUE=DATE:20260313
DTEND;VALUE=DATE:20260314
DTSTAMP:20260421T124458
CREATED:20260305T220011Z
LAST-MODIFIED:20260305T220011Z
UID:40549-1773360000-1773446399@charitonbeacon.com
SUMMARY:FCCLA Hat Days
DESCRIPTION:
URL:https://charitonbeacon.com/activity/fccla-hat-days-2/
CATEGORIES:Keytesville R-3
END:VEVENT
BEGIN:VEVENT
DTSTART;TZID=America/Chicago:20260312T153000
DTEND;TZID=America/Chicago:20260312T160000
DTSTAMP:20260421T124458
CREATED:20250913T130008Z
LAST-MODIFIED:20250913T130008Z
UID:27239-1773329400-1773331200@charitonbeacon.com
SUMMARY:2nd-5th CLAA Math Bee @ Brunswick
DESCRIPTION:
URL:https://charitonbeacon.com/activity/2nd-5th-claa-math-bee-brunswick/
CATEGORIES:Keytesville R-3
END:VEVENT
BEGIN:VEVENT
DTSTART;TZID=America/Chicago:20260311T163000
DTEND;TZID=America/Chicago:20260311T220000
DTSTAMP:20260421T124458
CREATED:20260305T220010Z
LAST-MODIFIED:20260310T210011Z
UID:40548-1773246600-1773266400@charitonbeacon.com
SUMMARY:Drama Club Field Trip
DESCRIPTION:
URL:https://charitonbeacon.com/activity/drama-club-field-trip/
CATEGORIES:Keytesville R-3
END:VEVENT
BEGIN:VEVENT
DTSTART;TZID=America/Chicago:20260311T083000
DTEND;TZID=America/Chicago:20260311T123000
DTSTAMP:20260421T124458
CREATED:20251212T220007Z
LAST-MODIFIED:20251212T220007Z
UID:35903-1773217800-1773232200@charitonbeacon.com
SUMMARY:Juniors will be taking the ACT and Seniors will be taking the WorkKeys @ MACC
DESCRIPTION:
URL:https://charitonbeacon.com/activity/juniors-will-be-taking-the-act-and-seniors-will-be-taking-the-workkeys-macc/
CATEGORIES:Keytesville R-3
END:VEVENT
BEGIN:VEVENT
DTSTART;TZID=America/Chicago:20260310T160000
DTEND;TZID=America/Chicago:20260310T170000
DTSTAMP:20260421T124458
CREATED:20251120T220008Z
LAST-MODIFIED:20251120T220008Z
UID:34026-1773158400-1773162000@charitonbeacon.com
SUMMARY:JH & HS Scholar Bowl @ Tina Avalon
DESCRIPTION:
URL:https://charitonbeacon.com/activity/jh-hs-scholar-bowl-tina-avalon/
CATEGORIES:Keytesville R-3
END:VEVENT
BEGIN:VEVENT
DTSTART;TZID=America/Chicago:20260309T180000
DTEND;TZID=America/Chicago:20260309T200000
DTSTAMP:20260421T124458
CREATED:20250910T130008Z
LAST-MODIFIED:20260209T220015Z
UID:26876-1773079200-1773086400@charitonbeacon.com
SUMMARY:Monthly Board of Education Meeting
DESCRIPTION:Attendance – (District main\, “Modules”\, attendance\,“Daily attendance”\, Overall stats) \n·        ELEM YTD attendance was 93.2% (94.)(87 students)   \n·        HS YTD Attendance was (89.9) 90.2  (58students) \n·        Overall district attendance 91.8%
URL:https://charitonbeacon.com/activity/monthly-board-of-education-meeting-2/
CATEGORIES:Keytesville R-3
END:VEVENT
BEGIN:VEVENT
DTSTART;TZID=America/Chicago:20260309T163000
DTEND;TZID=America/Chicago:20260309T170000
DTSTAMP:20260421T124458
CREATED:20250909T210008Z
LAST-MODIFIED:20260109T220006Z
UID:26771-1773073800-1773075600@charitonbeacon.com
SUMMARY:Centralia CDE
DESCRIPTION:
URL:https://charitonbeacon.com/activity/centralia-cde/
CATEGORIES:Keytesville R-3
END:VEVENT
BEGIN:VEVENT
DTSTART;VALUE=DATE:20260309
DTEND;VALUE=DATE:20260310
DTSTAMP:20260421T124458
CREATED:20250909T210008Z
LAST-MODIFIED:20250909T210008Z
UID:26770-1773014400-1773100799@charitonbeacon.com
SUMMARY:Staff PD
DESCRIPTION:
URL:https://charitonbeacon.com/activity/staff-pd-2/
CATEGORIES:Keytesville R-3
END:VEVENT
BEGIN:VEVENT
DTSTART;TZID=America/Chicago:20260306T090000
DTEND;TZID=America/Chicago:20260306T150000
DTSTAMP:20260421T124458
CREATED:20250906T210007Z
LAST-MODIFIED:20260109T220006Z
UID:26424-1772787600-1772809200@charitonbeacon.com
SUMMARY:Brunswick CDE
DESCRIPTION:
URL:https://charitonbeacon.com/activity/brunswick-cde-2/
CATEGORIES:Keytesville R-3
END:VEVENT
BEGIN:VEVENT
DTSTART;VALUE=DATE:20260306
DTEND;VALUE=DATE:20260307
DTSTAMP:20260421T124458
CREATED:20260305T220010Z
LAST-MODIFIED:20260305T220010Z
UID:40547-1772755200-1772841599@charitonbeacon.com
SUMMARY:FCCLA Hat Days
DESCRIPTION:
URL:https://charitonbeacon.com/activity/fccla-hat-days/
CATEGORIES:Keytesville R-3
END:VEVENT
BEGIN:VEVENT
DTSTART;TZID=America/Chicago:20260305T164500
DTEND;TZID=America/Chicago:20260305T204500
DTSTAMP:20260421T124458
CREATED:20260225T220008Z
LAST-MODIFIED:20260225T220008Z
UID:39956-1772729100-1772743500@charitonbeacon.com
SUMMARY:FCCLA Spring Awards@ Macon MO
DESCRIPTION:
URL:https://charitonbeacon.com/activity/fccla-spring-awards-macon-mo/
CATEGORIES:Keytesville R-3
END:VEVENT
BEGIN:VEVENT
DTSTART;TZID=America/Chicago:20260305T160000
DTEND;TZID=America/Chicago:20260305T163000
DTSTAMP:20260421T124458
CREATED:20251120T220008Z
LAST-MODIFIED:20260212T220015Z
UID:34024-1772726400-1772728200@charitonbeacon.com
SUMMARY:JH & HS Scholar Bowl @ Keytesville
DESCRIPTION:
URL:https://charitonbeacon.com/activity/jh-hs-scholar-bowl-keytesville/
CATEGORIES:Keytesville R-3
END:VEVENT
BEGIN:VEVENT
DTSTART;TZID=America/Chicago:20260305T080000
DTEND;TZID=America/Chicago:20260305T150000
DTSTAMP:20260421T124458
CREATED:20260130T220012Z
LAST-MODIFIED:20260130T220012Z
UID:38396-1772697600-1772722800@charitonbeacon.com
SUMMARY:CMU Visit
DESCRIPTION:
URL:https://charitonbeacon.com/activity/cmu-visit/
CATEGORIES:Keytesville R-3
END:VEVENT
BEGIN:VEVENT
DTSTART;TZID=America/Chicago:20260304T180000
DTEND;TZID=America/Chicago:20260304T183000
DTSTAMP:20260421T124458
CREATED:20260225T220008Z
LAST-MODIFIED:20260225T220008Z
UID:39955-1772647200-1772649000@charitonbeacon.com
SUMMARY:Junior Student and Parent After Prom Meeting
DESCRIPTION:
URL:https://charitonbeacon.com/activity/junior-student-and-parent-after-prom-meeting/
CATEGORIES:Keytesville R-3
END:VEVENT
BEGIN:VEVENT
DTSTART;VALUE=DATE:20260304
DTEND;VALUE=DATE:20260305
DTSTAMP:20260421T124458
CREATED:20260114T220006Z
LAST-MODIFIED:20260121T220008Z
UID:37405-1772582400-1772668799@charitonbeacon.com
SUMMARY:Sgt. Dunn will be here to present to 5th-12th grades. (5th-8th: 10:30-11:30) (9th-12th: 11:40-12:40)
DESCRIPTION:
URL:https://charitonbeacon.com/activity/sgt-dunn-from-the-missouri-state-highway-patrol-will-be-here-to-present/
CATEGORIES:Keytesville R-3
END:VEVENT
BEGIN:VEVENT
DTSTART;TZID=America/Chicago:20260303T090000
DTEND;TZID=America/Chicago:20260303T100000
DTSTAMP:20260421T124458
CREATED:20250904T050009Z
LAST-MODIFIED:20250904T050009Z
UID:26160-1772528400-1772532000@charitonbeacon.com
SUMMARY:Dental Fluoride
DESCRIPTION:
URL:https://charitonbeacon.com/activity/dental-fluoride/
CATEGORIES:Keytesville R-3
END:VEVENT
BEGIN:VEVENT
DTSTART;VALUE=DATE:20260227
DTEND;VALUE=DATE:20260228
DTSTAMP:20260421T124458
CREATED:20260210T220018Z
LAST-MODIFIED:20260210T220018Z
UID:38970-1772150400-1772236799@charitonbeacon.com
SUMMARY:FCCLA Officer Applications Due
DESCRIPTION:
URL:https://charitonbeacon.com/activity/fccla-officer-applications-due-2/
CATEGORIES:Keytesville R-3
END:VEVENT
BEGIN:VEVENT
DTSTART;VALUE=DATE:20260227
DTEND;VALUE=DATE:20260228
DTSTAMP:20260421T124458
CREATED:20260109T220006Z
LAST-MODIFIED:20260109T220006Z
UID:37096-1772150400-1772236799@charitonbeacon.com
SUMMARY:Barnyard Day
DESCRIPTION:
URL:https://charitonbeacon.com/activity/barnyard-day/
CATEGORIES:Keytesville R-3
END:VEVENT
BEGIN:VEVENT
DTSTART;TZID=America/Chicago:20260226T160000
DTEND;TZID=America/Chicago:20260226T170000
DTSTAMP:20260421T124458
CREATED:20251120T220008Z
LAST-MODIFIED:20251120T220008Z
UID:34022-1772121600-1772125200@charitonbeacon.com
SUMMARY:JH & HS Scholar Bowl @ Northwestern
DESCRIPTION:
URL:https://charitonbeacon.com/activity/jh-hs-scholar-bowl-northwestern-2/
CATEGORIES:Keytesville R-3
END:VEVENT
BEGIN:VEVENT
DTSTART;VALUE=DATE:20260226
DTEND;VALUE=DATE:20260227
DTSTAMP:20260421T124458
CREATED:20260107T220006Z
LAST-MODIFIED:20260107T220006Z
UID:36975-1772064000-1772150399@charitonbeacon.com
SUMMARY:FFA Juniors and Seniors State Tech Visit
DESCRIPTION:
URL:https://charitonbeacon.com/activity/ffa-juniors-and-seniors-state-tech-visit/
CATEGORIES:Keytesville R-3
END:VEVENT
BEGIN:VEVENT
DTSTART;TZID=America/Chicago:20260224T110000
DTEND;TZID=America/Chicago:20260224T120000
DTSTAMP:20260421T124458
CREATED:20260217T220017Z
LAST-MODIFIED:20260217T220017Z
UID:39391-1771930800-1771934400@charitonbeacon.com
SUMMARY:FFA Drive Thru Lunch
DESCRIPTION:
URL:https://charitonbeacon.com/activity/ffa-drive-thru-lunch/
CATEGORIES:Keytesville R-3
END:VEVENT
BEGIN:VEVENT
DTSTART;TZID=America/Chicago:20260223T060000
DTEND;TZID=America/Chicago:20260223T080000
DTSTAMP:20260421T124458
CREATED:20260109T220005Z
LAST-MODIFIED:20260217T220017Z
UID:37095-1771826400-1771833600@charitonbeacon.com
SUMMARY:FFA Breakfast
DESCRIPTION:
URL:https://charitonbeacon.com/activity/ffa-breakfast/
CATEGORIES:Keytesville R-3
END:VEVENT
BEGIN:VEVENT
DTSTART;VALUE=DATE:20260223
DTEND;VALUE=DATE:20260301
DTSTAMP:20260421T124458
CREATED:20250823T210007Z
LAST-MODIFIED:20251124T220007Z
UID:25341-1771804800-1772323199@charitonbeacon.com
SUMMARY:HS BB Boys & Girls Districts
DESCRIPTION:
URL:https://charitonbeacon.com/activity/hs-bb-boys-districts/
CATEGORIES:Keytesville R-3
END:VEVENT
END:VCALENDAR