BEGIN:VCALENDAR
VERSION:2.0
PRODID:-//The Chariton Beacon - ECPv6.15.20//NONSGML v1.0//EN
CALSCALE:GREGORIAN
METHOD:PUBLISH
X-WR-CALNAME:The Chariton Beacon
X-ORIGINAL-URL:https://charitonbeacon.com
X-WR-CALDESC:Events for The Chariton Beacon
REFRESH-INTERVAL;VALUE=DURATION:PT1H
X-Robots-Tag:noindex
X-PUBLISHED-TTL:PT1H
BEGIN:VTIMEZONE
TZID:America/Chicago
BEGIN:DAYLIGHT
TZOFFSETFROM:-0600
TZOFFSETTO:-0500
TZNAME:CDT
DTSTART:20250309T080000
END:DAYLIGHT
BEGIN:STANDARD
TZOFFSETFROM:-0500
TZOFFSETTO:-0600
TZNAME:CST
DTSTART:20251102T070000
END:STANDARD
BEGIN:DAYLIGHT
TZOFFSETFROM:-0600
TZOFFSETTO:-0500
TZNAME:CDT
DTSTART:20260308T080000
END:DAYLIGHT
BEGIN:STANDARD
TZOFFSETFROM:-0500
TZOFFSETTO:-0600
TZNAME:CST
DTSTART:20261101T070000
END:STANDARD
BEGIN:DAYLIGHT
TZOFFSETFROM:-0600
TZOFFSETTO:-0500
TZNAME:CDT
DTSTART:20270314T080000
END:DAYLIGHT
BEGIN:STANDARD
TZOFFSETFROM:-0500
TZOFFSETTO:-0600
TZNAME:CST
DTSTART:20271107T070000
END:STANDARD
END:VTIMEZONE
BEGIN:VEVENT
DTSTART;TZID=America/Chicago:20261007T140000
DTEND;TZID=America/Chicago:20261007T180000
DTSTAMP:20260421T124319
CREATED:20260408T050021Z
LAST-MODIFIED:20260408T050021Z
UID:42883-1791381600-1791396000@charitonbeacon.com
SUMMARY:Red Cross Blood Drive (STUCO)
DESCRIPTION:
URL:https://charitonbeacon.com/activity/red-cross-blood-drive-stuco/
CATEGORIES:Keytesville R-3
END:VEVENT
BEGIN:VEVENT
DTSTART;TZID=America/Chicago:20261012T180000
DTEND;TZID=America/Chicago:20261012T200000
DTSTAMP:20260421T124319
CREATED:20260413T130022Z
LAST-MODIFIED:20260413T130022Z
UID:43211-1791828000-1791835200@charitonbeacon.com
SUMMARY:Monthly Board of Education Meeting
DESCRIPTION:Attendance – (District main\, “Modules”\, attendance\,“Daily attendance”\, Overall stats) \n·        ELEM YTD attendance was 93.2% (94.)(87 students)   \n·        HS YTD Attendance was (89.9) 90.2  (58students) \n·        Overall district attendance 91.8%
URL:https://charitonbeacon.com/activity/monthly-board-of-education-meeting-8/
CATEGORIES:Keytesville R-3
END:VEVENT
END:VCALENDAR