BEGIN:VCALENDAR
VERSION:2.0
PRODID:-//The Chariton Beacon - ECPv6.15.20//NONSGML v1.0//EN
CALSCALE:GREGORIAN
METHOD:PUBLISH
X-ORIGINAL-URL:https://charitonbeacon.com
X-WR-CALDESC:Events for The Chariton Beacon
REFRESH-INTERVAL;VALUE=DURATION:PT1H
X-Robots-Tag:noindex
X-PUBLISHED-TTL:PT1H
BEGIN:VTIMEZONE
TZID:America/Chicago
BEGIN:DAYLIGHT
TZOFFSETFROM:-0600
TZOFFSETTO:-0500
TZNAME:CDT
DTSTART:20240310T080000
END:DAYLIGHT
BEGIN:STANDARD
TZOFFSETFROM:-0500
TZOFFSETTO:-0600
TZNAME:CST
DTSTART:20241103T070000
END:STANDARD
BEGIN:DAYLIGHT
TZOFFSETFROM:-0600
TZOFFSETTO:-0500
TZNAME:CDT
DTSTART:20250309T080000
END:DAYLIGHT
BEGIN:STANDARD
TZOFFSETFROM:-0500
TZOFFSETTO:-0600
TZNAME:CST
DTSTART:20251102T070000
END:STANDARD
BEGIN:DAYLIGHT
TZOFFSETFROM:-0600
TZOFFSETTO:-0500
TZNAME:CDT
DTSTART:20260308T080000
END:DAYLIGHT
BEGIN:STANDARD
TZOFFSETFROM:-0500
TZOFFSETTO:-0600
TZNAME:CST
DTSTART:20261101T070000
END:STANDARD
END:VTIMEZONE
BEGIN:VEVENT
DTSTART;VALUE=DATE:20251205
DTEND;VALUE=DATE:20251206
DTSTAMP:20260422T022619
CREATED:20250605T210005Z
LAST-MODIFIED:20250605T210005Z
UID:17919-1764892800-1764979199@charitonbeacon.com
SUMMARY:Preschool Donuts w/ Dudes
DESCRIPTION:
URL:https://charitonbeacon.com/activity/preschool-donuts-w-dudes/
CATEGORIES:Keytesville R-3
END:VEVENT
BEGIN:VEVENT
DTSTART;VALUE=DATE:20251201
DTEND;VALUE=DATE:20251207
DTSTAMP:20260422T022619
CREATED:20250601T210006Z
LAST-MODIFIED:20250601T210006Z
UID:17628-1764547200-1765065599@charitonbeacon.com
SUMMARY:HS BB Boys Northwestern Tournament
DESCRIPTION:
URL:https://charitonbeacon.com/activity/hs-bb-boys-northwestern-tournament/
CATEGORIES:Keytesville R-3
END:VEVENT
BEGIN:VEVENT
DTSTART;VALUE=DATE:20251126
DTEND;VALUE=DATE:20251202
DTSTAMP:20260422T022619
CREATED:20250526T210004Z
LAST-MODIFIED:20250526T210004Z
UID:17154-1764115200-1764633599@charitonbeacon.com
SUMMARY:Thanksgiving Break
DESCRIPTION:
URL:https://charitonbeacon.com/activity/thanksgiving-break/
CATEGORIES:Keytesville R-3
END:VEVENT
BEGIN:VEVENT
DTSTART;TZID=America/Chicago:20251125T180000
DTEND;TZID=America/Chicago:20251125T190000
DTSTAMP:20260422T022619
CREATED:20250526T130005Z
LAST-MODIFIED:20250526T130005Z
UID:17148-1764093600-1764097200@charitonbeacon.com
SUMMARY:HS BB Boys @ Bucklin/ Macon Co
DESCRIPTION:
URL:https://charitonbeacon.com/activity/hs-bb-boys-bucklin-macon-co/
CATEGORIES:Keytesville R-3
END:VEVENT
BEGIN:VEVENT
DTSTART;TZID=America/Chicago:20251125T083000
DTEND;TZID=America/Chicago:20251125T093000
DTSTAMP:20260422T022619
CREATED:20251015T210008Z
LAST-MODIFIED:20251015T210008Z
UID:30544-1764059400-1764063000@charitonbeacon.com
SUMMARY:Sophomores will be attending Sophomore Tour Day at CACC
DESCRIPTION:
URL:https://charitonbeacon.com/activity/sophomores-will-be-attending-sophomore-tour-day-at-cacc/
CATEGORIES:Keytesville R-3
END:VEVENT
BEGIN:VEVENT
DTSTART;TZID=America/Chicago:20251124T180000
DTEND;TZID=America/Chicago:20251124T190000
DTSTAMP:20260422T022619
CREATED:20250525T130006Z
LAST-MODIFIED:20250525T130006Z
UID:17075-1764007200-1764010800@charitonbeacon.com
SUMMARY:HS BB Boys vs Northwestern (Senior Night) & Co-op Girls vs Slater
DESCRIPTION:
URL:https://charitonbeacon.com/activity/hs-bb-boys-vs-northwestern-senior-night-co-op-girls-vs-slater/
CATEGORIES:Keytesville R-3
END:VEVENT
BEGIN:VEVENT
DTSTART;VALUE=DATE:20251124
DTEND;VALUE=DATE:20251125
DTSTAMP:20260422T022619
CREATED:20250524T210004Z
LAST-MODIFIED:20251022T210009Z
UID:17010-1763942400-1764028799@charitonbeacon.com
SUMMARY:SCHOOL IN SESSION
DESCRIPTION:
URL:https://charitonbeacon.com/activity/scool-in-session/
CATEGORIES:Keytesville R-3
END:VEVENT
BEGIN:VEVENT
DTSTART;TZID=America/Chicago:20251121T180000
DTEND;TZID=America/Chicago:20251121T190000
DTSTAMP:20260422T022619
CREATED:20251118T220007Z
LAST-MODIFIED:20251118T220007Z
UID:33846-1763748000-1763751600@charitonbeacon.com
SUMMARY:HS Girls Basketball @ Mendon
DESCRIPTION:
URL:https://charitonbeacon.com/activity/hs-girls-basketball-mendon/
CATEGORIES:Keytesville R-3
END:VEVENT
BEGIN:VEVENT
DTSTART;TZID=America/Chicago:20251121T180000
DTEND;TZID=America/Chicago:20251121T190000
DTSTAMP:20260422T022619
CREATED:20250522T130005Z
LAST-MODIFIED:20250522T130005Z
UID:16824-1763748000-1763751600@charitonbeacon.com
SUMMARY:HS BB Boys vs Heartland Christian
DESCRIPTION:
URL:https://charitonbeacon.com/activity/hs-bb-boys-vs-heartland-christian/
CATEGORIES:Keytesville R-3
END:VEVENT
BEGIN:VEVENT
DTSTART;TZID=America/Chicago:20251121T070000
DTEND;TZID=America/Chicago:20251121T163000
DTSTAMP:20260422T022619
CREATED:20250925T210007Z
LAST-MODIFIED:20250925T210007Z
UID:28459-1763708400-1763742600@charitonbeacon.com
SUMMARY:Shrine Circus in KC - 5th Grade
DESCRIPTION:
URL:https://charitonbeacon.com/activity/shrine-circus-in-kc-5th-grade/
CATEGORIES:Keytesville R-3
END:VEVENT
BEGIN:VEVENT
DTSTART;TZID=America/Chicago:20251120T180000
DTEND;TZID=America/Chicago:20251120T190000
DTSTAMP:20260422T022619
CREATED:20251107T220008Z
LAST-MODIFIED:20251107T220008Z
UID:32797-1763661600-1763665200@charitonbeacon.com
SUMMARY:Meet The Tigers
DESCRIPTION:
URL:https://charitonbeacon.com/activity/meet-the-tigers/
CATEGORIES:Keytesville R-3
END:VEVENT
BEGIN:VEVENT
DTSTART;TZID=America/Chicago:20251119T180000
DTEND;TZID=America/Chicago:20251119T190000
DTSTAMP:20260422T022619
CREATED:20251029T050011Z
LAST-MODIFIED:20251029T050011Z
UID:31865-1763575200-1763578800@charitonbeacon.com
SUMMARY:K-2nd Fall Literacy Night
DESCRIPTION:
URL:https://charitonbeacon.com/activity/k-2nd-fall-literacy-night/
CATEGORIES:Keytesville R-3
END:VEVENT
BEGIN:VEVENT
DTSTART;TZID=America/Chicago:20251118T180000
DTEND;TZID=America/Chicago:20251118T190000
DTSTAMP:20260422T022619
CREATED:20250519T130005Z
LAST-MODIFIED:20250519T130005Z
UID:16579-1763488800-1763492400@charitonbeacon.com
SUMMARY:JH BB @ Madison
DESCRIPTION:
URL:https://charitonbeacon.com/activity/jh-bb-madison/
CATEGORIES:Keytesville R-3
END:VEVENT
BEGIN:VEVENT
DTSTART;TZID=America/Chicago:20251118T090000
DTEND;TZID=America/Chicago:20251118T100000
DTSTAMP:20260422T022619
CREATED:20250519T050006Z
LAST-MODIFIED:20250519T050006Z
UID:16544-1763456400-1763460000@charitonbeacon.com
SUMMARY:Dental Screenings
DESCRIPTION:
URL:https://charitonbeacon.com/activity/dental-screenings-3/
CATEGORIES:Keytesville R-3
END:VEVENT
BEGIN:VEVENT
DTSTART;VALUE=DATE:20251118
DTEND;VALUE=DATE:20251119
DTSTAMP:20260422T022619
CREATED:20251002T210008Z
LAST-MODIFIED:20251002T210008Z
UID:29167-1763424000-1763510399@charitonbeacon.com
SUMMARY:Picture Retake Day
DESCRIPTION:
URL:https://charitonbeacon.com/activity/picture-retake-day/
CATEGORIES:Keytesville R-3
END:VEVENT
BEGIN:VEVENT
DTSTART;TZID=America/Chicago:20251117T180000
DTEND;TZID=America/Chicago:20251117T190000
DTSTAMP:20260422T022619
CREATED:20250518T130005Z
LAST-MODIFIED:20250518T130005Z
UID:16492-1763402400-1763406000@charitonbeacon.com
SUMMARY:JH BB vs Southwest
DESCRIPTION:
URL:https://charitonbeacon.com/activity/jh-bb-vs-southwest/
CATEGORIES:Keytesville R-3
END:VEVENT
BEGIN:VEVENT
DTSTART;TZID=America/Chicago:20251114T180000
DTEND;TZID=America/Chicago:20251114T190000
DTSTAMP:20260422T022619
CREATED:20250515T130006Z
LAST-MODIFIED:20250925T210007Z
UID:16224-1763143200-1763146800@charitonbeacon.com
SUMMARY:JH BB @ Brunswick
DESCRIPTION:
URL:https://charitonbeacon.com/activity/jh-bb-bruswick/
CATEGORIES:Keytesville R-3
END:VEVENT
BEGIN:VEVENT
DTSTART;TZID=America/Chicago:20251114T083000
DTEND;TZID=America/Chicago:20251114T143000
DTSTAMP:20260422T022619
CREATED:20251023T210006Z
LAST-MODIFIED:20251023T210006Z
UID:31361-1763109000-1763130600@charitonbeacon.com
SUMMARY:Stuco District Meeting for Northeast Region
DESCRIPTION:
URL:https://charitonbeacon.com/activity/stuco-district-meeting-for-northeast-region/
CATEGORIES:Keytesville R-3
END:VEVENT
BEGIN:VEVENT
DTSTART;TZID=America/Chicago:20251113T180000
DTEND;TZID=America/Chicago:20251113T190000
DTSTAMP:20260422T022619
CREATED:20250514T130004Z
LAST-MODIFIED:20250514T130004Z
UID:16065-1763056800-1763060400@charitonbeacon.com
SUMMARY:JH BB vs Hale
DESCRIPTION:
URL:https://charitonbeacon.com/activity/jh-bb-vs-hale/
CATEGORIES:Keytesville R-3
END:VEVENT
BEGIN:VEVENT
DTSTART;TZID=America/Chicago:20251111T180000
DTEND;TZID=America/Chicago:20251111T190000
DTSTAMP:20260422T022619
CREATED:20250512T130003Z
LAST-MODIFIED:20250512T130003Z
UID:15898-1762884000-1762887600@charitonbeacon.com
SUMMARY:JH BB @ Columbia Independent
DESCRIPTION:
URL:https://charitonbeacon.com/activity/jh-bb-columbia-independent/
CATEGORIES:Keytesville R-3
END:VEVENT
BEGIN:VEVENT
DTSTART;TZID=America/Chicago:20251111T140000
DTEND;TZID=America/Chicago:20251111T150000
DTSTAMP:20260422T022619
CREATED:20251022T210009Z
LAST-MODIFIED:20251022T210009Z
UID:31263-1762869600-1762873200@charitonbeacon.com
SUMMARY:Veterans Day Assembly
DESCRIPTION:
URL:https://charitonbeacon.com/activity/veterans-day-assembly-2/
CATEGORIES:Keytesville R-3
END:VEVENT
BEGIN:VEVENT
DTSTART;TZID=America/Chicago:20251110T180000
DTEND;TZID=America/Chicago:20251110T200000
DTSTAMP:20260422T022619
CREATED:20250511T130003Z
LAST-MODIFIED:20251015T210007Z
UID:15830-1762797600-1762804800@charitonbeacon.com
SUMMARY:Monthly Board of Education Meeting
DESCRIPTION:Attendance – (District main\, “Modules”\, attendance\,“Daily attendance”\, Overall stats) \n·        ELEM YTD attendance was 93.2% (94.)(87 students)   \n·        HS YTD Attendance was (89.9) 90.2  (58students) \n·        Overall district attendance 91.8%
URL:https://charitonbeacon.com/activity/monthly-board-of-education-meeting-11/
CATEGORIES:Keytesville R-3
END:VEVENT
BEGIN:VEVENT
DTSTART;TZID=America/Chicago:20251110T180000
DTEND;TZID=America/Chicago:20251110T190000
DTSTAMP:20260422T022619
CREATED:20250511T130003Z
LAST-MODIFIED:20250511T130003Z
UID:15831-1762797600-1762801200@charitonbeacon.com
SUMMARY:JH BB @ Tina Avalon
DESCRIPTION:
URL:https://charitonbeacon.com/activity/jh-bb-tina-avalon/
CATEGORIES:Keytesville R-3
END:VEVENT
BEGIN:VEVENT
DTSTART;TZID=America/Chicago:20251107T180000
DTEND;TZID=America/Chicago:20251107T190000
DTSTAMP:20260422T022619
CREATED:20250508T130003Z
LAST-MODIFIED:20250508T130003Z
UID:15585-1762538400-1762542000@charitonbeacon.com
SUMMARY:JH BB @ Mendon
DESCRIPTION:
URL:https://charitonbeacon.com/activity/jh-bb-mendon/
CATEGORIES:Keytesville R-3
END:VEVENT
BEGIN:VEVENT
DTSTART;TZID=America/Chicago:20251106T180000
DTEND;TZID=America/Chicago:20251106T190000
DTSTAMP:20260422T022619
CREATED:20250507T130004Z
LAST-MODIFIED:20250507T130004Z
UID:15502-1762452000-1762455600@charitonbeacon.com
SUMMARY:JH BB vs Renick
DESCRIPTION:
URL:https://charitonbeacon.com/activity/jh-bb-vs-renick/
CATEGORIES:Keytesville R-3
END:VEVENT
BEGIN:VEVENT
DTSTART;VALUE=DATE:20251105
DTEND;VALUE=DATE:20251106
DTSTAMP:20260422T022619
CREATED:20250912T210007Z
LAST-MODIFIED:20250912T210007Z
UID:27149-1762300800-1762387199@charitonbeacon.com
SUMMARY:Thunder HS Softball Banquet
DESCRIPTION:
URL:https://charitonbeacon.com/activity/thunder-hs-softball-banquet/
CATEGORIES:Keytesville R-3
END:VEVENT
BEGIN:VEVENT
DTSTART;VALUE=DATE:20251105
DTEND;VALUE=DATE:20251106
DTSTAMP:20260422T022619
CREATED:20250903T210011Z
LAST-MODIFIED:20250903T210011Z
UID:26101-1762300800-1762387199@charitonbeacon.com
SUMMARY:Flu Vaccinations
DESCRIPTION:
URL:https://charitonbeacon.com/activity/flu-vaccinations/
CATEGORIES:Keytesville R-3
END:VEVENT
BEGIN:VEVENT
DTSTART;TZID=America/Chicago:20251103T170000
DTEND;TZID=America/Chicago:20251103T180000
DTSTAMP:20260422T022619
CREATED:20250912T210007Z
LAST-MODIFIED:20250912T210007Z
UID:27148-1762189200-1762192800@charitonbeacon.com
SUMMARY:JH Basketball @ Schuyler Co
DESCRIPTION:
URL:https://charitonbeacon.com/activity/jh-basketball-schuyler-co/
CATEGORIES:Keytesville R-3
END:VEVENT
BEGIN:VEVENT
DTSTART;VALUE=DATE:20251031
DTEND;VALUE=DATE:20251101
DTSTAMP:20260422T022619
CREATED:20250501T130004Z
LAST-MODIFIED:20250501T130004Z
UID:15010-1761868800-1761955199@charitonbeacon.com
SUMMARY:Varsity Football Districts
DESCRIPTION:
URL:https://charitonbeacon.com/activity/varsity-football-districts/
CATEGORIES:Keytesville R-3
END:VEVENT
BEGIN:VEVENT
DTSTART;TZID=America/Chicago:20251030T170000
DTEND;TZID=America/Chicago:20251030T180000
DTSTAMP:20260422T022619
CREATED:20250501T130004Z
LAST-MODIFIED:20251022T210009Z
UID:15009-1761843600-1761847200@charitonbeacon.com
SUMMARY:JH BB @ Orrick
DESCRIPTION:
URL:https://charitonbeacon.com/activity/jh-bb-orrick/
CATEGORIES:Keytesville R-3
END:VEVENT
END:VCALENDAR