BEGIN:VCALENDAR
VERSION:2.0
PRODID:-//The Chariton Beacon - ECPv6.15.20//NONSGML v1.0//EN
CALSCALE:GREGORIAN
METHOD:PUBLISH
X-WR-CALNAME:The Chariton Beacon
X-ORIGINAL-URL:https://charitonbeacon.com
X-WR-CALDESC:Events for The Chariton Beacon
REFRESH-INTERVAL;VALUE=DURATION:PT1H
X-Robots-Tag:noindex
X-PUBLISHED-TTL:PT1H
BEGIN:VTIMEZONE
TZID:America/Chicago
BEGIN:DAYLIGHT
TZOFFSETFROM:-0600
TZOFFSETTO:-0500
TZNAME:CDT
DTSTART:20250309T080000
END:DAYLIGHT
BEGIN:STANDARD
TZOFFSETFROM:-0500
TZOFFSETTO:-0600
TZNAME:CST
DTSTART:20251102T070000
END:STANDARD
BEGIN:DAYLIGHT
TZOFFSETFROM:-0600
TZOFFSETTO:-0500
TZNAME:CDT
DTSTART:20260308T080000
END:DAYLIGHT
BEGIN:STANDARD
TZOFFSETFROM:-0500
TZOFFSETTO:-0600
TZNAME:CST
DTSTART:20261101T070000
END:STANDARD
BEGIN:DAYLIGHT
TZOFFSETFROM:-0600
TZOFFSETTO:-0500
TZNAME:CDT
DTSTART:20270314T080000
END:DAYLIGHT
BEGIN:STANDARD
TZOFFSETFROM:-0500
TZOFFSETTO:-0600
TZNAME:CST
DTSTART:20271107T070000
END:STANDARD
END:VTIMEZONE
BEGIN:VEVENT
DTSTART;TZID=America/Chicago:20260421T073000
DTEND;TZID=America/Chicago:20260421T153000
DTSTAMP:20260421T075917
CREATED:20260210T220027Z
LAST-MODIFIED:20260330T210023Z
UID:38997-1776756600-1776785400@charitonbeacon.com
SUMMARY:JH/HS Track at CLAA Tournament
DESCRIPTION:
URL:https://charitonbeacon.com/activity/jh-hs-track-at-claa-tournament/
CATEGORIES:Northwestern R-1
END:VEVENT
BEGIN:VEVENT
DTSTART;TZID=America/Chicago:20260421T170000
DTEND;TZID=America/Chicago:20260421T190000
DTSTAMP:20260421T075917
CREATED:20260217T060024Z
LAST-MODIFIED:20260217T060024Z
UID:39346-1776790800-1776798000@charitonbeacon.com
SUMMARY:V. Baseball @ Madison
DESCRIPTION:
URL:https://charitonbeacon.com/activity/v-baseball-madison/
CATEGORIES:Northwestern R-1
END:VEVENT
BEGIN:VEVENT
DTSTART;VALUE=DATE:20260422
DTEND;VALUE=DATE:20260423
DTSTAMP:20260421T075917
CREATED:20251022T210011Z
LAST-MODIFIED:20251022T210011Z
UID:31267-1776816000-1776902399@charitonbeacon.com
SUMMARY:Teacher Grades due @ 8am (4th Q midterm)
DESCRIPTION:
URL:https://charitonbeacon.com/activity/teacher-grades-due-8am-4th-q-midterm/
CATEGORIES:Northwestern R-1
END:VEVENT
BEGIN:VEVENT
DTSTART;TZID=America/Chicago:20260422T170000
DTEND;TZID=America/Chicago:20260422T180000
DTSTAMP:20260421T075917
CREATED:20260402T210027Z
LAST-MODIFIED:20260402T210027Z
UID:42562-1776877200-1776880800@charitonbeacon.com
SUMMARY:NHS Induction Ceremony
DESCRIPTION:
URL:https://charitonbeacon.com/activity/nhs-induction-ceremony/
CATEGORIES:Northwestern R-1
END:VEVENT
BEGIN:VEVENT
DTSTART;TZID=America/Chicago:20260422T180000
DTEND;TZID=America/Chicago:20260422T190000
DTSTAMP:20260421T075917
CREATED:20260217T220024Z
LAST-MODIFIED:20260217T220024Z
UID:39400-1776880800-1776884400@charitonbeacon.com
SUMMARY:C.S.I.P. Community Meeting #3 (Library)
DESCRIPTION:
URL:https://charitonbeacon.com/activity/c-s-i-p-community-meeting-3-library/
CATEGORIES:Northwestern R-1
END:VEVENT
BEGIN:VEVENT
DTSTART;TZID=America/Chicago:20260423T123000
DTEND;TZID=America/Chicago:20260423T183000
DTSTAMP:20260421T075917
CREATED:20260210T220028Z
LAST-MODIFIED:20260330T210023Z
UID:38998-1776947400-1776969000@charitonbeacon.com
SUMMARY:JH Track at Salisbury MS Relays
DESCRIPTION:
URL:https://charitonbeacon.com/activity/jh-track-at-salisbury-ms-relays/
CATEGORIES:Northwestern R-1
END:VEVENT
BEGIN:VEVENT
DTSTART;TZID=America/Chicago:20260423T160000
DTEND;TZID=America/Chicago:20260423T170000
DTSTAMP:20260421T075917
CREATED:20260210T220028Z
LAST-MODIFIED:20260210T220028Z
UID:38999-1776960000-1776963600@charitonbeacon.com
SUMMARY:Golf at Monroe City- 9 holes
DESCRIPTION:
URL:https://charitonbeacon.com/activity/golf-at-monroe-city-9-holes/
CATEGORIES:Northwestern R-1
END:VEVENT
BEGIN:VEVENT
DTSTART;TZID=America/Chicago:20260423T160000
DTEND;TZID=America/Chicago:20260423T170000
DTSTAMP:20260421T075917
CREATED:20260325T210022Z
LAST-MODIFIED:20260325T210022Z
UID:42059-1776960000-1776963600@charitonbeacon.com
SUMMARY:Title I Reading Parent Meeting
DESCRIPTION:
URL:https://charitonbeacon.com/activity/title-i-reading-parent-meeting/
CATEGORIES:Northwestern R-1
END:VEVENT
BEGIN:VEVENT
DTSTART;TZID=America/Chicago:20260423T170000
DTEND;TZID=America/Chicago:20260423T190000
DTSTAMP:20260421T075917
CREATED:20260217T060025Z
LAST-MODIFIED:20260217T060025Z
UID:39348-1776963600-1776970800@charitonbeacon.com
SUMMARY:V. Baseball vs. Bevier
DESCRIPTION:
URL:https://charitonbeacon.com/activity/v-baseball-vs-bevier/
CATEGORIES:Northwestern R-1
END:VEVENT
BEGIN:VEVENT
DTSTART;VALUE=DATE:20260424
DTEND;VALUE=DATE:20260425
DTSTAMP:20260421T075917
CREATED:20251024T210012Z
LAST-MODIFIED:20251024T210012Z
UID:31478-1776988800-1777075199@charitonbeacon.com
SUMMARY:Hat Day- sponsored by NHS
DESCRIPTION:
URL:https://charitonbeacon.com/activity/hat-day-sponsored-by-nhs-7/
CATEGORIES:Northwestern R-1
END:VEVENT
BEGIN:VEVENT
DTSTART;TZID=America/Chicago:20260424T083000
DTEND;TZID=America/Chicago:20260424T163000
DTSTAMP:20260421T075917
CREATED:20260210T220028Z
LAST-MODIFIED:20260330T210023Z
UID:39001-1777019400-1777048200@charitonbeacon.com
SUMMARY:HS Track at Gary Ewing (Brookfield)
DESCRIPTION:
URL:https://charitonbeacon.com/activity/hs-track-at-gary-ewing-brookfield/
CATEGORIES:Northwestern R-1
END:VEVENT
BEGIN:VEVENT
DTSTART;VALUE=DATE:20260425
DTEND;VALUE=DATE:20260426
DTSTAMP:20260421T075917
CREATED:20260309T210018Z
LAST-MODIFIED:20260309T210018Z
UID:40796-1777075200-1777161599@charitonbeacon.com
SUMMARY:HS State Math Contest @ MU
DESCRIPTION:
URL:https://charitonbeacon.com/activity/hs-state-math-contest-mu/
CATEGORIES:Northwestern R-1
END:VEVENT
BEGIN:VEVENT
DTSTART;VALUE=DATE:20260427
DTEND;VALUE=DATE:20260428
DTSTAMP:20260421T075917
CREATED:20251027T210009Z
LAST-MODIFIED:20251027T210009Z
UID:31780-1777248000-1777334399@charitonbeacon.com
SUMMARY:Possible Snow Makeup Day
DESCRIPTION:
URL:https://charitonbeacon.com/activity/possible-snow-makeup-day-7/
CATEGORIES:Northwestern R-1
END:VEVENT
BEGIN:VEVENT
DTSTART;TZID=America/Chicago:20260427T070000
DTEND;TZID=America/Chicago:20260427T150000
DTSTAMP:20260421T075917
CREATED:20260210T220029Z
LAST-MODIFIED:20260330T210024Z
UID:39002-1777273200-1777302000@charitonbeacon.com
SUMMARY:JH/HS Track at Norborne
DESCRIPTION:
URL:https://charitonbeacon.com/activity/jh-hs-track-at-norborne/
CATEGORIES:Northwestern R-1
END:VEVENT
BEGIN:VEVENT
DTSTART;TZID=America/Chicago:20260428T170000
DTEND;TZID=America/Chicago:20260428T190000
DTSTAMP:20260421T075917
CREATED:20260217T060025Z
LAST-MODIFIED:20260217T060025Z
UID:39349-1777395600-1777402800@charitonbeacon.com
SUMMARY:V. Baseball @ Brashear
DESCRIPTION:
URL:https://charitonbeacon.com/activity/v-baseball-brashear/
CATEGORIES:Northwestern R-1
END:VEVENT
BEGIN:VEVENT
DTSTART;TZID=America/Chicago:20260429T170000
DTEND;TZID=America/Chicago:20260429T190000
DTSTAMP:20260421T075917
CREATED:20260217T060025Z
LAST-MODIFIED:20260217T060025Z
UID:39350-1777482000-1777489200@charitonbeacon.com
SUMMARY:V. Baseball @ Salisbury
DESCRIPTION:
URL:https://charitonbeacon.com/activity/v-baseball-salisbury/
CATEGORIES:Northwestern R-1
END:VEVENT
BEGIN:VEVENT
DTSTART;TZID=America/Chicago:20260429T190000
DTEND;TZID=America/Chicago:20260429T200000
DTSTAMP:20260421T075917
CREATED:20260217T060026Z
LAST-MODIFIED:20260217T060026Z
UID:39351-1777489200-1777492800@charitonbeacon.com
SUMMARY:JV Baseball @ Salisbury
DESCRIPTION:
URL:https://charitonbeacon.com/activity/jv-baseball-salisbury/
CATEGORIES:Northwestern R-1
END:VEVENT
BEGIN:VEVENT
DTSTART;TZID=America/Chicago:20260430T133000
DTEND;TZID=America/Chicago:20260430T193000
DTSTAMP:20260421T075917
CREATED:20260210T220029Z
LAST-MODIFIED:20260330T210024Z
UID:39003-1777555800-1777577400@charitonbeacon.com
SUMMARY:JH Track at Milan
DESCRIPTION:
URL:https://charitonbeacon.com/activity/jh-track-at-milan/
CATEGORIES:Northwestern R-1
END:VEVENT
BEGIN:VEVENT
DTSTART;TZID=America/Chicago:20260430T160000
DTEND;TZID=America/Chicago:20260430T170000
DTSTAMP:20260421T075917
CREATED:20260210T220029Z
LAST-MODIFIED:20260210T220029Z
UID:39004-1777564800-1777568400@charitonbeacon.com
SUMMARY:Golf at Marshall Quad- 9 holes
DESCRIPTION:
URL:https://charitonbeacon.com/activity/golf-at-marshall-quad-9-holes/
CATEGORIES:Northwestern R-1
END:VEVENT
BEGIN:VEVENT
DTSTART;TZID=America/Chicago:20260501T090000
DTEND;TZID=America/Chicago:20260501T100000
DTSTAMP:20260421T075917
CREATED:20260408T210025Z
LAST-MODIFIED:20260408T210025Z
UID:42921-1777626000-1777629600@charitonbeacon.com
SUMMARY:Graduation Practice
DESCRIPTION:
URL:https://charitonbeacon.com/activity/graduation-practice/
CATEGORIES:Northwestern R-1
END:VEVENT
BEGIN:VEVENT
DTSTART;TZID=America/Chicago:20260501T100000
DTEND;TZID=America/Chicago:20260501T103000
DTSTAMP:20260421T075917
CREATED:20260408T210025Z
LAST-MODIFIED:20260408T210025Z
UID:42922-1777629600-1777631400@charitonbeacon.com
SUMMARY:Graduation Photos
DESCRIPTION:
URL:https://charitonbeacon.com/activity/graduation-photos/
CATEGORIES:Northwestern R-1
END:VEVENT
BEGIN:VEVENT
DTSTART;TZID=America/Chicago:20260501T110000
DTEND;TZID=America/Chicago:20260501T120000
DTSTAMP:20260421T075917
CREATED:20260408T210025Z
LAST-MODIFIED:20260408T210025Z
UID:42924-1777633200-1777636800@charitonbeacon.com
SUMMARY:Senior Lunch
DESCRIPTION:
URL:https://charitonbeacon.com/activity/senior-lunch/
CATEGORIES:Northwestern R-1
END:VEVENT
BEGIN:VEVENT
DTSTART;TZID=America/Chicago:20260501T113000
DTEND;TZID=America/Chicago:20260501T183000
DTSTAMP:20260421T075918
CREATED:20260210T220030Z
LAST-MODIFIED:20260330T210024Z
UID:39005-1777635000-1777660200@charitonbeacon.com
SUMMARY:HS Track at Glasgow
DESCRIPTION:
URL:https://charitonbeacon.com/activity/hs-track-at-glasgow/
CATEGORIES:Northwestern R-1
END:VEVENT
BEGIN:VEVENT
DTSTART;TZID=America/Chicago:20260501T120000
DTEND;TZID=America/Chicago:20260501T123000
DTSTAMP:20260421T075918
CREATED:20260408T210026Z
LAST-MODIFIED:20260408T210026Z
UID:42925-1777636800-1777638600@charitonbeacon.com
SUMMARY:Senior Walk
DESCRIPTION:
URL:https://charitonbeacon.com/activity/senior-walk/
CATEGORIES:Northwestern R-1
END:VEVENT
BEGIN:VEVENT
DTSTART;TZID=America/Chicago:20260501T123000
DTEND;TZID=America/Chicago:20260501T153000
DTSTAMP:20260421T075918
CREATED:20260316T050020Z
LAST-MODIFIED:20260316T050020Z
UID:41289-1777638600-1777649400@charitonbeacon.com
SUMMARY:Elementary Honor Roll Trip
DESCRIPTION:
URL:https://charitonbeacon.com/activity/elementary-honor-roll-trip/
CATEGORIES:Northwestern R-1
END:VEVENT
BEGIN:VEVENT
DTSTART;TZID=America/Chicago:20260501T170000
DTEND;TZID=America/Chicago:20260501T190000
DTSTAMP:20260421T075918
CREATED:20260217T060026Z
LAST-MODIFIED:20260217T060026Z
UID:39353-1777654800-1777662000@charitonbeacon.com
SUMMARY:V. Baseball vs. Atlanta
DESCRIPTION:
URL:https://charitonbeacon.com/activity/v-baseball-vs-atlanta/
CATEGORIES:Northwestern R-1
END:VEVENT
BEGIN:VEVENT
DTSTART;TZID=America/Chicago:20260501T190000
DTEND;TZID=America/Chicago:20260501T200000
DTSTAMP:20260421T075918
CREATED:20260217T060026Z
LAST-MODIFIED:20260217T060026Z
UID:39354-1777662000-1777665600@charitonbeacon.com
SUMMARY:JV Baseball vs. Atlanta
DESCRIPTION:
URL:https://charitonbeacon.com/activity/jv-baseball-vs-atlanta/
CATEGORIES:Northwestern R-1
END:VEVENT
BEGIN:VEVENT
DTSTART;TZID=America/Chicago:20260503T180000
DTEND;TZID=America/Chicago:20260503T190000
DTSTAMP:20260421T075918
CREATED:20251104T140009Z
LAST-MODIFIED:20251104T140009Z
UID:32458-1777831200-1777834800@charitonbeacon.com
SUMMARY:Graduation
DESCRIPTION:
URL:https://charitonbeacon.com/activity/graduation-4/
CATEGORIES:Northwestern R-1
END:VEVENT
BEGIN:VEVENT
DTSTART;VALUE=DATE:20260504
DTEND;VALUE=DATE:20260511
DTSTAMP:20260421T075918
CREATED:20260311T210016Z
LAST-MODIFIED:20260311T210016Z
UID:40982-1777852800-1778457599@charitonbeacon.com
SUMMARY:Staff Insurance - OPEN ENROLLMENT
DESCRIPTION:
URL:https://charitonbeacon.com/activity/staff-insurance-open-enrollment/
CATEGORIES:Northwestern R-1
END:VEVENT
BEGIN:VEVENT
DTSTART;TZID=America/Chicago:20260504T090000
DTEND;TZID=America/Chicago:20260504T100000
DTSTAMP:20260421T075918
CREATED:20260210T220030Z
LAST-MODIFIED:20260210T220030Z
UID:39007-1777885200-1777888800@charitonbeacon.com
SUMMARY:Golf in Carrollton Open & CLAA Tourn.- 18 holes
DESCRIPTION:
URL:https://charitonbeacon.com/activity/golf-in-carrollton-open-claa-tourn-18-holes/
CATEGORIES:Northwestern R-1
END:VEVENT
END:VCALENDAR