BEGIN:VCALENDAR
VERSION:2.0
PRODID:-//The Chariton Beacon - ECPv6.15.20//NONSGML v1.0//EN
CALSCALE:GREGORIAN
METHOD:PUBLISH
X-ORIGINAL-URL:https://charitonbeacon.com
X-WR-CALDESC:Events for The Chariton Beacon
REFRESH-INTERVAL;VALUE=DURATION:PT1H
X-Robots-Tag:noindex
X-PUBLISHED-TTL:PT1H
BEGIN:VTIMEZONE
TZID:America/Chicago
BEGIN:DAYLIGHT
TZOFFSETFROM:-0600
TZOFFSETTO:-0500
TZNAME:CDT
DTSTART:20240310T080000
END:DAYLIGHT
BEGIN:STANDARD
TZOFFSETFROM:-0500
TZOFFSETTO:-0600
TZNAME:CST
DTSTART:20241103T070000
END:STANDARD
BEGIN:DAYLIGHT
TZOFFSETFROM:-0600
TZOFFSETTO:-0500
TZNAME:CDT
DTSTART:20250309T080000
END:DAYLIGHT
BEGIN:STANDARD
TZOFFSETFROM:-0500
TZOFFSETTO:-0600
TZNAME:CST
DTSTART:20251102T070000
END:STANDARD
BEGIN:DAYLIGHT
TZOFFSETFROM:-0600
TZOFFSETTO:-0500
TZNAME:CDT
DTSTART:20260308T080000
END:DAYLIGHT
BEGIN:STANDARD
TZOFFSETFROM:-0500
TZOFFSETTO:-0600
TZNAME:CST
DTSTART:20261101T070000
END:STANDARD
BEGIN:DAYLIGHT
TZOFFSETFROM:-0600
TZOFFSETTO:-0500
TZNAME:CDT
DTSTART:20270314T080000
END:DAYLIGHT
BEGIN:STANDARD
TZOFFSETFROM:-0500
TZOFFSETTO:-0600
TZNAME:CST
DTSTART:20271107T070000
END:STANDARD
END:VTIMEZONE
BEGIN:VEVENT
DTSTART;TZID=America/Chicago:20260115T151700
DTEND;TZID=America/Chicago:20260115T153700
DTSTAMP:20260422T052023
CREATED:20260109T220010Z
LAST-MODIFIED:20260114T220008Z
UID:37110-1768490220-1768491420@charitonbeacon.com
SUMMARY:Senior Trip Meeting
DESCRIPTION:
URL:https://charitonbeacon.com/activity/senior-trip-meeting/
CATEGORIES:Northwestern R-1
END:VEVENT
BEGIN:VEVENT
DTSTART;VALUE=DATE:20260115
DTEND;VALUE=DATE:20260116
DTSTAMP:20260422T052023
CREATED:20250815T210009Z
LAST-MODIFIED:20250815T210009Z
UID:24588-1768435200-1768521599@charitonbeacon.com
SUMMARY:FCCLA Officer Elections @ Macon
DESCRIPTION:
URL:https://charitonbeacon.com/activity/fccla-officer-elections-macon/
CATEGORIES:Northwestern R-1
END:VEVENT
BEGIN:VEVENT
DTSTART;TZID=America/Chicago:20260114T151700
DTEND;TZID=America/Chicago:20260114T153700
DTSTAMP:20260422T052023
CREATED:20260113T220007Z
LAST-MODIFIED:20260113T220007Z
UID:37343-1768403820-1768405020@charitonbeacon.com
SUMMARY:Quiz Bowl Interest Mtg. @ Library
DESCRIPTION:
URL:https://charitonbeacon.com/activity/quiz-bowl-interest-mtg-library/
CATEGORIES:Northwestern R-1
END:VEVENT
BEGIN:VEVENT
DTSTART;TZID=America/Chicago:20260113T153000
DTEND;TZID=America/Chicago:20260113T173000
DTSTAMP:20260422T052023
CREATED:20251116T220007Z
LAST-MODIFIED:20251116T220007Z
UID:33653-1768318200-1768325400@charitonbeacon.com
SUMMARY:Game & Art Club
DESCRIPTION:
URL:https://charitonbeacon.com/activity/game-art-club-2/
CATEGORIES:Northwestern R-1
END:VEVENT
BEGIN:VEVENT
DTSTART;TZID=America/Chicago:20260112T193000
DTEND;TZID=America/Chicago:20260112T203000
DTSTAMP:20260422T052023
CREATED:20251014T210017Z
LAST-MODIFIED:20251015T210012Z
UID:30436-1768246200-1768249800@charitonbeacon.com
SUMMARY:{Pink Out} V. Boys Basketball @ Brunswick
DESCRIPTION:
URL:https://charitonbeacon.com/activity/v-boys-basketball-brunswick/
CATEGORIES:Northwestern R-1
END:VEVENT
BEGIN:VEVENT
DTSTART;TZID=America/Chicago:20260112T180000
DTEND;TZID=America/Chicago:20260112T190000
DTSTAMP:20260422T052023
CREATED:20251014T210017Z
LAST-MODIFIED:20251015T210012Z
UID:30435-1768240800-1768244400@charitonbeacon.com
SUMMARY:{Pink Out} V. Girls Basketball @ Brunswick
DESCRIPTION:
URL:https://charitonbeacon.com/activity/v-girls-basketball-brunswick/
CATEGORIES:Northwestern R-1
END:VEVENT
BEGIN:VEVENT
DTSTART;VALUE=DATE:20260112
DTEND;VALUE=DATE:20260113
DTSTAMP:20260422T052023
CREATED:20250815T210009Z
LAST-MODIFIED:20250815T210009Z
UID:24587-1768176000-1768262399@charitonbeacon.com
SUMMARY:FCCLA STAR Events @ S.Shelby
DESCRIPTION:
URL:https://charitonbeacon.com/activity/fccla-star-events-s-shelby/
CATEGORIES:Northwestern R-1
END:VEVENT
BEGIN:VEVENT
DTSTART;VALUE=DATE:20260112
DTEND;VALUE=DATE:20260113
DTSTAMP:20260422T052023
CREATED:20250712T210007Z
LAST-MODIFIED:20250712T210007Z
UID:21042-1768176000-1768262399@charitonbeacon.com
SUMMARY:Possible Snow Makeup Day
DESCRIPTION:
URL:https://charitonbeacon.com/activity/possible-snow-makeup-day-2/
CATEGORIES:Northwestern R-1
END:VEVENT
BEGIN:VEVENT
DTSTART;TZID=America/Chicago:20260109T210000
DTEND;TZID=America/Chicago:20260109T230000
DTSTAMP:20260422T052023
CREATED:20260105T060009Z
LAST-MODIFIED:20260105T060009Z
UID:36829-1767992400-1767999600@charitonbeacon.com
SUMMARY:Homecoming Hangout
DESCRIPTION:
URL:https://charitonbeacon.com/activity/homecoming-hangout/
CATEGORIES:Northwestern R-1
END:VEVENT
BEGIN:VEVENT
DTSTART;TZID=America/Chicago:20260109T193000
DTEND;TZID=America/Chicago:20260109T203000
DTSTAMP:20260422T052023
CREATED:20251014T210016Z
LAST-MODIFIED:20251015T210011Z
UID:30434-1767987000-1767990600@charitonbeacon.com
SUMMARY:{Homecoming} V. Home Boys Basketball Vs. Southwest
DESCRIPTION:
URL:https://charitonbeacon.com/activity/v-home-boys-basketball-vs-southwest/
CATEGORIES:Northwestern R-1
END:VEVENT
BEGIN:VEVENT
DTSTART;TZID=America/Chicago:20260109T180000
DTEND;TZID=America/Chicago:20260109T190000
DTSTAMP:20260422T052023
CREATED:20251014T210016Z
LAST-MODIFIED:20251015T210011Z
UID:30433-1767981600-1767985200@charitonbeacon.com
SUMMARY:{Homecoming} V. Home Girls Basketball Vs. Southwest
DESCRIPTION:
URL:https://charitonbeacon.com/activity/v-home-girls-basketball-vs-southwest/
CATEGORIES:Northwestern R-1
END:VEVENT
BEGIN:VEVENT
DTSTART;TZID=America/Chicago:20260109T143000
DTEND;TZID=America/Chicago:20260109T153000
DTSTAMP:20260422T052023
CREATED:20260105T060009Z
LAST-MODIFIED:20260105T060009Z
UID:36828-1767969000-1767972600@charitonbeacon.com
SUMMARY:Homecoming Pep Assembly
DESCRIPTION:
URL:https://charitonbeacon.com/activity/homecoming-pep-assembly/
CATEGORIES:Northwestern R-1
END:VEVENT
BEGIN:VEVENT
DTSTART;VALUE=DATE:20260109
DTEND;VALUE=DATE:20260110
DTSTAMP:20260422T052023
CREATED:20260105T060008Z
LAST-MODIFIED:20260105T060008Z
UID:36827-1767916800-1768003199@charitonbeacon.com
SUMMARY:Battleship Day- Wear your class color
DESCRIPTION:
URL:https://charitonbeacon.com/activity/battleship-day-wear-your-class-color/
CATEGORIES:Northwestern R-1
END:VEVENT
BEGIN:VEVENT
DTSTART;TZID=America/Chicago:20260108T190000
DTEND;TZID=America/Chicago:20260108T200000
DTSTAMP:20260422T052023
CREATED:20251217T220008Z
LAST-MODIFIED:20251217T220008Z
UID:36047-1767898800-1767902400@charitonbeacon.com
SUMMARY:Community Pep Rally (concessions opening at 6:30pm)
DESCRIPTION:
URL:https://charitonbeacon.com/activity/community-pep-rally-concessions-opening-at-630pm/
CATEGORIES:Northwestern R-1
END:VEVENT
BEGIN:VEVENT
DTSTART;TZID=America/Chicago:20260108T151700
DTEND;TZID=America/Chicago:20260108T153700
DTSTAMP:20260422T052023
CREATED:20260105T220007Z
LAST-MODIFIED:20260105T220007Z
UID:36861-1767885420-1767886620@charitonbeacon.com
SUMMARY:Homecoming Royalty Practice in gym
DESCRIPTION:
URL:https://charitonbeacon.com/activity/homecoming-royalty-practice-in-gym/
CATEGORIES:Northwestern R-1
END:VEVENT
BEGIN:VEVENT
DTSTART;TZID=America/Chicago:20260108T151700
DTEND;TZID=America/Chicago:20260108T153700
DTSTAMP:20260422T052023
CREATED:20251006T050012Z
LAST-MODIFIED:20251006T050012Z
UID:29494-1767885420-1767886620@charitonbeacon.com
SUMMARY:FFA Officers Mtg.
DESCRIPTION:
URL:https://charitonbeacon.com/activity/ffa-officers-mtg-4/
CATEGORIES:Northwestern R-1
END:VEVENT
BEGIN:VEVENT
DTSTART;VALUE=DATE:20260108
DTEND;VALUE=DATE:20260109
DTSTAMP:20260422T052023
CREATED:20260105T060008Z
LAST-MODIFIED:20260105T060008Z
UID:36826-1767830400-1767916799@charitonbeacon.com
SUMMARY:LIFE Day- Dress as your future career
DESCRIPTION:
URL:https://charitonbeacon.com/activity/life-day-dress-as-your-future-career/
CATEGORIES:Northwestern R-1
END:VEVENT
BEGIN:VEVENT
DTSTART;VALUE=DATE:20260108
DTEND;VALUE=DATE:20260109
DTSTAMP:20260422T052023
CREATED:20250924T050009Z
LAST-MODIFIED:20250924T050009Z
UID:28306-1767830400-1767916799@charitonbeacon.com
SUMMARY:Teacher Grades due @ 8am (2nd Q/ 1st Sem)
DESCRIPTION:
URL:https://charitonbeacon.com/activity/teacher-grades-due-8am-2nd-q-1st-sem/
CATEGORIES:Northwestern R-1
END:VEVENT
BEGIN:VEVENT
DTSTART;TZID=America/Chicago:20260107T151700
DTEND;TZID=America/Chicago:20260107T153700
DTSTAMP:20260422T052023
CREATED:20250929T210008Z
LAST-MODIFIED:20251104T220010Z
UID:28859-1767799020-1767800220@charitonbeacon.com
SUMMARY:STUCO meeting
DESCRIPTION:
URL:https://charitonbeacon.com/activity/stuco-meeting-4/
CATEGORIES:Northwestern R-1
END:VEVENT
BEGIN:VEVENT
DTSTART;VALUE=DATE:20260107
DTEND;VALUE=DATE:20260108
DTSTAMP:20260422T052023
CREATED:20260105T060007Z
LAST-MODIFIED:20260105T060007Z
UID:36825-1767744000-1767830399@charitonbeacon.com
SUMMARY:Scrabble Day- Dress w/ Letters
DESCRIPTION:
URL:https://charitonbeacon.com/activity/scrabble-day-dress-w-letters/
CATEGORIES:Northwestern R-1
END:VEVENT
BEGIN:VEVENT
DTSTART;TZID=America/Chicago:20260106T193000
DTEND;TZID=America/Chicago:20260106T203000
DTSTAMP:20260422T052023
CREATED:20251014T210016Z
LAST-MODIFIED:20251014T210016Z
UID:30432-1767727800-1767731400@charitonbeacon.com
SUMMARY:V. Boys Basketball @ Hale
DESCRIPTION:
URL:https://charitonbeacon.com/activity/v-boys-basketball-hale/
CATEGORIES:Northwestern R-1
END:VEVENT
BEGIN:VEVENT
DTSTART;TZID=America/Chicago:20260106T180000
DTEND;TZID=America/Chicago:20260106T190000
DTSTAMP:20260422T052023
CREATED:20251014T210016Z
LAST-MODIFIED:20251014T210016Z
UID:30431-1767722400-1767726000@charitonbeacon.com
SUMMARY:V. Girls Basketball @ Hale
DESCRIPTION:
URL:https://charitonbeacon.com/activity/v-girls-basketball-hale/
CATEGORIES:Northwestern R-1
END:VEVENT
BEGIN:VEVENT
DTSTART;VALUE=DATE:20260106
DTEND;VALUE=DATE:20260107
DTSTAMP:20260422T052023
CREATED:20260105T060007Z
LAST-MODIFIED:20260105T060007Z
UID:36824-1767657600-1767743999@charitonbeacon.com
SUMMARY:Candy Land Day- Dress in your PJs
DESCRIPTION:
URL:https://charitonbeacon.com/activity/candy-land-day-dress-in-your-pjs/
CATEGORIES:Northwestern R-1
END:VEVENT
BEGIN:VEVENT
DTSTART;VALUE=DATE:20260106
DTEND;VALUE=DATE:20260107
DTSTAMP:20260422T052023
CREATED:20250706T210006Z
LAST-MODIFIED:20250706T210006Z
UID:20537-1767657600-1767743999@charitonbeacon.com
SUMMARY:School Resumes @ 8am
DESCRIPTION:
URL:https://charitonbeacon.com/activity/school-resumes-8am/
CATEGORIES:Northwestern R-1
END:VEVENT
BEGIN:VEVENT
DTSTART;VALUE=DATE:20260105
DTEND;VALUE=DATE:20260106
DTSTAMP:20260422T052023
CREATED:20250705T210007Z
LAST-MODIFIED:20250705T210007Z
UID:20478-1767571200-1767657599@charitonbeacon.com
SUMMARY:Professional Development Day
DESCRIPTION:
URL:https://charitonbeacon.com/activity/professional-development-day-7/
CATEGORIES:Northwestern R-1
END:VEVENT
BEGIN:VEVENT
DTSTART;TZID=America/Chicago:20260102T193000
DTEND;TZID=America/Chicago:20260102T203000
DTSTAMP:20260422T052023
CREATED:20251014T210015Z
LAST-MODIFIED:20251014T210015Z
UID:30430-1767382200-1767385800@charitonbeacon.com
SUMMARY:V. Boys Home Basketball Vs. Brashear
DESCRIPTION:
URL:https://charitonbeacon.com/activity/v-boys-home-basketball-vs-brashear/
CATEGORIES:Northwestern R-1
END:VEVENT
BEGIN:VEVENT
DTSTART;TZID=America/Chicago:20260102T180000
DTEND;TZID=America/Chicago:20260102T190000
DTSTAMP:20260422T052023
CREATED:20251014T210014Z
LAST-MODIFIED:20251014T210014Z
UID:30428-1767376800-1767380400@charitonbeacon.com
SUMMARY:V. Girls Home Basketball Vs. Brashear
DESCRIPTION:
URL:https://charitonbeacon.com/activity/v-girls-home-basketball-vs-brashear/
CATEGORIES:Northwestern R-1
END:VEVENT
BEGIN:VEVENT
DTSTART;VALUE=DATE:20251220
DTEND;VALUE=DATE:20251221
DTSTAMP:20260422T052023
CREATED:20251014T210014Z
LAST-MODIFIED:20251219T220007Z
UID:30427-1766188800-1766275199@charitonbeacon.com
SUMMARY:NCMC Holiday Hoops Vs. Grundy Co. (9 & 10:30 AM)
DESCRIPTION:
URL:https://charitonbeacon.com/activity/ncmc-holiday-hoops-vs-grundy-co/
CATEGORIES:Northwestern R-1
END:VEVENT
BEGIN:VEVENT
DTSTART;VALUE=DATE:20251219
DTEND;VALUE=DATE:20260105
DTSTAMP:20260422T052023
CREATED:20250619T210006Z
LAST-MODIFIED:20250623T210020Z
UID:19067-1766102400-1767571199@charitonbeacon.com
SUMMARY:Christmas Break
DESCRIPTION:
URL:https://charitonbeacon.com/activity/christmas-break-3/
CATEGORIES:Northwestern R-1
END:VEVENT
BEGIN:VEVENT
DTSTART;TZID=America/Chicago:20251218T193000
DTEND;TZID=America/Chicago:20251218T203000
DTSTAMP:20260422T052023
CREATED:20251014T210013Z
LAST-MODIFIED:20251014T210013Z
UID:30426-1766086200-1766089800@charitonbeacon.com
SUMMARY:V. Home Boys Basketball Vs. Hardin-Central
DESCRIPTION:
URL:https://charitonbeacon.com/activity/v-home-boys-basketball-vs-hardin-central/
CATEGORIES:Northwestern R-1
END:VEVENT
END:VCALENDAR