BEGIN:VCALENDAR
VERSION:2.0
PRODID:-//The Chariton Beacon - ECPv6.15.20//NONSGML v1.0//EN
CALSCALE:GREGORIAN
METHOD:PUBLISH
X-WR-CALNAME:The Chariton Beacon
X-ORIGINAL-URL:https://charitonbeacon.com
X-WR-CALDESC:Events for The Chariton Beacon
REFRESH-INTERVAL;VALUE=DURATION:PT1H
X-Robots-Tag:noindex
X-PUBLISHED-TTL:PT1H
BEGIN:VTIMEZONE
TZID:America/Chicago
BEGIN:DAYLIGHT
TZOFFSETFROM:-0600
TZOFFSETTO:-0500
TZNAME:CDT
DTSTART:20240310T080000
END:DAYLIGHT
BEGIN:STANDARD
TZOFFSETFROM:-0500
TZOFFSETTO:-0600
TZNAME:CST
DTSTART:20241103T070000
END:STANDARD
BEGIN:DAYLIGHT
TZOFFSETFROM:-0600
TZOFFSETTO:-0500
TZNAME:CDT
DTSTART:20250309T080000
END:DAYLIGHT
BEGIN:STANDARD
TZOFFSETFROM:-0500
TZOFFSETTO:-0600
TZNAME:CST
DTSTART:20251102T070000
END:STANDARD
BEGIN:DAYLIGHT
TZOFFSETFROM:-0600
TZOFFSETTO:-0500
TZNAME:CDT
DTSTART:20260308T080000
END:DAYLIGHT
BEGIN:STANDARD
TZOFFSETFROM:-0500
TZOFFSETTO:-0600
TZNAME:CST
DTSTART:20261101T070000
END:STANDARD
END:VTIMEZONE
BEGIN:VEVENT
DTSTART;TZID=America/Chicago:20251216T180000
DTEND;TZID=America/Chicago:20251216T200000
DTSTAMP:20260422T083143
CREATED:20251009T210009Z
LAST-MODIFIED:20251009T210009Z
UID:29935-1765908000-1765915200@charitonbeacon.com
SUMMARY:BINGO Night w/ Booster Club
DESCRIPTION:
URL:https://charitonbeacon.com/activity/bingo-night-w-booster-club/
CATEGORIES:Northwestern R-1
END:VEVENT
BEGIN:VEVENT
DTSTART;TZID=America/Chicago:20251216T180000
DTEND;TZID=America/Chicago:20251216T200000
DTSTAMP:20260422T083143
CREATED:20250924T210009Z
LAST-MODIFIED:20251208T220008Z
UID:28352-1765908000-1765915200@charitonbeacon.com
SUMMARY:December BOE Meeting
DESCRIPTION:
URL:https://charitonbeacon.com/activity/thunder-football-banquet-khs/
CATEGORIES:Northwestern R-1
END:VEVENT
BEGIN:VEVENT
DTSTART;VALUE=DATE:20251216
DTEND;VALUE=DATE:20251217
DTSTAMP:20260422T083143
CREATED:20251120T220011Z
LAST-MODIFIED:20251120T220011Z
UID:34035-1765843200-1765929599@charitonbeacon.com
SUMMARY:FINALS (3rd\, 5th\, 7th hour)
DESCRIPTION:
URL:https://charitonbeacon.com/activity/finals-3rd-5th-7th-hour/
CATEGORIES:Northwestern R-1
END:VEVENT
BEGIN:VEVENT
DTSTART;TZID=America/Chicago:20251215T193000
DTEND;TZID=America/Chicago:20251215T203000
DTSTAMP:20260422T083143
CREATED:20251014T210013Z
LAST-MODIFIED:20251014T210013Z
UID:30422-1765827000-1765830600@charitonbeacon.com
SUMMARY:V. Boys Basketball @ Linn Co
DESCRIPTION:
URL:https://charitonbeacon.com/activity/v-boys-basketball-linn-co/
CATEGORIES:Northwestern R-1
END:VEVENT
BEGIN:VEVENT
DTSTART;TZID=America/Chicago:20251215T180000
DTEND;TZID=America/Chicago:20251215T190000
DTSTAMP:20260422T083143
CREATED:20251014T210012Z
LAST-MODIFIED:20251014T210012Z
UID:30421-1765821600-1765825200@charitonbeacon.com
SUMMARY:V. Girls Basketball @ Linn Co
DESCRIPTION:
URL:https://charitonbeacon.com/activity/v-girls-basketball-linn-co/
CATEGORIES:Northwestern R-1
END:VEVENT
BEGIN:VEVENT
DTSTART;TZID=America/Chicago:20251215T120000
DTEND;TZID=America/Chicago:20251215T151500
DTSTAMP:20260422T083143
CREATED:20251121T060011Z
LAST-MODIFIED:20251212T220008Z
UID:34075-1765800000-1765811700@charitonbeacon.com
SUMMARY:3rd Grade McLarney Manor Field Trip (Brookfield - Danni Lee Drives)
DESCRIPTION:
URL:https://charitonbeacon.com/activity/3rd-grade-mclarney-manor-field-trip-brookfield/
CATEGORIES:Northwestern R-1
END:VEVENT
BEGIN:VEVENT
DTSTART;VALUE=DATE:20251215
DTEND;VALUE=DATE:20251216
DTSTAMP:20260422T083143
CREATED:20251120T220011Z
LAST-MODIFIED:20251120T220011Z
UID:34033-1765756800-1765843199@charitonbeacon.com
SUMMARY:FINALS (2nd\, 6th and 8th hour)
DESCRIPTION:
URL:https://charitonbeacon.com/activity/finals-2nd-6th-and-8th-hour/
CATEGORIES:Northwestern R-1
END:VEVENT
BEGIN:VEVENT
DTSTART;VALUE=DATE:20251215
DTEND;VALUE=DATE:20251216
DTSTAMP:20260422T083143
CREATED:20250616T130006Z
LAST-MODIFIED:20250623T210019Z
UID:18801-1765756800-1765843199@charitonbeacon.com
SUMMARY:School in Session
DESCRIPTION:
URL:https://charitonbeacon.com/activity/school-in-session-8/
CATEGORIES:Northwestern R-1
END:VEVENT
BEGIN:VEVENT
DTSTART;TZID=America/Chicago:20251212T180000
DTEND;TZID=America/Chicago:20251212T190000
DTSTAMP:20260422T083143
CREATED:20251014T210012Z
LAST-MODIFIED:20251014T210012Z
UID:30420-1765562400-1765566000@charitonbeacon.com
SUMMARY:V. Girls Basketball @ Keytesville (Vs. Bevier)
DESCRIPTION:
URL:https://charitonbeacon.com/activity/v-girls-basketball-keytesville-vs-bevier/
CATEGORIES:Northwestern R-1
END:VEVENT
BEGIN:VEVENT
DTSTART;TZID=America/Chicago:20251212T090000
DTEND;TZID=America/Chicago:20251212T113000
DTSTAMP:20260422T083143
CREATED:20251029T050016Z
LAST-MODIFIED:20251029T050016Z
UID:31881-1765530000-1765539000@charitonbeacon.com
SUMMARY:Lifeline Presentation Groups (5th - 6th Grade; 7th - 9th Grade & 10th - 12th Grade)
DESCRIPTION:
URL:https://charitonbeacon.com/activity/lifeline-presentation-groups-5th-6th-grade-7th-9th-grade-10th-12th-grade/
CATEGORIES:Northwestern R-1
END:VEVENT
BEGIN:VEVENT
DTSTART;TZID=America/Chicago:20251212T073000
DTEND;TZID=America/Chicago:20251212T080000
DTSTAMP:20260422T083143
CREATED:20250806T210015Z
LAST-MODIFIED:20250806T210015Z
UID:23694-1765524600-1765526400@charitonbeacon.com
SUMMARY:NHS Meeting
DESCRIPTION:
URL:https://charitonbeacon.com/activity/nhs-meeting-6/
CATEGORIES:Northwestern R-1
END:VEVENT
BEGIN:VEVENT
DTSTART;VALUE=DATE:20251212
DTEND;VALUE=DATE:20251213
DTSTAMP:20260422T083143
CREATED:20251029T050016Z
LAST-MODIFIED:20251029T050016Z
UID:31880-1765497600-1765583999@charitonbeacon.com
SUMMARY:JH/HS Finals Review During Afternoon Classes
DESCRIPTION:
URL:https://charitonbeacon.com/activity/jh-hs-finals-review-during-afternoon-classes/
CATEGORIES:Northwestern R-1
END:VEVENT
BEGIN:VEVENT
DTSTART;VALUE=DATE:20251212
DTEND;VALUE=DATE:20251213
DTSTAMP:20260422T083143
CREATED:20251024T210010Z
LAST-MODIFIED:20251024T210010Z
UID:31473-1765497600-1765583999@charitonbeacon.com
SUMMARY:Hat Day- sponsored by NHS
DESCRIPTION:
URL:https://charitonbeacon.com/activity/hat-day-sponsored-by-nhs-3/
CATEGORIES:Northwestern R-1
END:VEVENT
BEGIN:VEVENT
DTSTART;TZID=America/Chicago:20251211T193000
DTEND;TZID=America/Chicago:20251211T203000
DTSTAMP:20260422T083143
CREATED:20251014T210012Z
LAST-MODIFIED:20251014T210012Z
UID:30419-1765481400-1765485000@charitonbeacon.com
SUMMARY:V. Boys Basketball @ Tina-Avalon
DESCRIPTION:
URL:https://charitonbeacon.com/activity/v-boys-basketball-tina-avalon/
CATEGORIES:Northwestern R-1
END:VEVENT
BEGIN:VEVENT
DTSTART;TZID=America/Chicago:20251211T180000
DTEND;TZID=America/Chicago:20251211T190000
DTSTAMP:20260422T083143
CREATED:20251014T210012Z
LAST-MODIFIED:20251014T210012Z
UID:30417-1765476000-1765479600@charitonbeacon.com
SUMMARY:V. Girls Basketball @ Tina-Avalon
DESCRIPTION:
URL:https://charitonbeacon.com/activity/v-girls-basketball-tina-avalon/
CATEGORIES:Northwestern R-1
END:VEVENT
BEGIN:VEVENT
DTSTART;TZID=America/Chicago:20251211T151700
DTEND;TZID=America/Chicago:20251211T153700
DTSTAMP:20260422T083143
CREATED:20251006T050012Z
LAST-MODIFIED:20251006T050012Z
UID:29493-1765466220-1765467420@charitonbeacon.com
SUMMARY:FFA Officers Mtg.
DESCRIPTION:
URL:https://charitonbeacon.com/activity/ffa-officers-mtg-3/
CATEGORIES:Northwestern R-1
END:VEVENT
BEGIN:VEVENT
DTSTART;TZID=America/Chicago:20251210T183000
DTEND;TZID=America/Chicago:20251210T193000
DTSTAMP:20260422T083143
CREATED:20250820T050009Z
LAST-MODIFIED:20251203T220008Z
UID:25077-1765391400-1765395000@charitonbeacon.com
SUMMARY:Winter Concert
DESCRIPTION:
URL:https://charitonbeacon.com/activity/winter-concert/
CATEGORIES:Northwestern R-1
END:VEVENT
BEGIN:VEVENT
DTSTART;TZID=America/Chicago:20251209T080000
DTEND;TZID=America/Chicago:20251209T110000
DTSTAMP:20260422T083143
CREATED:20251105T220008Z
LAST-MODIFIED:20251105T220008Z
UID:32572-1765267200-1765278000@charitonbeacon.com
SUMMARY:PreACT for 9th grade students
DESCRIPTION:
URL:https://charitonbeacon.com/activity/preact-for-9th-grade-students/
CATEGORIES:Northwestern R-1
END:VEVENT
BEGIN:VEVENT
DTSTART;VALUE=DATE:20251209
DTEND;VALUE=DATE:20251210
DTSTAMP:20260422T083143
CREATED:20251205T060009Z
LAST-MODIFIED:20251205T060009Z
UID:35336-1765238400-1765324799@charitonbeacon.com
SUMMARY:Elementary PJ Day (for the Pajama Drive)
DESCRIPTION:
URL:https://charitonbeacon.com/activity/elementary-pj-day-for-the-pajama-drive/
CATEGORIES:Northwestern R-1
END:VEVENT
BEGIN:VEVENT
DTSTART;VALUE=DATE:20251208
DTEND;VALUE=DATE:20251209
DTSTAMP:20260422T083143
CREATED:20250608T210006Z
LAST-MODIFIED:20250623T210019Z
UID:18173-1765152000-1765238399@charitonbeacon.com
SUMMARY:Possible Snow Makeup Day
DESCRIPTION:
URL:https://charitonbeacon.com/activity/possible-snow-makeup-day/
CATEGORIES:Northwestern R-1
END:VEVENT
BEGIN:VEVENT
DTSTART;TZID=America/Chicago:20251206T193000
DTEND;TZID=America/Chicago:20251206T203000
DTSTAMP:20260422T083143
CREATED:20251201T060018Z
LAST-MODIFIED:20251201T060018Z
UID:34943-1765049400-1765053000@charitonbeacon.com
SUMMARY:NW Tourn.- Boys: Championship Game
DESCRIPTION:
URL:https://charitonbeacon.com/activity/nw-tourn-boys-championship-game/
CATEGORIES:Northwestern R-1
END:VEVENT
BEGIN:VEVENT
DTSTART;TZID=America/Chicago:20251206T180000
DTEND;TZID=America/Chicago:20251206T190000
DTSTAMP:20260422T083143
CREATED:20251201T060018Z
LAST-MODIFIED:20251201T060018Z
UID:34941-1765044000-1765047600@charitonbeacon.com
SUMMARY:NW Tourn.- Girls: Championship Game
DESCRIPTION:
URL:https://charitonbeacon.com/activity/nw-tourn-girls-championship-game/
CATEGORIES:Northwestern R-1
END:VEVENT
BEGIN:VEVENT
DTSTART;TZID=America/Chicago:20251206T163000
DTEND;TZID=America/Chicago:20251206T173000
DTSTAMP:20260422T083143
CREATED:20251201T060018Z
LAST-MODIFIED:20251201T060018Z
UID:34940-1765038600-1765042200@charitonbeacon.com
SUMMARY:NW Tourn.- Boys: 3rd Place Game
DESCRIPTION:
URL:https://charitonbeacon.com/activity/nw-tourn-boys-3rd-place-game/
CATEGORIES:Northwestern R-1
END:VEVENT
BEGIN:VEVENT
DTSTART;TZID=America/Chicago:20251206T150000
DTEND;TZID=America/Chicago:20251206T160000
DTSTAMP:20260422T083143
CREATED:20251201T060017Z
LAST-MODIFIED:20251201T220013Z
UID:34939-1765033200-1765036800@charitonbeacon.com
SUMMARY:NW Tourn.- Girls: 3rd Place Game
DESCRIPTION:
URL:https://charitonbeacon.com/activity/nw-tourn-girls-3rd-place-game/
CATEGORIES:Northwestern R-1
END:VEVENT
BEGIN:VEVENT
DTSTART;TZID=America/Chicago:20251206T133000
DTEND;TZID=America/Chicago:20251206T143000
DTSTAMP:20260422T083143
CREATED:20251201T060017Z
LAST-MODIFIED:20251201T220013Z
UID:34938-1765027800-1765031400@charitonbeacon.com
SUMMARY:NW Tourn.- Boys: Consolation Championship
DESCRIPTION:
URL:https://charitonbeacon.com/activity/nw-tourn-boys-consolation-championship/
CATEGORIES:Northwestern R-1
END:VEVENT
BEGIN:VEVENT
DTSTART;TZID=America/Chicago:20251206T120000
DTEND;TZID=America/Chicago:20251206T130000
DTSTAMP:20260422T083143
CREATED:20251201T060017Z
LAST-MODIFIED:20251201T220013Z
UID:34937-1765022400-1765026000@charitonbeacon.com
SUMMARY:NW Tourn.- Girls: Consolation Championship
DESCRIPTION:
URL:https://charitonbeacon.com/activity/nw-tourn-girls-consolation-championship/
CATEGORIES:Northwestern R-1
END:VEVENT
BEGIN:VEVENT
DTSTART;TZID=America/Chicago:20251205T201500
DTEND;TZID=America/Chicago:20251205T211500
DTSTAMP:20260422T083143
CREATED:20251201T060016Z
LAST-MODIFIED:20251204T060012Z
UID:34935-1764965700-1764969300@charitonbeacon.com
SUMMARY:NW Tourn.- Boys Semifinals: Meadville vs. Higbee
DESCRIPTION:
URL:https://charitonbeacon.com/activity/nw-tourn-boys-semifinals-2/
CATEGORIES:Northwestern R-1
END:VEVENT
BEGIN:VEVENT
DTSTART;TZID=America/Chicago:20251205T190000
DTEND;TZID=America/Chicago:20251205T200000
DTSTAMP:20260422T083143
CREATED:20251201T060016Z
LAST-MODIFIED:20251204T060012Z
UID:34934-1764961200-1764964800@charitonbeacon.com
SUMMARY:NW Tourn.- Girls Semifinals: Brunswick vs. Meadville
DESCRIPTION:
URL:https://charitonbeacon.com/activity/nw-tourn-girls-semifinals/
CATEGORIES:Northwestern R-1
END:VEVENT
BEGIN:VEVENT
DTSTART;TZID=America/Chicago:20251205T174500
DTEND;TZID=America/Chicago:20251205T184500
DTSTAMP:20260422T083143
CREATED:20251201T060016Z
LAST-MODIFIED:20251204T060011Z
UID:34932-1764956700-1764960300@charitonbeacon.com
SUMMARY:NW Tourn.- Boys Semifinals: Brunswick vs BMC
DESCRIPTION:
URL:https://charitonbeacon.com/activity/nw-tourn-boys-semifinals/
CATEGORIES:Northwestern R-1
END:VEVENT
BEGIN:VEVENT
DTSTART;TZID=America/Chicago:20251205T163000
DTEND;TZID=America/Chicago:20251205T173000
DTSTAMP:20260422T083143
CREATED:20251201T060015Z
LAST-MODIFIED:20251204T060011Z
UID:34931-1764952200-1764955800@charitonbeacon.com
SUMMARY:NW Tourn.- Girls: Higbee vs. BMC
DESCRIPTION:
URL:https://charitonbeacon.com/activity/nw-tourn-girls-higbee-vs-winner-of-4-vs-5/
CATEGORIES:Northwestern R-1
END:VEVENT
END:VCALENDAR