BEGIN:VCALENDAR
VERSION:2.0
PRODID:-//The Chariton Beacon - ECPv6.15.20//NONSGML v1.0//EN
CALSCALE:GREGORIAN
METHOD:PUBLISH
X-WR-CALNAME:The Chariton Beacon
X-ORIGINAL-URL:https://charitonbeacon.com
X-WR-CALDESC:Events for The Chariton Beacon
REFRESH-INTERVAL;VALUE=DURATION:PT1H
X-Robots-Tag:noindex
X-PUBLISHED-TTL:PT1H
BEGIN:VTIMEZONE
TZID:America/Chicago
BEGIN:DAYLIGHT
TZOFFSETFROM:-0600
TZOFFSETTO:-0500
TZNAME:CDT
DTSTART:20240310T080000
END:DAYLIGHT
BEGIN:STANDARD
TZOFFSETFROM:-0500
TZOFFSETTO:-0600
TZNAME:CST
DTSTART:20241103T070000
END:STANDARD
BEGIN:DAYLIGHT
TZOFFSETFROM:-0600
TZOFFSETTO:-0500
TZNAME:CDT
DTSTART:20250309T080000
END:DAYLIGHT
BEGIN:STANDARD
TZOFFSETFROM:-0500
TZOFFSETTO:-0600
TZNAME:CST
DTSTART:20251102T070000
END:STANDARD
BEGIN:DAYLIGHT
TZOFFSETFROM:-0600
TZOFFSETTO:-0500
TZNAME:CDT
DTSTART:20260308T080000
END:DAYLIGHT
BEGIN:STANDARD
TZOFFSETFROM:-0500
TZOFFSETTO:-0600
TZNAME:CST
DTSTART:20261101T070000
END:STANDARD
END:VTIMEZONE
BEGIN:VEVENT
DTSTART;TZID=America/Chicago:20251206T193000
DTEND;TZID=America/Chicago:20251206T203000
DTSTAMP:20260422T101011
CREATED:20251201T060018Z
LAST-MODIFIED:20251201T060018Z
UID:34943-1765049400-1765053000@charitonbeacon.com
SUMMARY:NW Tourn.- Boys: Championship Game
DESCRIPTION:
URL:https://charitonbeacon.com/activity/nw-tourn-boys-championship-game/
CATEGORIES:Northwestern R-1
END:VEVENT
BEGIN:VEVENT
DTSTART;TZID=America/Chicago:20251206T180000
DTEND;TZID=America/Chicago:20251206T190000
DTSTAMP:20260422T101011
CREATED:20251201T060018Z
LAST-MODIFIED:20251201T060018Z
UID:34941-1765044000-1765047600@charitonbeacon.com
SUMMARY:NW Tourn.- Girls: Championship Game
DESCRIPTION:
URL:https://charitonbeacon.com/activity/nw-tourn-girls-championship-game/
CATEGORIES:Northwestern R-1
END:VEVENT
BEGIN:VEVENT
DTSTART;TZID=America/Chicago:20251206T163000
DTEND;TZID=America/Chicago:20251206T173000
DTSTAMP:20260422T101011
CREATED:20251201T060018Z
LAST-MODIFIED:20251201T060018Z
UID:34940-1765038600-1765042200@charitonbeacon.com
SUMMARY:NW Tourn.- Boys: 3rd Place Game
DESCRIPTION:
URL:https://charitonbeacon.com/activity/nw-tourn-boys-3rd-place-game/
CATEGORIES:Northwestern R-1
END:VEVENT
BEGIN:VEVENT
DTSTART;TZID=America/Chicago:20251206T150000
DTEND;TZID=America/Chicago:20251206T160000
DTSTAMP:20260422T101011
CREATED:20251201T060017Z
LAST-MODIFIED:20251201T220013Z
UID:34939-1765033200-1765036800@charitonbeacon.com
SUMMARY:NW Tourn.- Girls: 3rd Place Game
DESCRIPTION:
URL:https://charitonbeacon.com/activity/nw-tourn-girls-3rd-place-game/
CATEGORIES:Northwestern R-1
END:VEVENT
BEGIN:VEVENT
DTSTART;TZID=America/Chicago:20251206T133000
DTEND;TZID=America/Chicago:20251206T143000
DTSTAMP:20260422T101011
CREATED:20251201T060017Z
LAST-MODIFIED:20251201T220013Z
UID:34938-1765027800-1765031400@charitonbeacon.com
SUMMARY:NW Tourn.- Boys: Consolation Championship
DESCRIPTION:
URL:https://charitonbeacon.com/activity/nw-tourn-boys-consolation-championship/
CATEGORIES:Northwestern R-1
END:VEVENT
BEGIN:VEVENT
DTSTART;TZID=America/Chicago:20251206T120000
DTEND;TZID=America/Chicago:20251206T130000
DTSTAMP:20260422T101011
CREATED:20251201T060017Z
LAST-MODIFIED:20251201T220013Z
UID:34937-1765022400-1765026000@charitonbeacon.com
SUMMARY:NW Tourn.- Girls: Consolation Championship
DESCRIPTION:
URL:https://charitonbeacon.com/activity/nw-tourn-girls-consolation-championship/
CATEGORIES:Northwestern R-1
END:VEVENT
BEGIN:VEVENT
DTSTART;TZID=America/Chicago:20251205T201500
DTEND;TZID=America/Chicago:20251205T211500
DTSTAMP:20260422T101011
CREATED:20251201T060016Z
LAST-MODIFIED:20251204T060012Z
UID:34935-1764965700-1764969300@charitonbeacon.com
SUMMARY:NW Tourn.- Boys Semifinals: Meadville vs. Higbee
DESCRIPTION:
URL:https://charitonbeacon.com/activity/nw-tourn-boys-semifinals-2/
CATEGORIES:Northwestern R-1
END:VEVENT
BEGIN:VEVENT
DTSTART;TZID=America/Chicago:20251205T190000
DTEND;TZID=America/Chicago:20251205T200000
DTSTAMP:20260422T101011
CREATED:20251201T060016Z
LAST-MODIFIED:20251204T060012Z
UID:34934-1764961200-1764964800@charitonbeacon.com
SUMMARY:NW Tourn.- Girls Semifinals: Brunswick vs. Meadville
DESCRIPTION:
URL:https://charitonbeacon.com/activity/nw-tourn-girls-semifinals/
CATEGORIES:Northwestern R-1
END:VEVENT
BEGIN:VEVENT
DTSTART;TZID=America/Chicago:20251205T174500
DTEND;TZID=America/Chicago:20251205T184500
DTSTAMP:20260422T101011
CREATED:20251201T060016Z
LAST-MODIFIED:20251204T060011Z
UID:34932-1764956700-1764960300@charitonbeacon.com
SUMMARY:NW Tourn.- Boys Semifinals: Brunswick vs BMC
DESCRIPTION:
URL:https://charitonbeacon.com/activity/nw-tourn-boys-semifinals/
CATEGORIES:Northwestern R-1
END:VEVENT
BEGIN:VEVENT
DTSTART;TZID=America/Chicago:20251205T163000
DTEND;TZID=America/Chicago:20251205T173000
DTSTAMP:20260422T101011
CREATED:20251201T060015Z
LAST-MODIFIED:20251204T060011Z
UID:34931-1764952200-1764955800@charitonbeacon.com
SUMMARY:NW Tourn.- Girls: Higbee vs. BMC
DESCRIPTION:
URL:https://charitonbeacon.com/activity/nw-tourn-girls-higbee-vs-winner-of-4-vs-5/
CATEGORIES:Northwestern R-1
END:VEVENT
BEGIN:VEVENT
DTSTART;TZID=America/Chicago:20251205T090000
DTEND;TZID=America/Chicago:20251205T094500
DTSTAMP:20260422T101011
CREATED:20251030T210009Z
LAST-MODIFIED:20251030T210009Z
UID:32036-1764925200-1764927900@charitonbeacon.com
SUMMARY:#ICAN Assembly Elementary
DESCRIPTION:
URL:https://charitonbeacon.com/activity/ican-assembly-elementary/
CATEGORIES:Northwestern R-1
END:VEVENT
BEGIN:VEVENT
DTSTART;TZID=America/Chicago:20251205T080000
DTEND;TZID=America/Chicago:20251205T084500
DTSTAMP:20260422T101011
CREATED:20251024T210010Z
LAST-MODIFIED:20251030T210009Z
UID:31472-1764921600-1764924300@charitonbeacon.com
SUMMARY:#ICAN Assembly JH/HS
DESCRIPTION:
URL:https://charitonbeacon.com/activity/ican-assembly/
CATEGORIES:Northwestern R-1
END:VEVENT
BEGIN:VEVENT
DTSTART;TZID=America/Chicago:20251204T200000
DTEND;TZID=America/Chicago:20251204T210000
DTSTAMP:20260422T101011
CREATED:20251201T060014Z
LAST-MODIFIED:20251204T060010Z
UID:34929-1764878400-1764882000@charitonbeacon.com
SUMMARY:NW Tourn.- Boys Consolation: Hale vs. NW
DESCRIPTION:
URL:https://charitonbeacon.com/activity/nw-tourn-boys-consolation-game-2/
CATEGORIES:Northwestern R-1
END:VEVENT
BEGIN:VEVENT
DTSTART;TZID=America/Chicago:20251204T184500
DTEND;TZID=America/Chicago:20251204T194500
DTSTAMP:20260422T101011
CREATED:20251201T060014Z
LAST-MODIFIED:20251204T060010Z
UID:34928-1764873900-1764877500@charitonbeacon.com
SUMMARY:NW Tourn.- Girls Consolation: Linn Co. vs Hale
DESCRIPTION:
URL:https://charitonbeacon.com/activity/nw-tourn-girls-consolation-game/
CATEGORIES:Northwestern R-1
END:VEVENT
BEGIN:VEVENT
DTSTART;TZID=America/Chicago:20251204T173000
DTEND;TZID=America/Chicago:20251204T183000
DTSTAMP:20260422T101011
CREATED:20251201T060014Z
LAST-MODIFIED:20251204T060010Z
UID:34926-1764869400-1764873000@charitonbeacon.com
SUMMARY:NW Tourn.- Boys Consolation: Linn Co. vs Keytesville
DESCRIPTION:
URL:https://charitonbeacon.com/activity/nw-tourn-boys-consolation-game/
CATEGORIES:Northwestern R-1
END:VEVENT
BEGIN:VEVENT
DTSTART;TZID=America/Chicago:20251204T151700
DTEND;TZID=America/Chicago:20251204T153700
DTSTAMP:20260422T101011
CREATED:20251203T220007Z
LAST-MODIFIED:20251203T220007Z
UID:35206-1764861420-1764862620@charitonbeacon.com
SUMMARY:NAA meeting- HoCo Ideas
DESCRIPTION:
URL:https://charitonbeacon.com/activity/naa-meeting-hoco-ideas/
CATEGORIES:Northwestern R-1
END:VEVENT
BEGIN:VEVENT
DTSTART;TZID=America/Chicago:20251204T151700
DTEND;TZID=America/Chicago:20251204T153700
DTSTAMP:20260422T101011
CREATED:20251201T060015Z
LAST-MODIFIED:20251201T060015Z
UID:34930-1764861420-1764862620@charitonbeacon.com
SUMMARY:Military Recruiter Visit
DESCRIPTION:
URL:https://charitonbeacon.com/activity/military-recruiter-visit/
CATEGORIES:Northwestern R-1
END:VEVENT
BEGIN:VEVENT
DTSTART;TZID=America/Chicago:20251203T200000
DTEND;TZID=America/Chicago:20251203T210000
DTSTAMP:20260422T101011
CREATED:20251201T060013Z
LAST-MODIFIED:20251202T220010Z
UID:34925-1764792000-1764795600@charitonbeacon.com
SUMMARY:NW Tourn.- Girls: BMC vs. Northwestern
DESCRIPTION:
URL:https://charitonbeacon.com/activity/nw-tourn-girls-bmc-vs-northwestern/
CATEGORIES:Northwestern R-1
END:VEVENT
BEGIN:VEVENT
DTSTART;TZID=America/Chicago:20251203T184500
DTEND;TZID=America/Chicago:20251203T194500
DTSTAMP:20260422T101011
CREATED:20251201T060013Z
LAST-MODIFIED:20251202T220009Z
UID:34923-1764787500-1764791100@charitonbeacon.com
SUMMARY:NW Tourn.- Boys: Linn Co. vs. BMC
DESCRIPTION:
URL:https://charitonbeacon.com/activity/nw-tourn-boys-linn-co-vs-bmc/
CATEGORIES:Northwestern R-1
END:VEVENT
BEGIN:VEVENT
DTSTART;TZID=America/Chicago:20251203T173000
DTEND;TZID=America/Chicago:20251203T183000
DTSTAMP:20260422T101011
CREATED:20251201T060013Z
LAST-MODIFIED:20251202T220009Z
UID:34922-1764783000-1764786600@charitonbeacon.com
SUMMARY:NW Tourn.- Girls: Brunswick vs. Linn Co.
DESCRIPTION:
URL:https://charitonbeacon.com/activity/nw-tourn-girls-brunswick-vs-linn-co/
CATEGORIES:Northwestern R-1
END:VEVENT
BEGIN:VEVENT
DTSTART;TZID=America/Chicago:20251203T151700
DTEND;TZID=America/Chicago:20251203T153700
DTSTAMP:20260422T101011
CREATED:20250929T210008Z
LAST-MODIFIED:20251104T220009Z
UID:28858-1764775020-1764776220@charitonbeacon.com
SUMMARY:STUCO meeting
DESCRIPTION:
URL:https://charitonbeacon.com/activity/stuco-meeting-3/
CATEGORIES:Northwestern R-1
END:VEVENT
BEGIN:VEVENT
DTSTART;TZID=America/Chicago:20251202T201500
DTEND;TZID=America/Chicago:20251202T211500
DTSTAMP:20260422T101011
CREATED:20251201T060012Z
LAST-MODIFIED:20251202T220009Z
UID:34921-1764706500-1764710100@charitonbeacon.com
SUMMARY:NW Tourn.- Boys: Meadville vs. Hale
DESCRIPTION:
URL:https://charitonbeacon.com/activity/nw-tourn-boys-meadville-vs-hale/
CATEGORIES:Northwestern R-1
END:VEVENT
BEGIN:VEVENT
DTSTART;TZID=America/Chicago:20251202T190000
DTEND;TZID=America/Chicago:20251202T200000
DTSTAMP:20260422T101011
CREATED:20251201T060012Z
LAST-MODIFIED:20251202T220008Z
UID:34919-1764702000-1764705600@charitonbeacon.com
SUMMARY:NW Tourn.- Girls: Meadville vs. Hale
DESCRIPTION:
URL:https://charitonbeacon.com/activity/nw-tourn-girls-meadville-vs-hale/
CATEGORIES:Northwestern R-1
END:VEVENT
BEGIN:VEVENT
DTSTART;TZID=America/Chicago:20251202T174500
DTEND;TZID=America/Chicago:20251202T184500
DTSTAMP:20260422T101011
CREATED:20251201T060011Z
LAST-MODIFIED:20251202T220008Z
UID:34918-1764697500-1764701100@charitonbeacon.com
SUMMARY:NW Tourn.- Boys: Higbee vs. Northwestern
DESCRIPTION:
URL:https://charitonbeacon.com/activity/nw-tourn-boys-higbee-vs-northwestern/
CATEGORIES:Northwestern R-1
END:VEVENT
BEGIN:VEVENT
DTSTART;TZID=America/Chicago:20251202T163000
DTEND;TZID=America/Chicago:20251202T173000
DTSTAMP:20260422T101011
CREATED:20251201T060011Z
LAST-MODIFIED:20251201T220008Z
UID:34917-1764693000-1764696600@charitonbeacon.com
SUMMARY:NW Tourn.- Boys: Brunswick vs. Keytesville
DESCRIPTION:
URL:https://charitonbeacon.com/activity/nw-tourn-boys-brunswick-vs-keytesville/
CATEGORIES:Northwestern R-1
END:VEVENT
BEGIN:VEVENT
DTSTART;VALUE=DATE:20251202
DTEND;VALUE=DATE:20251207
DTSTAMP:20260422T101011
CREATED:20250726T050017Z
LAST-MODIFIED:20251201T220008Z
UID:22275-1764633600-1765065599@charitonbeacon.com
SUMMARY:Northwestern Tournament
DESCRIPTION:
URL:https://charitonbeacon.com/activity/northwestern-tournament/
CATEGORIES:Northwestern R-1
END:VEVENT
BEGIN:VEVENT
DTSTART;VALUE=DATE:20251202
DTEND;VALUE=DATE:20251203
DTSTAMP:20260422T101011
CREATED:20251202T220008Z
LAST-MODIFIED:20251202T220008Z
UID:35118-1764633600-1764719999@charitonbeacon.com
SUMMARY:SNOW DAY #1
DESCRIPTION:
URL:https://charitonbeacon.com/activity/snow-day-1/
CATEGORIES:Northwestern R-1
END:VEVENT
BEGIN:VEVENT
DTSTART;VALUE=DATE:20251201
DTEND;VALUE=DATE:20251202
DTSTAMP:20260422T101011
CREATED:20251122T060012Z
LAST-MODIFIED:20251122T060012Z
UID:34166-1764547200-1764633599@charitonbeacon.com
SUMMARY:NO SCHOOL - NOT IN SESSION
DESCRIPTION:
URL:https://charitonbeacon.com/activity/no-school-not-in-session/
CATEGORIES:Northwestern R-1
END:VEVENT
BEGIN:VEVENT
DTSTART;VALUE=DATE:20251126
DTEND;VALUE=DATE:20251129
DTSTAMP:20260422T101011
CREATED:20250606T050013Z
LAST-MODIFIED:20250623T210018Z
UID:17988-1764115200-1764374399@charitonbeacon.com
SUMMARY:Thanksgiving Break- No School
DESCRIPTION:
URL:https://charitonbeacon.com/activity/thanksgiving-break-no-school-2/
CATEGORIES:Northwestern R-1
END:VEVENT
BEGIN:VEVENT
DTSTART;TZID=America/Chicago:20251125T150000
DTEND;TZID=America/Chicago:20251125T153000
DTSTAMP:20260422T101011
CREATED:20250530T210005Z
LAST-MODIFIED:20250623T210018Z
UID:17482-1764082800-1764084600@charitonbeacon.com
SUMMARY:ASVAB Interpretation for Jrs.
DESCRIPTION:
URL:https://charitonbeacon.com/activity/asvab-interpretation-for-jrs/
CATEGORIES:Northwestern R-1
END:VEVENT
END:VCALENDAR