BEGIN:VCALENDAR
VERSION:2.0
PRODID:-//The Chariton Beacon - ECPv6.15.20//NONSGML v1.0//EN
CALSCALE:GREGORIAN
METHOD:PUBLISH
X-ORIGINAL-URL:https://charitonbeacon.com
X-WR-CALDESC:Events for The Chariton Beacon
REFRESH-INTERVAL;VALUE=DURATION:PT1H
X-Robots-Tag:noindex
X-PUBLISHED-TTL:PT1H
BEGIN:VTIMEZONE
TZID:America/Chicago
BEGIN:DAYLIGHT
TZOFFSETFROM:-0600
TZOFFSETTO:-0500
TZNAME:CDT
DTSTART:20240310T080000
END:DAYLIGHT
BEGIN:STANDARD
TZOFFSETFROM:-0500
TZOFFSETTO:-0600
TZNAME:CST
DTSTART:20241103T070000
END:STANDARD
BEGIN:DAYLIGHT
TZOFFSETFROM:-0600
TZOFFSETTO:-0500
TZNAME:CDT
DTSTART:20250309T080000
END:DAYLIGHT
BEGIN:STANDARD
TZOFFSETFROM:-0500
TZOFFSETTO:-0600
TZNAME:CST
DTSTART:20251102T070000
END:STANDARD
BEGIN:DAYLIGHT
TZOFFSETFROM:-0600
TZOFFSETTO:-0500
TZNAME:CDT
DTSTART:20260308T080000
END:DAYLIGHT
BEGIN:STANDARD
TZOFFSETFROM:-0500
TZOFFSETTO:-0600
TZNAME:CST
DTSTART:20261101T070000
END:STANDARD
END:VTIMEZONE
BEGIN:VEVENT
DTSTART;VALUE=DATE:20251121
DTEND;VALUE=DATE:20251122
DTSTAMP:20260422T131420
CREATED:20251024T210010Z
LAST-MODIFIED:20251024T210010Z
UID:31471-1763683200-1763769599@charitonbeacon.com
SUMMARY:Hat Day- sponsored by NHS
DESCRIPTION:
URL:https://charitonbeacon.com/activity/hat-day-sponsored-by-nhs-2/
CATEGORIES:Northwestern R-1
END:VEVENT
BEGIN:VEVENT
DTSTART;VALUE=DATE:20251121
DTEND;VALUE=DATE:20251122
DTSTAMP:20260422T131420
CREATED:20251009T210009Z
LAST-MODIFIED:20251014T210011Z
UID:29934-1763683200-1763769599@charitonbeacon.com
SUMMARY:5th Grade to Shrine Circus (Clark Drives Bus)
DESCRIPTION:
URL:https://charitonbeacon.com/activity/5th-grade-to-shrine-circus/
CATEGORIES:Northwestern R-1
END:VEVENT
BEGIN:VEVENT
DTSTART;TZID=America/Chicago:20251120T180000
DTEND;TZID=America/Chicago:20251120T193000
DTSTAMP:20260422T131420
CREATED:20250829T210014Z
LAST-MODIFIED:20251009T210009Z
UID:25703-1763661600-1763667000@charitonbeacon.com
SUMMARY:FFA Chapter Meeting
DESCRIPTION:
URL:https://charitonbeacon.com/activity/ffa-chapter-meeting-3/
CATEGORIES:Northwestern R-1
END:VEVENT
BEGIN:VEVENT
DTSTART;TZID=America/Chicago:20251120T154500
DTEND;TZID=America/Chicago:20251120T173000
DTSTAMP:20260422T131420
CREATED:20251024T210009Z
LAST-MODIFIED:20251024T210009Z
UID:31470-1763653500-1763659800@charitonbeacon.com
SUMMARY:Game & Art Club
DESCRIPTION:
URL:https://charitonbeacon.com/activity/game-art-club/
CATEGORIES:Northwestern R-1
END:VEVENT
BEGIN:VEVENT
DTSTART;VALUE=DATE:20251120
DTEND;VALUE=DATE:20251121
DTSTAMP:20260422T131420
CREATED:20250909T210011Z
LAST-MODIFIED:20250909T210011Z
UID:26779-1763596800-1763683199@charitonbeacon.com
SUMMARY:Teacher Grades Due @ 8am (2nd Q Midterm)
DESCRIPTION:
URL:https://charitonbeacon.com/activity/teacher-grades-due-8am-2nd-q-midterm/
CATEGORIES:Northwestern R-1
END:VEVENT
BEGIN:VEVENT
DTSTART;TZID=America/Chicago:20251119T183000
DTEND;TZID=America/Chicago:20251119T193000
DTSTAMP:20260422T131420
CREATED:20251014T210011Z
LAST-MODIFIED:20251016T050011Z
UID:30414-1763577000-1763580600@charitonbeacon.com
SUMMARY:November BOE Meeting
DESCRIPTION:
URL:https://charitonbeacon.com/activity/november-boe-meeting/
CATEGORIES:Northwestern R-1
END:VEVENT
BEGIN:VEVENT
DTSTART;TZID=America/Chicago:20251119T170000
DTEND;TZID=America/Chicago:20251119T183000
DTSTAMP:20260422T131420
CREATED:20251016T050011Z
LAST-MODIFIED:20251016T050011Z
UID:30599-1763571600-1763577000@charitonbeacon.com
SUMMARY:Meet The Eagles Night (Basketball and Cheer)
DESCRIPTION:
URL:https://charitonbeacon.com/activity/meet-the-eagles-night-basketball-and-cheer/
CATEGORIES:Northwestern R-1
END:VEVENT
BEGIN:VEVENT
DTSTART;TZID=America/Chicago:20251119T073000
DTEND;TZID=America/Chicago:20251119T080000
DTSTAMP:20260422T131420
CREATED:20251009T210008Z
LAST-MODIFIED:20251009T210008Z
UID:29933-1763537400-1763539200@charitonbeacon.com
SUMMARY:FCA in the library
DESCRIPTION:
URL:https://charitonbeacon.com/activity/fca-in-the-library-2/
CATEGORIES:Northwestern R-1
END:VEVENT
BEGIN:VEVENT
DTSTART;VALUE=DATE:20251119
DTEND;VALUE=DATE:20251120
DTSTAMP:20260422T131420
CREATED:20250620T210005Z
LAST-MODIFIED:20250620T210005Z
UID:19146-1763510400-1763596799@charitonbeacon.com
SUMMARY:Winter Sports Picture Day
DESCRIPTION:
URL:https://charitonbeacon.com/activity/winter-sports-picture-day/
CATEGORIES:Northwestern R-1
END:VEVENT
BEGIN:VEVENT
DTSTART;TZID=America/Chicago:20251118T193000
DTEND;TZID=America/Chicago:20251118T203000
DTSTAMP:20260422T131420
CREATED:20250726T050015Z
LAST-MODIFIED:20250726T050015Z
UID:22269-1763494200-1763497800@charitonbeacon.com
SUMMARY:JH Boys Basketball @ Southwest
DESCRIPTION:
URL:https://charitonbeacon.com/activity/jh-boys-basketball-southwest/
CATEGORIES:Northwestern R-1
END:VEVENT
BEGIN:VEVENT
DTSTART;TZID=America/Chicago:20251118T180000
DTEND;TZID=America/Chicago:20251118T190000
DTSTAMP:20260422T131420
CREATED:20250726T050015Z
LAST-MODIFIED:20250726T050015Z
UID:22268-1763488800-1763492400@charitonbeacon.com
SUMMARY:JH Girls Basketball @ Southwest
DESCRIPTION:
URL:https://charitonbeacon.com/activity/jh-girls-basketball-southwest/
CATEGORIES:Northwestern R-1
END:VEVENT
BEGIN:VEVENT
DTSTART;TZID=America/Chicago:20251114T193000
DTEND;TZID=America/Chicago:20251114T203000
DTSTAMP:20260422T131420
CREATED:20250726T050015Z
LAST-MODIFIED:20250726T050015Z
UID:22267-1763148600-1763152200@charitonbeacon.com
SUMMARY:JH Boys Basketball vs. Tina-Avalon
DESCRIPTION:
URL:https://charitonbeacon.com/activity/jh-boys-basketball-vs-tina-avalon/
CATEGORIES:Northwestern R-1
END:VEVENT
BEGIN:VEVENT
DTSTART;TZID=America/Chicago:20251114T180000
DTEND;TZID=America/Chicago:20251114T190000
DTSTAMP:20260422T131420
CREATED:20250726T050015Z
LAST-MODIFIED:20250726T050015Z
UID:22265-1763143200-1763146800@charitonbeacon.com
SUMMARY:JH Girls Basketball vs. Tina-Avalon
DESCRIPTION:
URL:https://charitonbeacon.com/activity/jh-girls-basketball-vs-tina-avalon/
CATEGORIES:Northwestern R-1
END:VEVENT
BEGIN:VEVENT
DTSTART;TZID=America/Chicago:20251114T081500
DTEND;TZID=America/Chicago:20251114T103000
DTSTAMP:20260422T131420
CREATED:20250911T050013Z
LAST-MODIFIED:20251113T220007Z
UID:26949-1763108100-1763116200@charitonbeacon.com
SUMMARY:Community Readers
DESCRIPTION:
URL:https://charitonbeacon.com/activity/community-readers-6/
CATEGORIES:Northwestern R-1
END:VEVENT
BEGIN:VEVENT
DTSTART;VALUE=DATE:20251114
DTEND;VALUE=DATE:20251115
DTSTAMP:20260422T131420
CREATED:20250606T050013Z
LAST-MODIFIED:20250623T210018Z
UID:17985-1763078400-1763164799@charitonbeacon.com
SUMMARY:2nd Q Midterm
DESCRIPTION:
URL:https://charitonbeacon.com/activity/2nd-q-midterm/
CATEGORIES:Northwestern R-1
END:VEVENT
BEGIN:VEVENT
DTSTART;TZID=America/Chicago:20251113T151700
DTEND;TZID=America/Chicago:20251113T153700
DTSTAMP:20260422T131420
CREATED:20251006T050011Z
LAST-MODIFIED:20251006T050011Z
UID:29492-1763047020-1763048220@charitonbeacon.com
SUMMARY:FFA Officers Mtg.
DESCRIPTION:
URL:https://charitonbeacon.com/activity/ffa-officers-mtg-2/
CATEGORIES:Northwestern R-1
END:VEVENT
BEGIN:VEVENT
DTSTART;TZID=America/Chicago:20251113T083000
DTEND;TZID=America/Chicago:20251113T090000
DTSTAMP:20260422T131420
CREATED:20251024T210009Z
LAST-MODIFIED:20251024T210009Z
UID:31469-1763022600-1763024400@charitonbeacon.com
SUMMARY:Shriner's Visit with 5th grade
DESCRIPTION:
URL:https://charitonbeacon.com/activity/shriners-visit-with-5th-grade/
CATEGORIES:Northwestern R-1
END:VEVENT
BEGIN:VEVENT
DTSTART;TZID=America/Chicago:20251112T163000
DTEND;TZID=America/Chicago:20251112T193000
DTSTAMP:20260422T131420
CREATED:20251107T220010Z
LAST-MODIFIED:20251107T220010Z
UID:32802-1762965000-1762975800@charitonbeacon.com
SUMMARY:FFA Area Fall Speaking Contest
DESCRIPTION:
URL:https://charitonbeacon.com/activity/ffa-area-fall-speaking-contest/
CATEGORIES:Northwestern R-1
END:VEVENT
BEGIN:VEVENT
DTSTART;TZID=America/Chicago:20251112T140000
DTEND;TZID=America/Chicago:20251112T180000
DTSTAMP:20260422T131420
CREATED:20250814T210008Z
LAST-MODIFIED:20250814T210008Z
UID:24494-1762956000-1762970400@charitonbeacon.com
SUMMARY:FCCLA Blood Drive
DESCRIPTION:
URL:https://charitonbeacon.com/activity/fccla-blood-drive-2/
CATEGORIES:Northwestern R-1
END:VEVENT
BEGIN:VEVENT
DTSTART;TZID=America/Chicago:20251111T142000
DTEND;TZID=America/Chicago:20251111T152000
DTSTAMP:20260422T131420
CREATED:20251104T220009Z
LAST-MODIFIED:20251104T220009Z
UID:32475-1762870800-1762874400@charitonbeacon.com
SUMMARY:Veteran's Day Assembly
DESCRIPTION:
URL:https://charitonbeacon.com/activity/veterans-day-assembly-3/
CATEGORIES:Northwestern R-1
END:VEVENT
BEGIN:VEVENT
DTSTART;TZID=America/Chicago:20251111T101500
DTEND;TZID=America/Chicago:20251111T121500
DTSTAMP:20260422T131420
CREATED:20251024T210009Z
LAST-MODIFIED:20251107T220010Z
UID:31468-1762856100-1762863300@charitonbeacon.com
SUMMARY:10th Grade to Veteran's Day at the Courthouse (Clark Drives)
DESCRIPTION:
URL:https://charitonbeacon.com/activity/10th-grade-to-veterans-day-at-the-courthouse/
CATEGORIES:Northwestern R-1
END:VEVENT
BEGIN:VEVENT
DTSTART;TZID=America/Chicago:20251110T201500
DTEND;TZID=America/Chicago:20251110T211500
DTSTAMP:20260422T131420
CREATED:20251108T220008Z
LAST-MODIFIED:20251108T220008Z
UID:32891-1762805700-1762809300@charitonbeacon.com
SUMMARY:JH Boys Basketball @ Norborne Tourn.
DESCRIPTION:
URL:https://charitonbeacon.com/activity/jh-boys-basketball-norborne-tourn/
CATEGORIES:Northwestern R-1
END:VEVENT
BEGIN:VEVENT
DTSTART;TZID=America/Chicago:20251110T163000
DTEND;TZID=America/Chicago:20251110T173000
DTSTAMP:20260422T131420
CREATED:20251108T220008Z
LAST-MODIFIED:20251108T220008Z
UID:32890-1762792200-1762795800@charitonbeacon.com
SUMMARY:JH Girls Basketball @ Norborne Tourn.
DESCRIPTION:
URL:https://charitonbeacon.com/activity/jh-girls-basketball-norborne-tourn/
CATEGORIES:Northwestern R-1
END:VEVENT
BEGIN:VEVENT
DTSTART;TZID=America/Chicago:20251108T140000
DTEND;TZID=America/Chicago:20251108T150000
DTSTAMP:20260422T131420
CREATED:20251029T050014Z
LAST-MODIFIED:20251029T050014Z
UID:31874-1762610400-1762614000@charitonbeacon.com
SUMMARY:JH Boys Basketball vs. Wellington/Napoleon @ Norborne Tourn.
DESCRIPTION:
URL:https://charitonbeacon.com/activity/jh-boys-basketball-vs-wellington-napoleon-norborne-tourn/
CATEGORIES:Northwestern R-1
END:VEVENT
BEGIN:VEVENT
DTSTART;TZID=America/Chicago:20251108T124500
DTEND;TZID=America/Chicago:20251108T134500
DTSTAMP:20260422T131420
CREATED:20251029T050014Z
LAST-MODIFIED:20251029T050014Z
UID:31873-1762605900-1762609500@charitonbeacon.com
SUMMARY:JH Girls Basketball vs. Braymer @ Norborne Tournament
DESCRIPTION:
URL:https://charitonbeacon.com/activity/jh-girls-basketball-vs-braymer-norborne-tournament/
CATEGORIES:Northwestern R-1
END:VEVENT
BEGIN:VEVENT
DTSTART;TZID=America/Chicago:20251107T193000
DTEND;TZID=America/Chicago:20251107T203000
DTSTAMP:20260422T131420
CREATED:20250726T050014Z
LAST-MODIFIED:20250726T050014Z
UID:22260-1762543800-1762547400@charitonbeacon.com
SUMMARY:JH Boys Basketball vs. Keytesville
DESCRIPTION:
URL:https://charitonbeacon.com/activity/jh-boys-basketball-vs-keytesville/
CATEGORIES:Northwestern R-1
END:VEVENT
BEGIN:VEVENT
DTSTART;TZID=America/Chicago:20251107T180000
DTEND;TZID=America/Chicago:20251107T190000
DTSTAMP:20260422T131420
CREATED:20250726T050013Z
LAST-MODIFIED:20250726T050013Z
UID:22259-1762538400-1762542000@charitonbeacon.com
SUMMARY:JH Girls Basketball vs. Keytesville
DESCRIPTION:
URL:https://charitonbeacon.com/activity/jh-girls-basketball-vs-keytesville/
CATEGORIES:Northwestern R-1
END:VEVENT
BEGIN:VEVENT
DTSTART;TZID=America/Chicago:20251107T133000
DTEND;TZID=America/Chicago:20251107T140000
DTSTAMP:20260422T131420
CREATED:20251104T140008Z
LAST-MODIFIED:20251104T140008Z
UID:32457-1762522200-1762524000@charitonbeacon.com
SUMMARY:XC State Send Off
DESCRIPTION:
URL:https://charitonbeacon.com/activity/xc-state-send-off/
CATEGORIES:Northwestern R-1
END:VEVENT
BEGIN:VEVENT
DTSTART;TZID=America/Chicago:20251107T081500
DTEND;TZID=America/Chicago:20251107T103000
DTSTAMP:20260422T131420
CREATED:20250911T050012Z
LAST-MODIFIED:20250911T050012Z
UID:26948-1762503300-1762511400@charitonbeacon.com
SUMMARY:Community Readers
DESCRIPTION:
URL:https://charitonbeacon.com/activity/community-readers-5/
CATEGORIES:Northwestern R-1
END:VEVENT
BEGIN:VEVENT
DTSTART;VALUE=DATE:20251107
DTEND;VALUE=DATE:20251108
DTSTAMP:20260422T131420
CREATED:20251029T050014Z
LAST-MODIFIED:20251029T050014Z
UID:31872-1762473600-1762559999@charitonbeacon.com
SUMMARY:MU Career Health Fair
DESCRIPTION:
URL:https://charitonbeacon.com/activity/mu-career-health-fair/
CATEGORIES:Northwestern R-1
END:VEVENT
END:VCALENDAR