BEGIN:VCALENDAR
VERSION:2.0
PRODID:-//The Chariton Beacon - ECPv6.15.20//NONSGML v1.0//EN
CALSCALE:GREGORIAN
METHOD:PUBLISH
X-ORIGINAL-URL:https://charitonbeacon.com
X-WR-CALDESC:Events for The Chariton Beacon
REFRESH-INTERVAL;VALUE=DURATION:PT1H
X-Robots-Tag:noindex
X-PUBLISHED-TTL:PT1H
BEGIN:VTIMEZONE
TZID:America/Chicago
BEGIN:DAYLIGHT
TZOFFSETFROM:-0600
TZOFFSETTO:-0500
TZNAME:CDT
DTSTART:20240310T080000
END:DAYLIGHT
BEGIN:STANDARD
TZOFFSETFROM:-0500
TZOFFSETTO:-0600
TZNAME:CST
DTSTART:20241103T070000
END:STANDARD
BEGIN:DAYLIGHT
TZOFFSETFROM:-0600
TZOFFSETTO:-0500
TZNAME:CDT
DTSTART:20250309T080000
END:DAYLIGHT
BEGIN:STANDARD
TZOFFSETFROM:-0500
TZOFFSETTO:-0600
TZNAME:CST
DTSTART:20251102T070000
END:STANDARD
BEGIN:DAYLIGHT
TZOFFSETFROM:-0600
TZOFFSETTO:-0500
TZNAME:CDT
DTSTART:20260308T080000
END:DAYLIGHT
BEGIN:STANDARD
TZOFFSETFROM:-0500
TZOFFSETTO:-0600
TZNAME:CST
DTSTART:20261101T070000
END:STANDARD
END:VTIMEZONE
BEGIN:VEVENT
DTSTART;TZID=America/Chicago:20251111T101500
DTEND;TZID=America/Chicago:20251111T121500
DTSTAMP:20260422T144331
CREATED:20251024T210009Z
LAST-MODIFIED:20251107T220010Z
UID:31468-1762856100-1762863300@charitonbeacon.com
SUMMARY:10th Grade to Veteran's Day at the Courthouse (Clark Drives)
DESCRIPTION:
URL:https://charitonbeacon.com/activity/10th-grade-to-veterans-day-at-the-courthouse/
CATEGORIES:Northwestern R-1
END:VEVENT
BEGIN:VEVENT
DTSTART;TZID=America/Chicago:20251110T201500
DTEND;TZID=America/Chicago:20251110T211500
DTSTAMP:20260422T144331
CREATED:20251108T220008Z
LAST-MODIFIED:20251108T220008Z
UID:32891-1762805700-1762809300@charitonbeacon.com
SUMMARY:JH Boys Basketball @ Norborne Tourn.
DESCRIPTION:
URL:https://charitonbeacon.com/activity/jh-boys-basketball-norborne-tourn/
CATEGORIES:Northwestern R-1
END:VEVENT
BEGIN:VEVENT
DTSTART;TZID=America/Chicago:20251110T163000
DTEND;TZID=America/Chicago:20251110T173000
DTSTAMP:20260422T144331
CREATED:20251108T220008Z
LAST-MODIFIED:20251108T220008Z
UID:32890-1762792200-1762795800@charitonbeacon.com
SUMMARY:JH Girls Basketball @ Norborne Tourn.
DESCRIPTION:
URL:https://charitonbeacon.com/activity/jh-girls-basketball-norborne-tourn/
CATEGORIES:Northwestern R-1
END:VEVENT
BEGIN:VEVENT
DTSTART;TZID=America/Chicago:20251108T140000
DTEND;TZID=America/Chicago:20251108T150000
DTSTAMP:20260422T144331
CREATED:20251029T050014Z
LAST-MODIFIED:20251029T050014Z
UID:31874-1762610400-1762614000@charitonbeacon.com
SUMMARY:JH Boys Basketball vs. Wellington/Napoleon @ Norborne Tourn.
DESCRIPTION:
URL:https://charitonbeacon.com/activity/jh-boys-basketball-vs-wellington-napoleon-norborne-tourn/
CATEGORIES:Northwestern R-1
END:VEVENT
BEGIN:VEVENT
DTSTART;TZID=America/Chicago:20251108T124500
DTEND;TZID=America/Chicago:20251108T134500
DTSTAMP:20260422T144331
CREATED:20251029T050014Z
LAST-MODIFIED:20251029T050014Z
UID:31873-1762605900-1762609500@charitonbeacon.com
SUMMARY:JH Girls Basketball vs. Braymer @ Norborne Tournament
DESCRIPTION:
URL:https://charitonbeacon.com/activity/jh-girls-basketball-vs-braymer-norborne-tournament/
CATEGORIES:Northwestern R-1
END:VEVENT
BEGIN:VEVENT
DTSTART;TZID=America/Chicago:20251107T193000
DTEND;TZID=America/Chicago:20251107T203000
DTSTAMP:20260422T144331
CREATED:20250726T050014Z
LAST-MODIFIED:20250726T050014Z
UID:22260-1762543800-1762547400@charitonbeacon.com
SUMMARY:JH Boys Basketball vs. Keytesville
DESCRIPTION:
URL:https://charitonbeacon.com/activity/jh-boys-basketball-vs-keytesville/
CATEGORIES:Northwestern R-1
END:VEVENT
BEGIN:VEVENT
DTSTART;TZID=America/Chicago:20251107T180000
DTEND;TZID=America/Chicago:20251107T190000
DTSTAMP:20260422T144331
CREATED:20250726T050013Z
LAST-MODIFIED:20250726T050013Z
UID:22259-1762538400-1762542000@charitonbeacon.com
SUMMARY:JH Girls Basketball vs. Keytesville
DESCRIPTION:
URL:https://charitonbeacon.com/activity/jh-girls-basketball-vs-keytesville/
CATEGORIES:Northwestern R-1
END:VEVENT
BEGIN:VEVENT
DTSTART;TZID=America/Chicago:20251107T133000
DTEND;TZID=America/Chicago:20251107T140000
DTSTAMP:20260422T144331
CREATED:20251104T140008Z
LAST-MODIFIED:20251104T140008Z
UID:32457-1762522200-1762524000@charitonbeacon.com
SUMMARY:XC State Send Off
DESCRIPTION:
URL:https://charitonbeacon.com/activity/xc-state-send-off/
CATEGORIES:Northwestern R-1
END:VEVENT
BEGIN:VEVENT
DTSTART;TZID=America/Chicago:20251107T081500
DTEND;TZID=America/Chicago:20251107T103000
DTSTAMP:20260422T144331
CREATED:20250911T050012Z
LAST-MODIFIED:20250911T050012Z
UID:26948-1762503300-1762511400@charitonbeacon.com
SUMMARY:Community Readers
DESCRIPTION:
URL:https://charitonbeacon.com/activity/community-readers-5/
CATEGORIES:Northwestern R-1
END:VEVENT
BEGIN:VEVENT
DTSTART;VALUE=DATE:20251107
DTEND;VALUE=DATE:20251108
DTSTAMP:20260422T144331
CREATED:20251029T050014Z
LAST-MODIFIED:20251029T050014Z
UID:31872-1762473600-1762559999@charitonbeacon.com
SUMMARY:MU Career Health Fair
DESCRIPTION:
URL:https://charitonbeacon.com/activity/mu-career-health-fair/
CATEGORIES:Northwestern R-1
END:VEVENT
BEGIN:VEVENT
DTSTART;TZID=America/Chicago:20251106T183000
DTEND;TZID=America/Chicago:20251106T193000
DTSTAMP:20260422T144331
CREATED:20251031T050011Z
LAST-MODIFIED:20251031T050011Z
UID:32095-1762453800-1762457400@charitonbeacon.com
SUMMARY:Booster Club Meeting (Cafeteria)
DESCRIPTION:
URL:https://charitonbeacon.com/activity/booster-club-meeting-cafeteria/
CATEGORIES:Northwestern R-1
END:VEVENT
BEGIN:VEVENT
DTSTART;TZID=America/Chicago:20251106T151700
DTEND;TZID=America/Chicago:20251106T153700
DTSTAMP:20260422T144331
CREATED:20250929T210007Z
LAST-MODIFIED:20251104T220008Z
UID:28857-1762442220-1762443420@charitonbeacon.com
SUMMARY:STUCO meeting
DESCRIPTION:
URL:https://charitonbeacon.com/activity/stuco-meeting-2/
CATEGORIES:Northwestern R-1
END:VEVENT
BEGIN:VEVENT
DTSTART;TZID=America/Chicago:20251106T103000
DTEND;TZID=America/Chicago:20251106T110000
DTSTAMP:20260422T144331
CREATED:20251104T140008Z
LAST-MODIFIED:20251104T140008Z
UID:32456-1762425000-1762426800@charitonbeacon.com
SUMMARY:10th grade Jostens Class Ring Delivery
DESCRIPTION:
URL:https://charitonbeacon.com/activity/10th-grade-jostens-class-ring-delivery/
CATEGORIES:Northwestern R-1
END:VEVENT
BEGIN:VEVENT
DTSTART;TZID=America/Chicago:20251105T180000
DTEND;TZID=America/Chicago:20251105T200000
DTSTAMP:20260422T144331
CREATED:20250912T130010Z
LAST-MODIFIED:20250919T210008Z
UID:27129-1762365600-1762372800@charitonbeacon.com
SUMMARY:Thunder Softball Banquet (at Brunswick HS)
DESCRIPTION:
URL:https://charitonbeacon.com/activity/thunder-softball-banquet-2/
CATEGORIES:Northwestern R-1
END:VEVENT
BEGIN:VEVENT
DTSTART;TZID=America/Chicago:20251105T143000
DTEND;TZID=America/Chicago:20251105T153000
DTSTAMP:20260422T144331
CREATED:20250918T210009Z
LAST-MODIFIED:20251029T050014Z
UID:27770-1762353000-1762356600@charitonbeacon.com
SUMMARY:Moms Breaking the Silence Presentation (Grades 9-12)
DESCRIPTION:
URL:https://charitonbeacon.com/activity/moms-breaking-the-silence-presentation/
CATEGORIES:Northwestern R-1
END:VEVENT
BEGIN:VEVENT
DTSTART;TZID=America/Chicago:20251105T083000
DTEND;TZID=America/Chicago:20251105T113000
DTSTAMP:20260422T144331
CREATED:20250530T210005Z
LAST-MODIFIED:20251018T050011Z
UID:17481-1762331400-1762342200@charitonbeacon.com
SUMMARY:ASVAB for Jrs.
DESCRIPTION:
URL:https://charitonbeacon.com/activity/asvab-for-jrs/
CATEGORIES:Northwestern R-1
END:VEVENT
BEGIN:VEVENT
DTSTART;VALUE=DATE:20251105
DTEND;VALUE=DATE:20251106
DTSTAMP:20260422T144331
CREATED:20251029T050013Z
LAST-MODIFIED:20251029T050013Z
UID:31870-1762300800-1762387199@charitonbeacon.com
SUMMARY:PM Assembly Bell Schedule
DESCRIPTION:
URL:https://charitonbeacon.com/activity/pm-assembly-bell-schedule-2/
CATEGORIES:Northwestern R-1
END:VEVENT
BEGIN:VEVENT
DTSTART;TZID=America/Chicago:20251104T193000
DTEND;TZID=America/Chicago:20251104T203000
DTSTAMP:20260422T144331
CREATED:20250726T050013Z
LAST-MODIFIED:20250726T050013Z
UID:22258-1762284600-1762288200@charitonbeacon.com
SUMMARY:JH Boys Basketball @ Brunswick
DESCRIPTION:
URL:https://charitonbeacon.com/activity/jh-boys-basketball-brunswick/
CATEGORIES:Northwestern R-1
END:VEVENT
BEGIN:VEVENT
DTSTART;TZID=America/Chicago:20251104T180000
DTEND;TZID=America/Chicago:20251104T190000
DTSTAMP:20260422T144331
CREATED:20250726T050013Z
LAST-MODIFIED:20250726T050013Z
UID:22256-1762279200-1762282800@charitonbeacon.com
SUMMARY:JH Girls Basketball @ Brunswick
DESCRIPTION:
URL:https://charitonbeacon.com/activity/jh-girls-basketball-brunswick/
CATEGORIES:Northwestern R-1
END:VEVENT
BEGIN:VEVENT
DTSTART;TZID=America/Chicago:20251104T151700
DTEND;TZID=America/Chicago:20251104T153700
DTSTAMP:20260422T144331
CREATED:20251025T050009Z
LAST-MODIFIED:20251025T050009Z
UID:31520-1762269420-1762270620@charitonbeacon.com
SUMMARY:Senior Superlatives w/ Mrs. Mauzey
DESCRIPTION:
URL:https://charitonbeacon.com/activity/senior-superlatives-w-mrs-mauzey/
CATEGORIES:Northwestern R-1
END:VEVENT
BEGIN:VEVENT
DTSTART;TZID=America/Chicago:20251104T070000
DTEND;TZID=America/Chicago:20251104T150000
DTSTAMP:20260422T144331
CREATED:20250923T210007Z
LAST-MODIFIED:20250923T210007Z
UID:28252-1762239600-1762268400@charitonbeacon.com
SUMMARY:Dr. Harold Momberg HS Math & Science Comp. @ CMU
DESCRIPTION:
URL:https://charitonbeacon.com/activity/dr-harold-momberg-hs-math-science-comp-cmu/
CATEGORIES:Northwestern R-1
END:VEVENT
BEGIN:VEVENT
DTSTART;VALUE=DATE:20251102
DTEND;VALUE=DATE:20251104
DTSTAMP:20260422T144331
CREATED:20250815T210009Z
LAST-MODIFIED:20250815T210009Z
UID:24586-1762041600-1762214399@charitonbeacon.com
SUMMARY:FCCLA Fall Leadership Conference @ STL
DESCRIPTION:
URL:https://charitonbeacon.com/activity/fccla-fall-leadership-conference-stl/
CATEGORIES:Northwestern R-1
END:VEVENT
BEGIN:VEVENT
DTSTART;VALUE=DATE:20251101
DTEND;VALUE=DATE:20251102
DTSTAMP:20260422T144331
CREATED:20250820T210013Z
LAST-MODIFIED:20250820T210013Z
UID:25157-1761955200-1762041599@charitonbeacon.com
SUMMARY:HS District XC
DESCRIPTION:
URL:https://charitonbeacon.com/activity/hs-district-xc/
CATEGORIES:Northwestern R-1
END:VEVENT
BEGIN:VEVENT
DTSTART;TZID=America/Chicago:20251031T190000
DTEND;TZID=America/Chicago:20251031T200000
DTSTAMP:20260422T144331
CREATED:20250806T210014Z
LAST-MODIFIED:20251024T210009Z
UID:23692-1761937200-1761940800@charitonbeacon.com
SUMMARY:Thunder Football Districts @ Schuyler
DESCRIPTION:
URL:https://charitonbeacon.com/activity/thunder-football-districts/
CATEGORIES:Northwestern R-1
END:VEVENT
BEGIN:VEVENT
DTSTART;TZID=America/Chicago:20251031T143000
DTEND;TZID=America/Chicago:20251031T153000
DTSTAMP:20260422T144331
CREATED:20251017T050010Z
LAST-MODIFIED:20251017T050010Z
UID:30699-1761921000-1761924600@charitonbeacon.com
SUMMARY:Costume Contest and School Parade
DESCRIPTION:
URL:https://charitonbeacon.com/activity/costume-contest-and-school-parade/
CATEGORIES:Northwestern R-1
END:VEVENT
BEGIN:VEVENT
DTSTART;TZID=America/Chicago:20251031T130000
DTEND;TZID=America/Chicago:20251031T140000
DTSTAMP:20260422T144331
CREATED:20251017T050010Z
LAST-MODIFIED:20251017T050010Z
UID:30697-1761915600-1761919200@charitonbeacon.com
SUMMARY:Elementary Halloween Parties
DESCRIPTION:
URL:https://charitonbeacon.com/activity/elementary-halloween-parties/
CATEGORIES:Northwestern R-1
END:VEVENT
BEGIN:VEVENT
DTSTART;TZID=America/Chicago:20251031T123000
DTEND;TZID=America/Chicago:20251031T130000
DTSTAMP:20260422T144331
CREATED:20251017T050009Z
LAST-MODIFIED:20251017T050009Z
UID:30696-1761913800-1761915600@charitonbeacon.com
SUMMARY:Elementary Community Parade
DESCRIPTION:
URL:https://charitonbeacon.com/activity/elementary-community-parade/
CATEGORIES:Northwestern R-1
END:VEVENT
BEGIN:VEVENT
DTSTART;TZID=America/Chicago:20251031T081500
DTEND;TZID=America/Chicago:20251031T103000
DTSTAMP:20260422T144331
CREATED:20250911T050012Z
LAST-MODIFIED:20250911T050012Z
UID:26946-1761898500-1761906600@charitonbeacon.com
SUMMARY:Community Readers
DESCRIPTION:
URL:https://charitonbeacon.com/activity/community-readers-4/
CATEGORIES:Northwestern R-1
END:VEVENT
BEGIN:VEVENT
DTSTART;TZID=America/Chicago:20251031T073000
DTEND;TZID=America/Chicago:20251031T080000
DTSTAMP:20260422T144331
CREATED:20250806T210014Z
LAST-MODIFIED:20250806T210014Z
UID:23691-1761895800-1761897600@charitonbeacon.com
SUMMARY:NHS Meeting
DESCRIPTION:
URL:https://charitonbeacon.com/activity/nhs-meeting-5/
CATEGORIES:Northwestern R-1
END:VEVENT
BEGIN:VEVENT
DTSTART;VALUE=DATE:20251031
DTEND;VALUE=DATE:20251101
DTSTAMP:20260422T144331
CREATED:20251029T050013Z
LAST-MODIFIED:20251029T050013Z
UID:31869-1761868800-1761955199@charitonbeacon.com
SUMMARY:PM ASSEMBLY BELL SCHEDULE
DESCRIPTION:
URL:https://charitonbeacon.com/activity/pm-assembly-bell-schedule/
CATEGORIES:Northwestern R-1
END:VEVENT
END:VCALENDAR