BEGIN:VCALENDAR
VERSION:2.0
PRODID:-//The Chariton Beacon - ECPv6.15.20//NONSGML v1.0//EN
CALSCALE:GREGORIAN
METHOD:PUBLISH
X-ORIGINAL-URL:https://charitonbeacon.com
X-WR-CALDESC:Events for The Chariton Beacon
REFRESH-INTERVAL;VALUE=DURATION:PT1H
X-Robots-Tag:noindex
X-PUBLISHED-TTL:PT1H
BEGIN:VTIMEZONE
TZID:America/Chicago
BEGIN:DAYLIGHT
TZOFFSETFROM:-0600
TZOFFSETTO:-0500
TZNAME:CDT
DTSTART:20240310T080000
END:DAYLIGHT
BEGIN:STANDARD
TZOFFSETFROM:-0500
TZOFFSETTO:-0600
TZNAME:CST
DTSTART:20241103T070000
END:STANDARD
BEGIN:DAYLIGHT
TZOFFSETFROM:-0600
TZOFFSETTO:-0500
TZNAME:CDT
DTSTART:20250309T080000
END:DAYLIGHT
BEGIN:STANDARD
TZOFFSETFROM:-0500
TZOFFSETTO:-0600
TZNAME:CST
DTSTART:20251102T070000
END:STANDARD
BEGIN:DAYLIGHT
TZOFFSETFROM:-0600
TZOFFSETTO:-0500
TZNAME:CDT
DTSTART:20260308T080000
END:DAYLIGHT
BEGIN:STANDARD
TZOFFSETFROM:-0500
TZOFFSETTO:-0600
TZNAME:CST
DTSTART:20261101T070000
END:STANDARD
END:VTIMEZONE
BEGIN:VEVENT
DTSTART;VALUE=DATE:20251028
DTEND;VALUE=DATE:20251029
DTSTAMP:20260422T175337
CREATED:20251024T210007Z
LAST-MODIFIED:20251024T210007Z
UID:31462-1761609600-1761695999@charitonbeacon.com
SUMMARY:Red Ribbon Week: ""Being Drug Free is No Sweat!"" Wear your workout gear!
DESCRIPTION:
URL:https://charitonbeacon.com/activity/red-ribbon-week-being-drug-free-is-no-sweat-wear-your-workout-gear/
CATEGORIES:Northwestern R-1
END:VEVENT
BEGIN:VEVENT
DTSTART;TZID=America/Chicago:20251027T193000
DTEND;TZID=America/Chicago:20251027T203000
DTSTAMP:20260422T175337
CREATED:20251014T210010Z
LAST-MODIFIED:20251014T210010Z
UID:30412-1761593400-1761597000@charitonbeacon.com
SUMMARY:JH Home Boys Basketball Vs. St. Mary's
DESCRIPTION:
URL:https://charitonbeacon.com/activity/jh-home-boys-basketball-vs-st-marys/
CATEGORIES:Northwestern R-1
END:VEVENT
BEGIN:VEVENT
DTSTART;TZID=America/Chicago:20251027T180000
DTEND;TZID=America/Chicago:20251027T190000
DTSTAMP:20260422T175337
CREATED:20251014T210010Z
LAST-MODIFIED:20251014T210010Z
UID:30411-1761588000-1761591600@charitonbeacon.com
SUMMARY:JH Home Girls Basketball Vs. St. Mary's
DESCRIPTION:
URL:https://charitonbeacon.com/activity/jh-home-girls-basketball-vs-st-marys/
CATEGORIES:Northwestern R-1
END:VEVENT
BEGIN:VEVENT
DTSTART;TZID=America/Chicago:20251024T081500
DTEND;TZID=America/Chicago:20251024T103000
DTSTAMP:20260422T175337
CREATED:20250911T050012Z
LAST-MODIFIED:20250911T050012Z
UID:26945-1761293700-1761301800@charitonbeacon.com
SUMMARY:Community Readers
DESCRIPTION:
URL:https://charitonbeacon.com/activity/community-readers-3/
CATEGORIES:Northwestern R-1
END:VEVENT
BEGIN:VEVENT
DTSTART;VALUE=DATE:20251024
DTEND;VALUE=DATE:20251025
DTSTAMP:20260422T175337
CREATED:20251024T210007Z
LAST-MODIFIED:20251024T210007Z
UID:31461-1761264000-1761350399@charitonbeacon.com
SUMMARY:Hat Day- sponsored by NHS
DESCRIPTION:
URL:https://charitonbeacon.com/activity/hat-day-sponsored-by-nhs/
CATEGORIES:Northwestern R-1
END:VEVENT
BEGIN:VEVENT
DTSTART;TZID=America/Chicago:20251023T163000
DTEND;TZID=America/Chicago:20251023T173000
DTSTAMP:20260422T175337
CREATED:20251022T050009Z
LAST-MODIFIED:20251022T050009Z
UID:31199-1761237000-1761240600@charitonbeacon.com
SUMMARY:JH Girls Basketball @ Hale CLAA Tourn.
DESCRIPTION:
URL:https://charitonbeacon.com/activity/jh-girls-basketball-hale-claa-tourn/
CATEGORIES:Northwestern R-1
END:VEVENT
BEGIN:VEVENT
DTSTART;TZID=America/Chicago:20251023T160000
DTEND;TZID=America/Chicago:20251023T173000
DTSTAMP:20260422T175337
CREATED:20250826T210008Z
LAST-MODIFIED:20250906T210008Z
UID:25532-1761235200-1761240600@charitonbeacon.com
SUMMARY:Lights ON Afterschool
DESCRIPTION:
URL:https://charitonbeacon.com/activity/lights-on-afterschool/
CATEGORIES:Northwestern R-1
END:VEVENT
BEGIN:VEVENT
DTSTART;TZID=America/Chicago:20251022T201500
DTEND;TZID=America/Chicago:20251022T211500
DTSTAMP:20260422T175337
CREATED:20251022T050008Z
LAST-MODIFIED:20251022T050008Z
UID:31198-1761164100-1761167700@charitonbeacon.com
SUMMARY:JH Boys Basketball @ Hale CLAA Tourn.
DESCRIPTION:
URL:https://charitonbeacon.com/activity/jh-boys-basketball-hale-claa-tourn/
CATEGORIES:Northwestern R-1
END:VEVENT
BEGIN:VEVENT
DTSTART;TZID=America/Chicago:20251022T120000
DTEND;TZID=America/Chicago:20251022T150000
DTSTAMP:20260422T175337
CREATED:20250826T210008Z
LAST-MODIFIED:20251020T210009Z
UID:25533-1761134400-1761145200@charitonbeacon.com
SUMMARY:PreK-1 to Pumpkin Patch (Danni Lee Driving)
DESCRIPTION:
URL:https://charitonbeacon.com/activity/prek-1-to-pumpkin-patch/
CATEGORIES:Northwestern R-1
END:VEVENT
BEGIN:VEVENT
DTSTART;TZID=America/Chicago:20251022T073000
DTEND;TZID=America/Chicago:20251022T080000
DTSTAMP:20260422T175337
CREATED:20251009T210008Z
LAST-MODIFIED:20251009T210008Z
UID:29932-1761118200-1761120000@charitonbeacon.com
SUMMARY:FCA in the library
DESCRIPTION:
URL:https://charitonbeacon.com/activity/fca-in-the-library/
CATEGORIES:Northwestern R-1
END:VEVENT
BEGIN:VEVENT
DTSTART;TZID=America/Chicago:20251021T163000
DTEND;TZID=America/Chicago:20251021T173000
DTSTAMP:20260422T175337
CREATED:20251003T050012Z
LAST-MODIFIED:20251003T050012Z
UID:29217-1761064200-1761067800@charitonbeacon.com
SUMMARY:JH Girls Basketball vs SW @ Hale CLAA Tourn.
DESCRIPTION:
URL:https://charitonbeacon.com/activity/jh-girls-basketball-vs-sw-hale-claa-tourn/
CATEGORIES:Northwestern R-1
END:VEVENT
BEGIN:VEVENT
DTSTART;VALUE=DATE:20251021
DTEND;VALUE=DATE:20251022
DTSTAMP:20260422T175337
CREATED:20250820T210013Z
LAST-MODIFIED:20250820T210013Z
UID:25156-1761004800-1761091199@charitonbeacon.com
SUMMARY:HS XC @ Mexico Classic
DESCRIPTION:
URL:https://charitonbeacon.com/activity/hs-xc-mexico-classic/
CATEGORIES:Northwestern R-1
END:VEVENT
BEGIN:VEVENT
DTSTART;TZID=America/Chicago:20251020T180000
DTEND;TZID=America/Chicago:20251020T190000
DTSTAMP:20260422T175337
CREATED:20250910T050010Z
LAST-MODIFIED:20250910T050010Z
UID:26841-1760983200-1760986800@charitonbeacon.com
SUMMARY:FAFSA Night
DESCRIPTION:
URL:https://charitonbeacon.com/activity/fafsa-night/
CATEGORIES:Northwestern R-1
END:VEVENT
BEGIN:VEVENT
DTSTART;TZID=America/Chicago:20251020T174500
DTEND;TZID=America/Chicago:20251020T184500
DTSTAMP:20260422T175337
CREATED:20251003T050011Z
LAST-MODIFIED:20251003T050011Z
UID:29216-1760982300-1760985900@charitonbeacon.com
SUMMARY:JH Boys Basketball vs Higbee @ Hale CLAA Tourn.
DESCRIPTION:
URL:https://charitonbeacon.com/activity/jh-boys-basketball-vs-higbee-hale-claa-tourn/
CATEGORIES:Northwestern R-1
END:VEVENT
BEGIN:VEVENT
DTSTART;TZID=America/Chicago:20251020T173000
DTEND;TZID=America/Chicago:20251020T190000
DTSTAMP:20260422T175337
CREATED:20251017T210007Z
LAST-MODIFIED:20251017T210007Z
UID:30749-1760981400-1760986800@charitonbeacon.com
SUMMARY:Thunder Softball District Championship @ Brunswick
DESCRIPTION:
URL:https://charitonbeacon.com/activity/thunder-softball-district-championship-brunswick/
CATEGORIES:Northwestern R-1
END:VEVENT
BEGIN:VEVENT
DTSTART;TZID=America/Chicago:20251020T140000
DTEND;TZID=America/Chicago:20251020T190000
DTSTAMP:20260422T175337
CREATED:20250606T050012Z
LAST-MODIFIED:20250623T210017Z
UID:17984-1760968800-1760986800@charitonbeacon.com
SUMMARY:Parent/ Teacher Conferences
DESCRIPTION:
URL:https://charitonbeacon.com/activity/parent-teacher-conferences-4/
CATEGORIES:Northwestern R-1
END:VEVENT
BEGIN:VEVENT
DTSTART;TZID=America/Chicago:20251020T110000
DTEND;TZID=America/Chicago:20251020T140000
DTSTAMP:20260422T175337
CREATED:20250606T050012Z
LAST-MODIFIED:20250623T210017Z
UID:17982-1760958000-1760968800@charitonbeacon.com
SUMMARY:Professional Development Day
DESCRIPTION:
URL:https://charitonbeacon.com/activity/professional-development-day-6/
CATEGORIES:Northwestern R-1
END:VEVENT
BEGIN:VEVENT
DTSTART;VALUE=DATE:20251020
DTEND;VALUE=DATE:20251026
DTSTAMP:20260422T175337
CREATED:20250726T050009Z
LAST-MODIFIED:20250920T050013Z
UID:22245-1760918400-1761436799@charitonbeacon.com
SUMMARY:JH Basketball @ CLAA Conference Tournament @ Hale
DESCRIPTION:
URL:https://charitonbeacon.com/activity/jh-basketball-claa-conference-tournament/
CATEGORIES:Northwestern R-1
END:VEVENT
BEGIN:VEVENT
DTSTART;VALUE=DATE:20251020
DTEND;VALUE=DATE:20251021
DTSTAMP:20260422T175337
CREATED:20250909T210010Z
LAST-MODIFIED:20250909T210010Z
UID:26778-1760918400-1761004799@charitonbeacon.com
SUMMARY:Teacher Grades Due @ 8am (1st Q)
DESCRIPTION:
URL:https://charitonbeacon.com/activity/teacher-grades-due-8am-1st-q/
CATEGORIES:Northwestern R-1
END:VEVENT
END:VCALENDAR