BEGIN:VCALENDAR
VERSION:2.0
PRODID:-//The Chariton Beacon - ECPv6.15.20//NONSGML v1.0//EN
CALSCALE:GREGORIAN
METHOD:PUBLISH
X-WR-CALNAME:The Chariton Beacon
X-ORIGINAL-URL:https://charitonbeacon.com
X-WR-CALDESC:Events for The Chariton Beacon
REFRESH-INTERVAL;VALUE=DURATION:PT1H
X-Robots-Tag:noindex
X-PUBLISHED-TTL:PT1H
BEGIN:VTIMEZONE
TZID:America/Chicago
BEGIN:DAYLIGHT
TZOFFSETFROM:-0600
TZOFFSETTO:-0500
TZNAME:CDT
DTSTART:20250309T080000
END:DAYLIGHT
BEGIN:STANDARD
TZOFFSETFROM:-0500
TZOFFSETTO:-0600
TZNAME:CST
DTSTART:20251102T070000
END:STANDARD
BEGIN:DAYLIGHT
TZOFFSETFROM:-0600
TZOFFSETTO:-0500
TZNAME:CDT
DTSTART:20260308T080000
END:DAYLIGHT
BEGIN:STANDARD
TZOFFSETFROM:-0500
TZOFFSETTO:-0600
TZNAME:CST
DTSTART:20261101T070000
END:STANDARD
BEGIN:DAYLIGHT
TZOFFSETFROM:-0600
TZOFFSETTO:-0500
TZNAME:CDT
DTSTART:20270314T080000
END:DAYLIGHT
BEGIN:STANDARD
TZOFFSETFROM:-0500
TZOFFSETTO:-0600
TZNAME:CST
DTSTART:20271107T070000
END:STANDARD
END:VTIMEZONE
BEGIN:VEVENT
DTSTART;TZID=America/Chicago:20260507T113000
DTEND;TZID=America/Chicago:20260507T173000
DTSTAMP:20260421T110756
CREATED:20260210T220031Z
LAST-MODIFIED:20260330T210025Z
UID:39010-1778153400-1778175000@charitonbeacon.com
SUMMARY:JH Track at Glasgow MS Relays
DESCRIPTION:
URL:https://charitonbeacon.com/activity/jh-track-at-glasgow-ms-relays/
CATEGORIES:Northwestern R-1
END:VEVENT
BEGIN:VEVENT
DTSTART;TZID=America/Chicago:20260507T170000
DTEND;TZID=America/Chicago:20260507T190000
DTSTAMP:20260421T110756
CREATED:20260217T060027Z
LAST-MODIFIED:20260217T060027Z
UID:39356-1778173200-1778180400@charitonbeacon.com
SUMMARY:V. Baseball @ Glasgow
DESCRIPTION:
URL:https://charitonbeacon.com/activity/v-baseball-glasgow/
CATEGORIES:Northwestern R-1
END:VEVENT
BEGIN:VEVENT
DTSTART;TZID=America/Chicago:20260507T190000
DTEND;TZID=America/Chicago:20260507T200000
DTSTAMP:20260421T110756
CREATED:20260217T060027Z
LAST-MODIFIED:20260217T060027Z
UID:39357-1778180400-1778184000@charitonbeacon.com
SUMMARY:JV Baseball @ Glasgow
DESCRIPTION:
URL:https://charitonbeacon.com/activity/jv-baseball-glasgow/
CATEGORIES:Northwestern R-1
END:VEVENT
BEGIN:VEVENT
DTSTART;VALUE=DATE:20260508
DTEND;VALUE=DATE:20260509
DTSTAMP:20260421T110756
CREATED:20251108T220009Z
LAST-MODIFIED:20251108T220009Z
UID:32892-1778198400-1778284799@charitonbeacon.com
SUMMARY:Hat Day- sponsored by NHS
DESCRIPTION:
URL:https://charitonbeacon.com/activity/hat-day-sponsored-by-nhs-8/
CATEGORIES:Northwestern R-1
END:VEVENT
BEGIN:VEVENT
DTSTART;VALUE=DATE:20260508
DTEND;VALUE=DATE:20260509
DTSTAMP:20260421T110756
CREATED:20260120T220015Z
LAST-MODIFIED:20260126T220012Z
UID:37781-1778198400-1778284799@charitonbeacon.com
SUMMARY:Music Field Trip (Clark Drives)
DESCRIPTION:
URL:https://charitonbeacon.com/activity/music-field-trip/
CATEGORIES:Northwestern R-1
END:VEVENT
BEGIN:VEVENT
DTSTART;TZID=America/Chicago:20260508T170000
DTEND;TZID=America/Chicago:20260508T190000
DTSTAMP:20260421T110756
CREATED:20260217T060027Z
LAST-MODIFIED:20260217T060027Z
UID:39358-1778259600-1778266800@charitonbeacon.com
SUMMARY:V. Baseball vs. Brookfield
DESCRIPTION:
URL:https://charitonbeacon.com/activity/v-baseball-vs-brookfield/
CATEGORIES:Northwestern R-1
END:VEVENT
BEGIN:VEVENT
DTSTART;TZID=America/Chicago:20260508T190000
DTEND;TZID=America/Chicago:20260508T200000
DTSTAMP:20260421T110756
CREATED:20260217T060028Z
LAST-MODIFIED:20260217T060028Z
UID:39359-1778266800-1778270400@charitonbeacon.com
SUMMARY:JV Baseball vs. Brookfield
DESCRIPTION:
URL:https://charitonbeacon.com/activity/jv-baseball-vs-brookfield/
CATEGORIES:Northwestern R-1
END:VEVENT
BEGIN:VEVENT
DTSTART;VALUE=DATE:20260509
DTEND;VALUE=DATE:20260510
DTSTAMP:20260421T110756
CREATED:20260210T220031Z
LAST-MODIFIED:20260210T220031Z
UID:39012-1778284800-1778371199@charitonbeacon.com
SUMMARY:HS Track at Districts
DESCRIPTION:
URL:https://charitonbeacon.com/activity/hs-track-at-districts/
CATEGORIES:Northwestern R-1
END:VEVENT
BEGIN:VEVENT
DTSTART;VALUE=DATE:20260511
DTEND;VALUE=DATE:20260512
DTSTAMP:20260421T110756
CREATED:20251111T220009Z
LAST-MODIFIED:20251111T220009Z
UID:33184-1778457600-1778543999@charitonbeacon.com
SUMMARY:School in Session
DESCRIPTION:
URL:https://charitonbeacon.com/activity/school-in-session-2/
CATEGORIES:Northwestern R-1
END:VEVENT
BEGIN:VEVENT
DTSTART;VALUE=DATE:20260511
DTEND;VALUE=DATE:20260512
DTSTAMP:20260421T110756
CREATED:20260309T210018Z
LAST-MODIFIED:20260309T210018Z
UID:40797-1778457600-1778543999@charitonbeacon.com
SUMMARY:Field Day
DESCRIPTION:
URL:https://charitonbeacon.com/activity/field-day/
CATEGORIES:Northwestern R-1
END:VEVENT
BEGIN:VEVENT
DTSTART;TZID=America/Chicago:20260511T173000
DTEND;TZID=America/Chicago:20260511T183000
DTSTAMP:20260421T110756
CREATED:20260316T130017Z
LAST-MODIFIED:20260316T130017Z
UID:41311-1778520600-1778524200@charitonbeacon.com
SUMMARY:Pre-K Graduation (on the playground)
DESCRIPTION:
URL:https://charitonbeacon.com/activity/pre-k-graduation-on-the-playground/
CATEGORIES:Northwestern R-1
END:VEVENT
BEGIN:VEVENT
DTSTART;TZID=America/Chicago:20260511T183000
DTEND;TZID=America/Chicago:20260511T200000
DTSTAMP:20260421T110756
CREATED:20260413T210023Z
LAST-MODIFIED:20260414T210023Z
UID:43237-1778524200-1778529600@charitonbeacon.com
SUMMARY:NAA Athletic & Activities Banquet
DESCRIPTION:
URL:https://charitonbeacon.com/activity/naa-athletic-banquet/
CATEGORIES:Northwestern R-1
END:VEVENT
BEGIN:VEVENT
DTSTART;VALUE=DATE:20260512
DTEND;VALUE=DATE:20260513
DTSTAMP:20260421T110756
CREATED:20260310T050017Z
LAST-MODIFIED:20260311T210016Z
UID:40830-1778544000-1778630399@charitonbeacon.com
SUMMARY:3rd-6th Field Trip (Clark Drives)
DESCRIPTION:
URL:https://charitonbeacon.com/activity/3rd-6th-field-trip/
CATEGORIES:Northwestern R-1
END:VEVENT
BEGIN:VEVENT
DTSTART;TZID=America/Chicago:20260512T170000
DTEND;TZID=America/Chicago:20260512T190000
DTSTAMP:20260421T110756
CREATED:20260217T060030Z
LAST-MODIFIED:20260217T060030Z
UID:39361-1778605200-1778612400@charitonbeacon.com
SUMMARY:V. Baseball @ S.Shelby
DESCRIPTION:
URL:https://charitonbeacon.com/activity/v-baseball-s-shelby/
CATEGORIES:Northwestern R-1
END:VEVENT
BEGIN:VEVENT
DTSTART;VALUE=DATE:20260514
DTEND;VALUE=DATE:20260515
DTSTAMP:20260421T110756
CREATED:20251114T220008Z
LAST-MODIFIED:20251114T220008Z
UID:33463-1778716800-1778803199@charitonbeacon.com
SUMMARY:End of 4th Q & 2nd Semester
DESCRIPTION:
URL:https://charitonbeacon.com/activity/end-of-4th-q-2nd-semester/
CATEGORIES:Northwestern R-1
END:VEVENT
BEGIN:VEVENT
DTSTART;VALUE=DATE:20260514
DTEND;VALUE=DATE:20260515
DTSTAMP:20260421T110756
CREATED:20251114T220009Z
LAST-MODIFIED:20251114T220009Z
UID:33464-1778716800-1778803199@charitonbeacon.com
SUMMARY:Last Day of School/ Early Dismissal 12:35pm
DESCRIPTION:
URL:https://charitonbeacon.com/activity/last-day-of-school-early-dismissal-1235pm/
CATEGORIES:Northwestern R-1
END:VEVENT
BEGIN:VEVENT
DTSTART;VALUE=DATE:20260514
DTEND;VALUE=DATE:20260515
DTSTAMP:20260421T110756
CREATED:20260117T220007Z
LAST-MODIFIED:20260117T220007Z
UID:37637-1778716800-1778803199@charitonbeacon.com
SUMMARY:Elementary Awards
DESCRIPTION:
URL:https://charitonbeacon.com/activity/elementary-awards-2/
CATEGORIES:Northwestern R-1
END:VEVENT
BEGIN:VEVENT
DTSTART;VALUE=DATE:20260514
DTEND;VALUE=DATE:20260524
DTSTAMP:20260421T110756
CREATED:20260217T060030Z
LAST-MODIFIED:20260217T060030Z
UID:39362-1778716800-1779580799@charitonbeacon.com
SUMMARY:District Baseball Tournament
DESCRIPTION:
URL:https://charitonbeacon.com/activity/district-baseball-tournament/
CATEGORIES:Northwestern R-1
END:VEVENT
BEGIN:VEVENT
DTSTART;TZID=America/Chicago:20260514T151700
DTEND;TZID=America/Chicago:20260514T153700
DTSTAMP:20260421T110756
CREATED:20251115T140007Z
LAST-MODIFIED:20251115T140007Z
UID:33545-1778771820-1778773020@charitonbeacon.com
SUMMARY:FFA Officers Mtg.
DESCRIPTION:
URL:https://charitonbeacon.com/activity/ffa-officers-mtg-8/
CATEGORIES:Northwestern R-1
END:VEVENT
BEGIN:VEVENT
DTSTART;VALUE=DATE:20260516
DTEND;VALUE=DATE:20260517
DTSTAMP:20260421T110756
CREATED:20260210T220032Z
LAST-MODIFIED:20260210T220032Z
UID:39013-1778889600-1778975999@charitonbeacon.com
SUMMARY:HS Track at Sectionals
DESCRIPTION:
URL:https://charitonbeacon.com/activity/hs-track-at-sectionals/
CATEGORIES:Northwestern R-1
END:VEVENT
BEGIN:VEVENT
DTSTART;TZID=America/Chicago:20260520T180000
DTEND;TZID=America/Chicago:20260520T190000
DTSTAMP:20260421T110756
CREATED:20251121T140010Z
LAST-MODIFIED:20260419T210033Z
UID:34116-1779300000-1779303600@charitonbeacon.com
SUMMARY:May BOE Meeting
DESCRIPTION:
URL:https://charitonbeacon.com/activity/may-boe-meeting/
CATEGORIES:Northwestern R-1
END:VEVENT
BEGIN:VEVENT
DTSTART;TZID=America/Chicago:20260521T180000
DTEND;TZID=America/Chicago:20260521T193000
DTSTAMP:20260421T110756
CREATED:20251122T140008Z
LAST-MODIFIED:20260211T220020Z
UID:34203-1779386400-1779391800@charitonbeacon.com
SUMMARY:FFA Chapter Meeting
DESCRIPTION:
URL:https://charitonbeacon.com/activity/ffa-chapter-meeting-4/
CATEGORIES:Northwestern R-1
END:VEVENT
BEGIN:VEVENT
DTSTART;VALUE=DATE:20260522
DTEND;VALUE=DATE:20260524
DTSTAMP:20260421T110756
CREATED:20260210T220032Z
LAST-MODIFIED:20260210T220032Z
UID:39014-1779408000-1779580799@charitonbeacon.com
SUMMARY:HS Track at State
DESCRIPTION:
URL:https://charitonbeacon.com/activity/hs-track-at-state/
CATEGORIES:Northwestern R-1
END:VEVENT
BEGIN:VEVENT
DTSTART;VALUE=DATE:20260525
DTEND;VALUE=DATE:20260526
DTSTAMP:20260421T110756
CREATED:20260217T060030Z
LAST-MODIFIED:20260217T060030Z
UID:39363-1779667200-1779753599@charitonbeacon.com
SUMMARY:Baseball Sectionals
DESCRIPTION:
URL:https://charitonbeacon.com/activity/baseball-sectionals/
CATEGORIES:Northwestern R-1
END:VEVENT
BEGIN:VEVENT
DTSTART;TZID=America/Chicago:20260527T173000
DTEND;TZID=America/Chicago:20260527T183000
DTSTAMP:20260421T110756
CREATED:20260407T210023Z
LAST-MODIFIED:20260407T210023Z
UID:42855-1779903000-1779906600@charitonbeacon.com
SUMMARY:Thunder Baseball Banquet
DESCRIPTION:
URL:https://charitonbeacon.com/activity/thunder-baseball-banquet/
CATEGORIES:Northwestern R-1
END:VEVENT
BEGIN:VEVENT
DTSTART;TZID=America/Chicago:20260603T151700
DTEND;TZID=America/Chicago:20260603T153700
DTSTAMP:20260421T110756
CREATED:20251204T140008Z
LAST-MODIFIED:20251204T140008Z
UID:35290-1780499820-1780501020@charitonbeacon.com
SUMMARY:STUCO meeting
DESCRIPTION:
URL:https://charitonbeacon.com/activity/stuco-meeting-9/
CATEGORIES:Northwestern R-1
END:VEVENT
BEGIN:VEVENT
DTSTART;TZID=America/Chicago:20260611T151700
DTEND;TZID=America/Chicago:20260611T153700
DTSTAMP:20260421T110756
CREATED:20251212T140009Z
LAST-MODIFIED:20251212T140009Z
UID:35899-1781191020-1781192220@charitonbeacon.com
SUMMARY:FFA Officers Mtg.
DESCRIPTION:
URL:https://charitonbeacon.com/activity/ffa-officers-mtg-9/
CATEGORIES:Northwestern R-1
END:VEVENT
BEGIN:VEVENT
DTSTART;TZID=America/Chicago:20260617T180000
DTEND;TZID=America/Chicago:20260617T190000
DTSTAMP:20260421T110756
CREATED:20251218T140008Z
LAST-MODIFIED:20251218T140008Z
UID:36071-1781719200-1781722800@charitonbeacon.com
SUMMARY:June BOE Meeting
DESCRIPTION:
URL:https://charitonbeacon.com/activity/june-boe-meeting/
CATEGORIES:Northwestern R-1
END:VEVENT
BEGIN:VEVENT
DTSTART;TZID=America/Chicago:20260618T180000
DTEND;TZID=America/Chicago:20260618T193000
DTSTAMP:20260421T110756
CREATED:20251219T140008Z
LAST-MODIFIED:20260211T220020Z
UID:36097-1781805600-1781811000@charitonbeacon.com
SUMMARY:FFA Chapter Meeting
DESCRIPTION:
URL:https://charitonbeacon.com/activity/ffa-chapter-meeting-6/
CATEGORIES:Northwestern R-1
END:VEVENT
BEGIN:VEVENT
DTSTART;TZID=America/Chicago:20260701T151700
DTEND;TZID=America/Chicago:20260701T153700
DTSTAMP:20260421T110756
CREATED:20260102T140007Z
LAST-MODIFIED:20260102T140007Z
UID:36716-1782919020-1782920220@charitonbeacon.com
SUMMARY:STUCO meeting
DESCRIPTION:
URL:https://charitonbeacon.com/activity/stuco-meeting-10/
CATEGORIES:Northwestern R-1
END:VEVENT
END:VCALENDAR