BEGIN:VCALENDAR
VERSION:2.0
PRODID:-//The Chariton Beacon - ECPv6.15.20//NONSGML v1.0//EN
CALSCALE:GREGORIAN
METHOD:PUBLISH
X-WR-CALNAME:The Chariton Beacon
X-ORIGINAL-URL:https://charitonbeacon.com
X-WR-CALDESC:Events for The Chariton Beacon
REFRESH-INTERVAL;VALUE=DURATION:PT1H
X-Robots-Tag:noindex
X-PUBLISHED-TTL:PT1H
BEGIN:VTIMEZONE
TZID:America/Chicago
BEGIN:DAYLIGHT
TZOFFSETFROM:-0600
TZOFFSETTO:-0500
TZNAME:CDT
DTSTART:20250309T080000
END:DAYLIGHT
BEGIN:STANDARD
TZOFFSETFROM:-0500
TZOFFSETTO:-0600
TZNAME:CST
DTSTART:20251102T070000
END:STANDARD
BEGIN:DAYLIGHT
TZOFFSETFROM:-0600
TZOFFSETTO:-0500
TZNAME:CDT
DTSTART:20260308T080000
END:DAYLIGHT
BEGIN:STANDARD
TZOFFSETFROM:-0500
TZOFFSETTO:-0600
TZNAME:CST
DTSTART:20261101T070000
END:STANDARD
BEGIN:DAYLIGHT
TZOFFSETFROM:-0600
TZOFFSETTO:-0500
TZNAME:CDT
DTSTART:20270314T080000
END:DAYLIGHT
BEGIN:STANDARD
TZOFFSETFROM:-0500
TZOFFSETTO:-0600
TZNAME:CST
DTSTART:20271107T070000
END:STANDARD
END:VTIMEZONE
BEGIN:VEVENT
DTSTART;VALUE=DATE:20260324
DTEND;VALUE=DATE:20260325
DTSTAMP:20260421T141801
CREATED:20251030T210012Z
LAST-MODIFIED:20251030T210012Z
UID:32044-1774310400-1774396799@charitonbeacon.com
SUMMARY:Quiz Bowl HS Conference Tournament @ Norborne
DESCRIPTION:
URL:https://charitonbeacon.com/activity/quiz-bowl-hs-conference-tournament-norborne/
CATEGORIES:Northwestern R-1
END:VEVENT
BEGIN:VEVENT
DTSTART;TZID=America/Chicago:20260323T170000
DTEND;TZID=America/Chicago:20260323T190000
DTSTAMP:20260421T141801
CREATED:20260217T060021Z
LAST-MODIFIED:20260217T060021Z
UID:39334-1774285200-1774292400@charitonbeacon.com
SUMMARY:V. Baseball @ Newtown-Harris
DESCRIPTION:
URL:https://charitonbeacon.com/activity/v-baseball-newtown-harris/
CATEGORIES:Northwestern R-1
END:VEVENT
BEGIN:VEVENT
DTSTART;TZID=America/Chicago:20260323T144500
DTEND;TZID=America/Chicago:20260323T194500
DTSTAMP:20260421T141801
CREATED:20260225T220011Z
LAST-MODIFIED:20260225T220011Z
UID:39963-1774277100-1774295100@charitonbeacon.com
SUMMARY:NE District FFA LDE @ Monroe City
DESCRIPTION:
URL:https://charitonbeacon.com/activity/ne-district-ffa-lde-monroe-city/
CATEGORIES:Northwestern R-1
END:VEVENT
BEGIN:VEVENT
DTSTART;TZID=America/Chicago:20260323T140000
DTEND;TZID=America/Chicago:20260323T190000
DTSTAMP:20260421T141801
CREATED:20250924T050011Z
LAST-MODIFIED:20250924T050011Z
UID:28311-1774274400-1774292400@charitonbeacon.com
SUMMARY:Parent/ Teacher Conferences
DESCRIPTION:
URL:https://charitonbeacon.com/activity/parent-teacher-conferences-5/
CATEGORIES:Northwestern R-1
END:VEVENT
BEGIN:VEVENT
DTSTART;TZID=America/Chicago:20260323T110000
DTEND;TZID=America/Chicago:20260323T140000
DTSTAMP:20260421T141801
CREATED:20250924T050011Z
LAST-MODIFIED:20250924T050011Z
UID:28310-1774263600-1774274400@charitonbeacon.com
SUMMARY:Professional Development Day
DESCRIPTION:
URL:https://charitonbeacon.com/activity/professional-development-day-2/
CATEGORIES:Northwestern R-1
END:VEVENT
BEGIN:VEVENT
DTSTART;VALUE=DATE:20260321
DTEND;VALUE=DATE:20260322
DTSTAMP:20260421T141801
CREATED:20260210T220022Z
LAST-MODIFIED:20260210T220022Z
UID:38978-1774051200-1774137599@charitonbeacon.com
SUMMARY:HS Track at Northwest MO State Univ (Maryville)
DESCRIPTION:
URL:https://charitonbeacon.com/activity/hs-track-at-northwest-mo-state-univ-maryville/
CATEGORIES:Northwestern R-1
END:VEVENT
BEGIN:VEVENT
DTSTART;VALUE=DATE:20260321
DTEND;VALUE=DATE:20260322
DTSTAMP:20260421T141801
CREATED:20251117T060013Z
LAST-MODIFIED:20251117T060013Z
UID:33689-1774051200-1774137599@charitonbeacon.com
SUMMARY:Brunswick Elementary Basketball Tournament
DESCRIPTION:
URL:https://charitonbeacon.com/activity/brunswick-elementary-basketball-tournament/
CATEGORIES:Northwestern R-1
END:VEVENT
BEGIN:VEVENT
DTSTART;TZID=America/Chicago:20260320T190000
DTEND;TZID=America/Chicago:20260320T200000
DTSTAMP:20260421T141801
CREATED:20260217T060021Z
LAST-MODIFIED:20260217T060021Z
UID:39333-1774033200-1774036800@charitonbeacon.com
SUMMARY:JV Baseball @ Harrisburg
DESCRIPTION:
URL:https://charitonbeacon.com/activity/jv-baseball-harrisburg/
CATEGORIES:Northwestern R-1
END:VEVENT
BEGIN:VEVENT
DTSTART;TZID=America/Chicago:20260320T170000
DTEND;TZID=America/Chicago:20260320T190000
DTSTAMP:20260421T141801
CREATED:20260217T060020Z
LAST-MODIFIED:20260217T060020Z
UID:39331-1774026000-1774033200@charitonbeacon.com
SUMMARY:V. Baseball @ Harrisburg
DESCRIPTION:
URL:https://charitonbeacon.com/activity/v-baseball-harrisburg/
CATEGORIES:Northwestern R-1
END:VEVENT
BEGIN:VEVENT
DTSTART;TZID=America/Chicago:20260320T160000
DTEND;TZID=America/Chicago:20260320T170000
DTSTAMP:20260421T141801
CREATED:20260210T220022Z
LAST-MODIFIED:20260210T220022Z
UID:38977-1774022400-1774026000@charitonbeacon.com
SUMMARY:Golf in Norborne Match @ Carrollton- 9 holes
DESCRIPTION:
URL:https://charitonbeacon.com/activity/golf-in-norborne-match-carrollton-9-holes/
CATEGORIES:Northwestern R-1
END:VEVENT
BEGIN:VEVENT
DTSTART;VALUE=DATE:20260320
DTEND;VALUE=DATE:20260321
DTSTAMP:20260421T141801
CREATED:20260310T210015Z
LAST-MODIFIED:20260310T210015Z
UID:40879-1773964800-1774051199@charitonbeacon.com
SUMMARY:9th Grade Trip to Chariton County Gov. Day
DESCRIPTION:
URL:https://charitonbeacon.com/activity/9th-grade-trip-to-chariton-county-gov-day/
CATEGORIES:Northwestern R-1
END:VEVENT
BEGIN:VEVENT
DTSTART;VALUE=DATE:20260320
DTEND;VALUE=DATE:20260321
DTSTAMP:20260421T141801
CREATED:20251030T210011Z
LAST-MODIFIED:20251030T210011Z
UID:32043-1773964800-1774051199@charitonbeacon.com
SUMMARY:Quiz Bowl JH Conference Tournament @ Bosworth
DESCRIPTION:
URL:https://charitonbeacon.com/activity/quiz-bowl-jh-conference-tournament-bosworth/
CATEGORIES:Northwestern R-1
END:VEVENT
BEGIN:VEVENT
DTSTART;TZID=America/Chicago:20260319T180000
DTEND;TZID=America/Chicago:20260319T193000
DTSTAMP:20260421T141801
CREATED:20250920T130009Z
LAST-MODIFIED:20260211T220019Z
UID:27969-1773943200-1773948600@charitonbeacon.com
SUMMARY:FFA Chapter Meeting
DESCRIPTION:
URL:https://charitonbeacon.com/activity/ffa-chapter-meeting-10/
CATEGORIES:Northwestern R-1
END:VEVENT
BEGIN:VEVENT
DTSTART;TZID=America/Chicago:20260319T153000
DTEND;TZID=America/Chicago:20260319T173000
DTSTAMP:20260421T141801
CREATED:20260306T220012Z
LAST-MODIFIED:20260306T220012Z
UID:40635-1773934200-1773941400@charitonbeacon.com
SUMMARY:Game & Art Club K-5
DESCRIPTION:
URL:https://charitonbeacon.com/activity/game-art-club-k-5-2/
CATEGORIES:Northwestern R-1
END:VEVENT
BEGIN:VEVENT
DTSTART;TZID=America/Chicago:20260319T073000
DTEND;TZID=America/Chicago:20260319T150000
DTSTAMP:20260421T141801
CREATED:20260225T220011Z
LAST-MODIFIED:20260225T220011Z
UID:39962-1773905400-1773932400@charitonbeacon.com
SUMMARY:NCMC FFA Contest
DESCRIPTION:
URL:https://charitonbeacon.com/activity/ncmc-ffa-contest/
CATEGORIES:Northwestern R-1
END:VEVENT
BEGIN:VEVENT
DTSTART;VALUE=DATE:20260319
DTEND;VALUE=DATE:20260320
DTSTAMP:20260421T141801
CREATED:20250924T050010Z
LAST-MODIFIED:20250924T050010Z
UID:28308-1773878400-1773964799@charitonbeacon.com
SUMMARY:Teacher Grades due @ 8am (3rd Q)
DESCRIPTION:
URL:https://charitonbeacon.com/activity/teacher-grades-due-8am-3rd-q/
CATEGORIES:Northwestern R-1
END:VEVENT
BEGIN:VEVENT
DTSTART;TZID=America/Chicago:20260318T145000
DTEND;TZID=America/Chicago:20260318T192000
DTSTAMP:20260421T141801
CREATED:20260224T220011Z
LAST-MODIFIED:20260225T220010Z
UID:39891-1773845400-1773861600@charitonbeacon.com
SUMMARY:FFA Area LDE for Speaking
DESCRIPTION:
URL:https://charitonbeacon.com/activity/ffa-area-lde-for-speaking/
CATEGORIES:Northwestern R-1
END:VEVENT
BEGIN:VEVENT
DTSTART;TZID=America/Chicago:20260318T073000
DTEND;TZID=America/Chicago:20260318T080000
DTSTAMP:20260421T141801
CREATED:20251009T210012Z
LAST-MODIFIED:20251009T210012Z
UID:29941-1773819000-1773820800@charitonbeacon.com
SUMMARY:FCA in the library
DESCRIPTION:
URL:https://charitonbeacon.com/activity/fca-in-the-library-7/
CATEGORIES:Northwestern R-1
END:VEVENT
BEGIN:VEVENT
DTSTART;TZID=America/Chicago:20260317T160000
DTEND;TZID=America/Chicago:20260317T190000
DTSTAMP:20260421T141801
CREATED:20251030T210011Z
LAST-MODIFIED:20251030T210011Z
UID:32042-1773763200-1773774000@charitonbeacon.com
SUMMARY:Quiz Bowl @ Hale
DESCRIPTION:
URL:https://charitonbeacon.com/activity/quiz-bowl-hale/
CATEGORIES:Northwestern R-1
END:VEVENT
BEGIN:VEVENT
DTSTART;VALUE=DATE:20260317
DTEND;VALUE=DATE:20260318
DTSTAMP:20260421T141801
CREATED:20260311T210015Z
LAST-MODIFIED:20260311T210015Z
UID:40981-1773705600-1773791999@charitonbeacon.com
SUMMARY:No GRTS
DESCRIPTION:
URL:https://charitonbeacon.com/activity/no-grts-2/
CATEGORIES:Northwestern R-1
END:VEVENT
BEGIN:VEVENT
DTSTART;TZID=America/Chicago:20260316T180000
DTEND;TZID=America/Chicago:20260316T190000
DTSTAMP:20260421T141801
CREATED:20260223T060025Z
LAST-MODIFIED:20260223T060025Z
UID:39778-1773684000-1773687600@charitonbeacon.com
SUMMARY:March BOE Meeting
DESCRIPTION:
URL:https://charitonbeacon.com/activity/march-boe-meeting-2/
CATEGORIES:Northwestern R-1
END:VEVENT
BEGIN:VEVENT
DTSTART;VALUE=DATE:20260316
DTEND;VALUE=DATE:20260317
DTSTAMP:20260421T141801
CREATED:20260311T210014Z
LAST-MODIFIED:20260311T210014Z
UID:40980-1773619200-1773705599@charitonbeacon.com
SUMMARY:No GRTS
DESCRIPTION:
URL:https://charitonbeacon.com/activity/no-grts/
CATEGORIES:Northwestern R-1
END:VEVENT
BEGIN:VEVENT
DTSTART;TZID=America/Chicago:20260315T183000
DTEND;TZID=America/Chicago:20260315T193000
DTSTAMP:20260421T141801
CREATED:20260310T210014Z
LAST-MODIFIED:20260310T210014Z
UID:40878-1773599400-1773603000@charitonbeacon.com
SUMMARY:Summer Rec Parent Meeting in Cafeteria
DESCRIPTION:
URL:https://charitonbeacon.com/activity/summer-rec-parent-meeting-in-cafeteria/
CATEGORIES:Northwestern R-1
END:VEVENT
BEGIN:VEVENT
DTSTART;VALUE=DATE:20260315
DTEND;VALUE=DATE:20260318
DTSTAMP:20260421T141801
CREATED:20250915T210011Z
LAST-MODIFIED:20250915T210011Z
UID:27459-1773532800-1773791999@charitonbeacon.com
SUMMARY:FCCLA State Leadership Conf. @ Springfield
DESCRIPTION:
URL:https://charitonbeacon.com/activity/fccla-state-leadership-conf-springfield/
CATEGORIES:Northwestern R-1
END:VEVENT
BEGIN:VEVENT
DTSTART;VALUE=DATE:20260314
DTEND;VALUE=DATE:20260315
DTSTAMP:20260421T141801
CREATED:20251117T060013Z
LAST-MODIFIED:20251117T060013Z
UID:33688-1773446400-1773532799@charitonbeacon.com
SUMMARY:Northwestern Elementary Basketball Tournament
DESCRIPTION:
URL:https://charitonbeacon.com/activity/northwestern-elementary-basketball-tournament-3/
CATEGORIES:Northwestern R-1
END:VEVENT
BEGIN:VEVENT
DTSTART;TZID=America/Chicago:20260313T070000
DTEND;TZID=America/Chicago:20260313T150000
DTSTAMP:20260421T141801
CREATED:20260224T220009Z
LAST-MODIFIED:20260224T220009Z
UID:39889-1773385200-1773414000@charitonbeacon.com
SUMMARY:Paris CDE Contest for FFA
DESCRIPTION:
URL:https://charitonbeacon.com/activity/paris-cde-contest-for-ffa/
CATEGORIES:Northwestern R-1
END:VEVENT
BEGIN:VEVENT
DTSTART;VALUE=DATE:20260313
DTEND;VALUE=DATE:20260314
DTSTAMP:20260421T141801
CREATED:20250913T210009Z
LAST-MODIFIED:20250913T210009Z
UID:27252-1773360000-1773446399@charitonbeacon.com
SUMMARY:End of 3rd Q
DESCRIPTION:
URL:https://charitonbeacon.com/activity/end-of-3rd-q/
CATEGORIES:Northwestern R-1
END:VEVENT
BEGIN:VEVENT
DTSTART;TZID=America/Chicago:20260312T161500
DTEND;TZID=America/Chicago:20260312T181500
DTSTAMP:20260421T141801
CREATED:20250913T130010Z
LAST-MODIFIED:20250913T130010Z
UID:27241-1773332100-1773339300@charitonbeacon.com
SUMMARY:CLAA Math Bee 2nd-5th grade
DESCRIPTION:
URL:https://charitonbeacon.com/activity/claa-math-bee-2nd-5th-grade/
CATEGORIES:Northwestern R-1
END:VEVENT
BEGIN:VEVENT
DTSTART;TZID=America/Chicago:20260312T152000
DTEND;TZID=America/Chicago:20260312T155000
DTSTAMP:20260421T141801
CREATED:20260312T210015Z
LAST-MODIFIED:20260312T210015Z
UID:41065-1773328800-1773330600@charitonbeacon.com
SUMMARY:Elem. Math Bee Walkout
DESCRIPTION:
URL:https://charitonbeacon.com/activity/elem-math-bee-walkout/
CATEGORIES:Northwestern R-1
END:VEVENT
BEGIN:VEVENT
DTSTART;TZID=America/Chicago:20260312T151700
DTEND;TZID=America/Chicago:20260312T153700
DTSTAMP:20260421T141801
CREATED:20251006T050013Z
LAST-MODIFIED:20251006T050013Z
UID:29496-1773328620-1773329820@charitonbeacon.com
SUMMARY:FFA Officers Mtg.
DESCRIPTION:
URL:https://charitonbeacon.com/activity/ffa-officers-mtg-6/
CATEGORIES:Northwestern R-1
END:VEVENT
END:VCALENDAR