BEGIN:VCALENDAR
VERSION:2.0
PRODID:-//The Chariton Beacon - ECPv6.15.20//NONSGML v1.0//EN
CALSCALE:GREGORIAN
METHOD:PUBLISH
X-WR-CALNAME:The Chariton Beacon
X-ORIGINAL-URL:https://charitonbeacon.com
X-WR-CALDESC:Events for The Chariton Beacon
REFRESH-INTERVAL;VALUE=DURATION:PT1H
X-Robots-Tag:noindex
X-PUBLISHED-TTL:PT1H
BEGIN:VTIMEZONE
TZID:America/Chicago
BEGIN:DAYLIGHT
TZOFFSETFROM:-0600
TZOFFSETTO:-0500
TZNAME:CDT
DTSTART:20250309T080000
END:DAYLIGHT
BEGIN:STANDARD
TZOFFSETFROM:-0500
TZOFFSETTO:-0600
TZNAME:CST
DTSTART:20251102T070000
END:STANDARD
BEGIN:DAYLIGHT
TZOFFSETFROM:-0600
TZOFFSETTO:-0500
TZNAME:CDT
DTSTART:20260308T080000
END:DAYLIGHT
BEGIN:STANDARD
TZOFFSETFROM:-0500
TZOFFSETTO:-0600
TZNAME:CST
DTSTART:20261101T070000
END:STANDARD
BEGIN:DAYLIGHT
TZOFFSETFROM:-0600
TZOFFSETTO:-0500
TZNAME:CDT
DTSTART:20270314T080000
END:DAYLIGHT
BEGIN:STANDARD
TZOFFSETFROM:-0500
TZOFFSETTO:-0600
TZNAME:CST
DTSTART:20271107T070000
END:STANDARD
END:VTIMEZONE
BEGIN:VEVENT
DTSTART;VALUE=DATE:20260307
DTEND;VALUE=DATE:20260308
DTSTAMP:20260421T230058
CREATED:20251030T210011Z
LAST-MODIFIED:20260227T220008Z
UID:32040-1772841600-1772927999@charitonbeacon.com
SUMMARY:HS Quiz Bowl Tournament @ Marceline
DESCRIPTION:
URL:https://charitonbeacon.com/activity/quiz-bowl-tournament-marceline/
CATEGORIES:Northwestern R-1
END:VEVENT
BEGIN:VEVENT
DTSTART;TZID=America/Chicago:20260306T075000
DTEND;TZID=America/Chicago:20260306T143000
DTSTAMP:20260421T230058
CREATED:20260109T220011Z
LAST-MODIFIED:20260225T220010Z
UID:37113-1772783400-1772807400@charitonbeacon.com
SUMMARY:Brunswick Judging Day- FFA
DESCRIPTION:
URL:https://charitonbeacon.com/activity/brunswick-judging-day-ffa/
CATEGORIES:Northwestern R-1
END:VEVENT
BEGIN:VEVENT
DTSTART;VALUE=DATE:20260306
DTEND;VALUE=DATE:20260307
DTSTAMP:20260421T230058
CREATED:20260129T220013Z
LAST-MODIFIED:20260129T220013Z
UID:38284-1772755200-1772841599@charitonbeacon.com
SUMMARY:Judy Young Virtual Author Visit- Elem.
DESCRIPTION:
URL:https://charitonbeacon.com/activity/judy-young-virtual-author-visit-elem/
CATEGORIES:Northwestern R-1
END:VEVENT
BEGIN:VEVENT
DTSTART;VALUE=DATE:20260306
DTEND;VALUE=DATE:20260307
DTSTAMP:20260421T230058
CREATED:20251216T060012Z
LAST-MODIFIED:20251216T060012Z
UID:35988-1772755200-1772841599@charitonbeacon.com
SUMMARY:NW Spelling Bee 2nd-5th grade
DESCRIPTION:
URL:https://charitonbeacon.com/activity/nw-spelling-bee-2nd-5th-grade/
CATEGORIES:Northwestern R-1
END:VEVENT
BEGIN:VEVENT
DTSTART;TZID=America/Chicago:20260305T180000
DTEND;TZID=America/Chicago:20260305T190000
DTSTAMP:20260421T230058
CREATED:20250906T130008Z
LAST-MODIFIED:20250906T130008Z
UID:26415-1772733600-1772737200@charitonbeacon.com
SUMMARY:FCCLA Awards & Officer Installation @ Macon
DESCRIPTION:
URL:https://charitonbeacon.com/activity/fccla-awards-officer-installation-macon/
CATEGORIES:Northwestern R-1
END:VEVENT
BEGIN:VEVENT
DTSTART;TZID=America/Chicago:20260305T160000
DTEND;TZID=America/Chicago:20260305T190000
DTSTAMP:20260421T230058
CREATED:20251030T210010Z
LAST-MODIFIED:20251030T210010Z
UID:32039-1772726400-1772737200@charitonbeacon.com
SUMMARY:Quiz Bowl @ NW
DESCRIPTION:
URL:https://charitonbeacon.com/activity/quiz-bowl-nw-2/
CATEGORIES:Northwestern R-1
END:VEVENT
BEGIN:VEVENT
DTSTART;TZID=America/Chicago:20260304T180000
DTEND;TZID=America/Chicago:20260304T190000
DTSTAMP:20260421T230058
CREATED:20260217T220019Z
LAST-MODIFIED:20260217T220019Z
UID:39395-1772647200-1772650800@charitonbeacon.com
SUMMARY:C.S.I.P. Community Meeting #1 (Library)
DESCRIPTION:
URL:https://charitonbeacon.com/activity/c-s-i-p-community-meeting-1-library/
CATEGORIES:Northwestern R-1
END:VEVENT
BEGIN:VEVENT
DTSTART;TZID=America/Chicago:20260304T151700
DTEND;TZID=America/Chicago:20260304T153700
DTSTAMP:20260421T230058
CREATED:20250929T210009Z
LAST-MODIFIED:20251104T220011Z
UID:28861-1772637420-1772638620@charitonbeacon.com
SUMMARY:STUCO meeting
DESCRIPTION:
URL:https://charitonbeacon.com/activity/stuco-meeting-6/
CATEGORIES:Northwestern R-1
END:VEVENT
BEGIN:VEVENT
DTSTART;TZID=America/Chicago:20260304T070000
DTEND;TZID=America/Chicago:20260304T150000
DTSTAMP:20260421T230058
CREATED:20251219T220008Z
LAST-MODIFIED:20251219T220008Z
UID:36101-1772607600-1772636400@charitonbeacon.com
SUMMARY:Theater Club to Annie in St. Joe (Clark Drives)
DESCRIPTION:
URL:https://charitonbeacon.com/activity/theater-club-to-annie-in-st-joe-clark-drives/
CATEGORIES:Northwestern R-1
END:VEVENT
BEGIN:VEVENT
DTSTART;TZID=America/Chicago:20260303T160000
DTEND;TZID=America/Chicago:20260303T190000
DTSTAMP:20260421T230058
CREATED:20251030T210010Z
LAST-MODIFIED:20251030T210010Z
UID:32038-1772553600-1772564400@charitonbeacon.com
SUMMARY:Quiz Bowl @ Tina-Avalon
DESCRIPTION:
URL:https://charitonbeacon.com/activity/quiz-bowl-tina-avalon/
CATEGORIES:Northwestern R-1
END:VEVENT
BEGIN:VEVENT
DTSTART;TZID=America/Chicago:20260302T170000
DTEND;TZID=America/Chicago:20260302T183000
DTSTAMP:20260421T230058
CREATED:20260105T220013Z
LAST-MODIFIED:20260105T220013Z
UID:36866-1772470800-1772476200@charitonbeacon.com
SUMMARY:Literacy Month Family Night
DESCRIPTION:
URL:https://charitonbeacon.com/activity/literacy-month-family-night/
CATEGORIES:Northwestern R-1
END:VEVENT
BEGIN:VEVENT
DTSTART;TZID=America/Chicago:20260227T153000
DTEND;TZID=America/Chicago:20260227T173000
DTSTAMP:20260421T230058
CREATED:20260110T060011Z
LAST-MODIFIED:20260205T220017Z
UID:37141-1772206200-1772213400@charitonbeacon.com
SUMMARY:Game & Art Club
DESCRIPTION:
URL:https://charitonbeacon.com/activity/game-art-club-3/
CATEGORIES:Northwestern R-1
END:VEVENT
BEGIN:VEVENT
DTSTART;TZID=America/Chicago:20260227T073000
DTEND;TZID=America/Chicago:20260227T080000
DTSTAMP:20260421T230058
CREATED:20250828T050012Z
LAST-MODIFIED:20250828T050012Z
UID:25585-1772177400-1772179200@charitonbeacon.com
SUMMARY:NHS Meeting
DESCRIPTION:
URL:https://charitonbeacon.com/activity/nhs-meeting-7/
CATEGORIES:Northwestern R-1
END:VEVENT
BEGIN:VEVENT
DTSTART;TZID=America/Chicago:20260227T073000
DTEND;TZID=America/Chicago:20260227T074500
DTSTAMP:20260421T230058
CREATED:20260225T220009Z
LAST-MODIFIED:20260225T220009Z
UID:39958-1772177400-1772178300@charitonbeacon.com
SUMMARY:February BOE Meeting Recap (Superintendent's Office)
DESCRIPTION:
URL:https://charitonbeacon.com/activity/february-boe-meeting-recap-superintendents-office/
CATEGORIES:Northwestern R-1
END:VEVENT
BEGIN:VEVENT
DTSTART;VALUE=DATE:20260227
DTEND;VALUE=DATE:20260228
DTSTAMP:20260421T230058
CREATED:20251024T210011Z
LAST-MODIFIED:20251024T210011Z
UID:31475-1772150400-1772236799@charitonbeacon.com
SUMMARY:Hat Day- sponsored by NHS
DESCRIPTION:
URL:https://charitonbeacon.com/activity/hat-day-sponsored-by-nhs-5/
CATEGORIES:Northwestern R-1
END:VEVENT
BEGIN:VEVENT
DTSTART;TZID=America/Chicago:20260226T160000
DTEND;TZID=America/Chicago:20260226T190000
DTSTAMP:20260421T230058
CREATED:20251030T210010Z
LAST-MODIFIED:20251030T210010Z
UID:32037-1772121600-1772132400@charitonbeacon.com
SUMMARY:Quiz Bowl @ NW
DESCRIPTION:
URL:https://charitonbeacon.com/activity/quiz-bowl-nw/
CATEGORIES:Northwestern R-1
END:VEVENT
BEGIN:VEVENT
DTSTART;TZID=America/Chicago:20260226T150000
DTEND;TZID=America/Chicago:20260226T153000
DTSTAMP:20260421T230058
CREATED:20260129T220013Z
LAST-MODIFIED:20260220T220020Z
UID:38283-1772118000-1772119800@charitonbeacon.com
SUMMARY:Readers Theater- PreK\, Kinder & 1st gr.
DESCRIPTION:
URL:https://charitonbeacon.com/activity/readers-theater-prek-k/
CATEGORIES:Northwestern R-1
END:VEVENT
BEGIN:VEVENT
DTSTART;TZID=America/Chicago:20260226T080000
DTEND;TZID=America/Chicago:20260226T113000
DTSTAMP:20260421T230058
CREATED:20260128T220015Z
LAST-MODIFIED:20260128T220015Z
UID:38230-1772092800-1772105400@charitonbeacon.com
SUMMARY:Sophomores to Tour Chillicothe GRTS (Calvert)
DESCRIPTION:
URL:https://charitonbeacon.com/activity/sophomores-to-tour-chillicothe-grts-calvert/
CATEGORIES:Northwestern R-1
END:VEVENT
BEGIN:VEVENT
DTSTART;TZID=America/Chicago:20260224T180000
DTEND;TZID=America/Chicago:20260224T190000
DTSTAMP:20260421T230058
CREATED:20260217T220019Z
LAST-MODIFIED:20260217T220019Z
UID:39393-1771956000-1771959600@charitonbeacon.com
SUMMARY:V. Boys Districts vs. Linn County @ Meadville
DESCRIPTION:
URL:https://charitonbeacon.com/activity/v-boys-districts-vs-linn-county-meadville/
CATEGORIES:Northwestern R-1
END:VEVENT
BEGIN:VEVENT
DTSTART;VALUE=DATE:20260224
DTEND;VALUE=DATE:20260227
DTSTAMP:20260421T230058
CREATED:20260109T220011Z
LAST-MODIFIED:20260109T220011Z
UID:37111-1771891200-1772150399@charitonbeacon.com
SUMMARY:Elementary Basketball T-A/ Hale/ Bosworth Tournament @ Hale
DESCRIPTION:
URL:https://charitonbeacon.com/activity/elementary-basketball-t-a-hale-bosworth-tournament-hale/
CATEGORIES:Northwestern R-1
END:VEVENT
BEGIN:VEVENT
DTSTART;TZID=America/Chicago:20260223T193000
DTEND;TZID=America/Chicago:20260223T203000
DTSTAMP:20260421T230058
CREATED:20260217T220019Z
LAST-MODIFIED:20260217T220019Z
UID:39392-1771875000-1771878600@charitonbeacon.com
SUMMARY:V. Girls Districts vs. Meadville @ Meadville
DESCRIPTION:
URL:https://charitonbeacon.com/activity/v-girls-districts-vs-meadville-meadville/
CATEGORIES:Northwestern R-1
END:VEVENT
BEGIN:VEVENT
DTSTART;VALUE=DATE:20260223
DTEND;VALUE=DATE:20260301
DTSTAMP:20260421T230058
CREATED:20251014T210023Z
LAST-MODIFIED:20260205T220017Z
UID:30456-1771804800-1772323199@charitonbeacon.com
SUMMARY:V. District Basketball Tournament @ Meadville
DESCRIPTION:
URL:https://charitonbeacon.com/activity/v-district-basketball-tournament/
CATEGORIES:Northwestern R-1
END:VEVENT
BEGIN:VEVENT
DTSTART;VALUE=DATE:20260223
DTEND;VALUE=DATE:20260224
DTSTAMP:20260421T230058
CREATED:20250823T210008Z
LAST-MODIFIED:20260207T220017Z
UID:25342-1771804800-1771891199@charitonbeacon.com
SUMMARY:Possible Snow Make-Up Day
DESCRIPTION:
URL:https://charitonbeacon.com/activity/possible-snow-makeup-day-5/
CATEGORIES:Northwestern R-1
END:VEVENT
BEGIN:VEVENT
DTSTART;TZID=America/Chicago:20260222T180000
DTEND;TZID=America/Chicago:20260222T190000
DTSTAMP:20260421T230058
CREATED:20251014T210023Z
LAST-MODIFIED:20260212T220017Z
UID:30455-1771783200-1771786800@charitonbeacon.com
SUMMARY:February BOE Meeting
DESCRIPTION:
URL:https://charitonbeacon.com/activity/february-boe-meeting/
CATEGORIES:Northwestern R-1
END:VEVENT
BEGIN:VEVENT
DTSTART;VALUE=DATE:20260221
DTEND;VALUE=DATE:20260222
DTSTAMP:20260421T230058
CREATED:20251031T210008Z
LAST-MODIFIED:20251031T210008Z
UID:32139-1771632000-1771718399@charitonbeacon.com
SUMMARY:MCTM Math Contest @ Truman State
DESCRIPTION:
URL:https://charitonbeacon.com/activity/mctm-math-contest-truman-state/
CATEGORIES:Northwestern R-1
END:VEVENT
BEGIN:VEVENT
DTSTART;TZID=America/Chicago:20260220T180000
DTEND;TZID=America/Chicago:20260220T190000
DTSTAMP:20260421T230058
CREATED:20251014T210022Z
LAST-MODIFIED:20260205T060017Z
UID:30451-1771610400-1771614000@charitonbeacon.com
SUMMARY:V. Girls Basketball @ Keytesville (Vs. North MO Knights)
DESCRIPTION:
URL:https://charitonbeacon.com/activity/v-girls-basketball-keytesville-vs-north-mo-knights/
CATEGORIES:Northwestern R-1
END:VEVENT
BEGIN:VEVENT
DTSTART;VALUE=DATE:20260220
DTEND;VALUE=DATE:20260221
DTSTAMP:20260421T230058
CREATED:20260206T060018Z
LAST-MODIFIED:20260206T060018Z
UID:38735-1771545600-1771631999@charitonbeacon.com
SUMMARY:Ag Awareness Day
DESCRIPTION:
URL:https://charitonbeacon.com/activity/ag-awareness-day/
CATEGORIES:Northwestern R-1
END:VEVENT
BEGIN:VEVENT
DTSTART;TZID=America/Chicago:20260219T193000
DTEND;TZID=America/Chicago:20260219T203000
DTSTAMP:20260421T230058
CREATED:20251014T210017Z
LAST-MODIFIED:20260116T220008Z
UID:30439-1771529400-1771533000@charitonbeacon.com
SUMMARY:(RESCHEDULED) V. Home Boys Basketball Vs. Bevier
DESCRIPTION:
URL:https://charitonbeacon.com/activity/v-home-boys-basketball-vs-bevier/
CATEGORIES:Northwestern R-1
END:VEVENT
BEGIN:VEVENT
DTSTART;TZID=America/Chicago:20260219T180000
DTEND;TZID=America/Chicago:20260219T190000
DTSTAMP:20260421T230058
CREATED:20251014T210017Z
LAST-MODIFIED:20260116T220007Z
UID:30437-1771524000-1771527600@charitonbeacon.com
SUMMARY:(RESCHEDULED) V. Home Girls Basketball Vs. Bevier
DESCRIPTION:
URL:https://charitonbeacon.com/activity/v-home-girls-basketball-vs-bevier/
CATEGORIES:Northwestern R-1
END:VEVENT
BEGIN:VEVENT
DTSTART;TZID=America/Chicago:20260219T150000
DTEND;TZID=America/Chicago:20260219T153000
DTSTAMP:20260421T230058
CREATED:20260129T220012Z
LAST-MODIFIED:20260219T220033Z
UID:38281-1771513200-1771515000@charitonbeacon.com
SUMMARY:Readers Theater- 2nd Grade
DESCRIPTION:
URL:https://charitonbeacon.com/activity/readers-theater-1st-2nd-grade/
CATEGORIES:Northwestern R-1
END:VEVENT
END:VCALENDAR