BEGIN:VCALENDAR
VERSION:2.0
PRODID:-//The Chariton Beacon - ECPv6.15.20//NONSGML v1.0//EN
CALSCALE:GREGORIAN
METHOD:PUBLISH
X-WR-CALNAME:The Chariton Beacon
X-ORIGINAL-URL:https://charitonbeacon.com
X-WR-CALDESC:Events for The Chariton Beacon
REFRESH-INTERVAL;VALUE=DURATION:PT1H
X-Robots-Tag:noindex
X-PUBLISHED-TTL:PT1H
BEGIN:VTIMEZONE
TZID:America/Chicago
BEGIN:DAYLIGHT
TZOFFSETFROM:-0600
TZOFFSETTO:-0500
TZNAME:CDT
DTSTART:20250309T080000
END:DAYLIGHT
BEGIN:STANDARD
TZOFFSETFROM:-0500
TZOFFSETTO:-0600
TZNAME:CST
DTSTART:20251102T070000
END:STANDARD
BEGIN:DAYLIGHT
TZOFFSETFROM:-0600
TZOFFSETTO:-0500
TZNAME:CDT
DTSTART:20260308T080000
END:DAYLIGHT
BEGIN:STANDARD
TZOFFSETFROM:-0500
TZOFFSETTO:-0600
TZNAME:CST
DTSTART:20261101T070000
END:STANDARD
BEGIN:DAYLIGHT
TZOFFSETFROM:-0600
TZOFFSETTO:-0500
TZNAME:CDT
DTSTART:20270314T080000
END:DAYLIGHT
BEGIN:STANDARD
TZOFFSETFROM:-0500
TZOFFSETTO:-0600
TZNAME:CST
DTSTART:20271107T070000
END:STANDARD
END:VTIMEZONE
BEGIN:VEVENT
DTSTART;TZID=America/Chicago:20260212T174500
DTEND;TZID=America/Chicago:20260212T191500
DTSTAMP:20260422T022502
CREATED:20260211T220018Z
LAST-MODIFIED:20260211T220018Z
UID:39052-1770918300-1770923700@charitonbeacon.com
SUMMARY:HS Boys Basketball at CLAA Tourney
DESCRIPTION:
URL:https://charitonbeacon.com/activity/hs-boys-basketball-at-claa-tourney/
CATEGORIES:Northwestern R-1
END:VEVENT
BEGIN:VEVENT
DTSTART;TZID=America/Chicago:20260212T151700
DTEND;TZID=America/Chicago:20260212T153700
DTSTAMP:20260422T022502
CREATED:20260202T220014Z
LAST-MODIFIED:20260204T220017Z
UID:38518-1770909420-1770910620@charitonbeacon.com
SUMMARY:6th-12th gr. Track Interest Mtg @ Burns' Room
DESCRIPTION:
URL:https://charitonbeacon.com/activity/6th-12th-gr-track-interest-mtg-burns-room/
CATEGORIES:Northwestern R-1
END:VEVENT
BEGIN:VEVENT
DTSTART;TZID=America/Chicago:20260212T151700
DTEND;TZID=America/Chicago:20260212T153700
DTSTAMP:20260422T022502
CREATED:20251006T050012Z
LAST-MODIFIED:20251006T050012Z
UID:29495-1770909420-1770910620@charitonbeacon.com
SUMMARY:FFA Officers Mtg.
DESCRIPTION:
URL:https://charitonbeacon.com/activity/ffa-officers-mtg-5/
CATEGORIES:Northwestern R-1
END:VEVENT
BEGIN:VEVENT
DTSTART;TZID=America/Chicago:20260212T113000
DTEND;TZID=America/Chicago:20260212T120000
DTSTAMP:20260422T022502
CREATED:20260203T220014Z
LAST-MODIFIED:20260203T220014Z
UID:38579-1770895800-1770897600@charitonbeacon.com
SUMMARY:Josten's Senior Delivery
DESCRIPTION:
URL:https://charitonbeacon.com/activity/jostens-senior-delivery/
CATEGORIES:Northwestern R-1
END:VEVENT
BEGIN:VEVENT
DTSTART;VALUE=DATE:20260212
DTEND;VALUE=DATE:20260213
DTSTAMP:20260422T022502
CREATED:20250924T050010Z
LAST-MODIFIED:20250924T050010Z
UID:28307-1770854400-1770940799@charitonbeacon.com
SUMMARY:Teacher Grades due @ 8am (3rd Q midterm)
DESCRIPTION:
URL:https://charitonbeacon.com/activity/teacher-grades-due-8am-3rd-q-midterm/
CATEGORIES:Northwestern R-1
END:VEVENT
BEGIN:VEVENT
DTSTART;TZID=America/Chicago:20260211T190000
DTEND;TZID=America/Chicago:20260211T200000
DTSTAMP:20260422T022502
CREATED:20260211T140016Z
LAST-MODIFIED:20260211T140016Z
UID:39045-1770836400-1770840000@charitonbeacon.com
SUMMARY:V. Girls Basketball vs SW in CLAA Tourn. @ T-A
DESCRIPTION:
URL:https://charitonbeacon.com/activity/v-girls-basketball-vs-sw-in-claa-tourn-t-a/
CATEGORIES:Northwestern R-1
END:VEVENT
BEGIN:VEVENT
DTSTART;TZID=America/Chicago:20260211T153000
DTEND;TZID=America/Chicago:20260211T170000
DTSTAMP:20260422T022502
CREATED:20260128T220014Z
LAST-MODIFIED:20260128T220014Z
UID:38229-1770823800-1770829200@charitonbeacon.com
SUMMARY:Spring Show Auditions
DESCRIPTION:
URL:https://charitonbeacon.com/activity/spring-show-auditions/
CATEGORIES:Northwestern R-1
END:VEVENT
BEGIN:VEVENT
DTSTART;TZID=America/Chicago:20260211T151500
DTEND;TZID=America/Chicago:20260211T153000
DTSTAMP:20260422T022502
CREATED:20260210T220021Z
LAST-MODIFIED:20260210T220021Z
UID:38976-1770822900-1770823800@charitonbeacon.com
SUMMARY:Grades 9-12 Baseball Interest Meeting (Gym)
DESCRIPTION:
URL:https://charitonbeacon.com/activity/grades-9-12-baseball-interest-meeting-gym/
CATEGORIES:Northwestern R-1
END:VEVENT
BEGIN:VEVENT
DTSTART;TZID=America/Chicago:20260211T144500
DTEND;TZID=America/Chicago:20260211T153000
DTSTAMP:20260422T022502
CREATED:20260129T220011Z
LAST-MODIFIED:20260204T220017Z
UID:38279-1770821100-1770823800@charitonbeacon.com
SUMMARY:Readers Theater- 5th & 6th Grade
DESCRIPTION:
URL:https://charitonbeacon.com/activity/readers-theater-5th-6th-grade/
CATEGORIES:Northwestern R-1
END:VEVENT
BEGIN:VEVENT
DTSTART;TZID=America/Chicago:20260210T201500
DTEND;TZID=America/Chicago:20260210T211500
DTSTAMP:20260422T022502
CREATED:20260205T220016Z
LAST-MODIFIED:20260205T220016Z
UID:38707-1770754500-1770758100@charitonbeacon.com
SUMMARY:Varsity Boys BB vs. SW in CLAA Tourn. @ T-A
DESCRIPTION:
URL:https://charitonbeacon.com/activity/varsity-boys-bb-vs-sw-in-claa-tourn-t-a/
CATEGORIES:Northwestern R-1
END:VEVENT
BEGIN:VEVENT
DTSTART;TZID=America/Chicago:20260210T163000
DTEND;TZID=America/Chicago:20260210T173000
DTSTAMP:20260422T022502
CREATED:20260205T220016Z
LAST-MODIFIED:20260205T220016Z
UID:38706-1770741000-1770744600@charitonbeacon.com
SUMMARY:Varsity Girls BB vs. H-C in CLAA Tourn. @ T-A
DESCRIPTION:
URL:https://charitonbeacon.com/activity/varsity-girls-bb-vs-h-c-in-claa-tourn-t-a/
CATEGORIES:Northwestern R-1
END:VEVENT
BEGIN:VEVENT
DTSTART;TZID=America/Chicago:20260210T151500
DTEND;TZID=America/Chicago:20260210T153500
DTSTAMP:20260422T022502
CREATED:20260204T220017Z
LAST-MODIFIED:20260204T220017Z
UID:38643-1770736500-1770737700@charitonbeacon.com
SUMMARY:Grades 6-12 Golf Interest Meeting
DESCRIPTION:
URL:https://charitonbeacon.com/activity/grades-6-12-golf-interest-meeting/
CATEGORIES:Northwestern R-1
END:VEVENT
BEGIN:VEVENT
DTSTART;VALUE=DATE:20260210
DTEND;VALUE=DATE:20260214
DTSTAMP:20260422T022502
CREATED:20260128T220014Z
LAST-MODIFIED:20260128T220014Z
UID:38228-1770681600-1771027199@charitonbeacon.com
SUMMARY:FCCLA Week
DESCRIPTION:
URL:https://charitonbeacon.com/activity/fccla-week/
CATEGORIES:Northwestern R-1
END:VEVENT
BEGIN:VEVENT
DTSTART;VALUE=DATE:20260209
DTEND;VALUE=DATE:20260210
DTSTAMP:20260422T022502
CREATED:20250809T210007Z
LAST-MODIFIED:20260206T220014Z
UID:23966-1770595200-1770681599@charitonbeacon.com
SUMMARY:Postponed PD Day (moved to 3/9/26)
DESCRIPTION:
URL:https://charitonbeacon.com/activity/professional-development-day/
CATEGORIES:Northwestern R-1
END:VEVENT
BEGIN:VEVENT
DTSTART;VALUE=DATE:20260207
DTEND;VALUE=DATE:20260215
DTSTAMP:20260422T022502
CREATED:20251014T210022Z
LAST-MODIFIED:20251014T210022Z
UID:30452-1770422400-1771113599@charitonbeacon.com
SUMMARY:V. CLAA Basketball Tournament @ Tina-Avalon
DESCRIPTION:
URL:https://charitonbeacon.com/activity/v-claa-basketball-tournament-tina-avalon/
CATEGORIES:Northwestern R-1
END:VEVENT
BEGIN:VEVENT
DTSTART;TZID=America/Chicago:20260206T193000
DTEND;TZID=America/Chicago:20260206T203000
DTSTAMP:20260422T022502
CREATED:20251014T210022Z
LAST-MODIFIED:20260205T060016Z
UID:30450-1770406200-1770409800@charitonbeacon.com
SUMMARY:{Senior Night} V. Boys Home Basketball Vs. Bucklin
DESCRIPTION:
URL:https://charitonbeacon.com/activity/v-boys-home-basketball-vs-bucklin/
CATEGORIES:Northwestern R-1
END:VEVENT
BEGIN:VEVENT
DTSTART;TZID=America/Chicago:20260206T180000
DTEND;TZID=America/Chicago:20260206T190000
DTSTAMP:20260422T022502
CREATED:20251014T210022Z
LAST-MODIFIED:20260205T060016Z
UID:30449-1770400800-1770404400@charitonbeacon.com
SUMMARY:{Senior Night} V. Home Girls Basketball Vs. Bucklin
DESCRIPTION:
URL:https://charitonbeacon.com/activity/v-home-girls-basketball-vs-bucklin/
CATEGORIES:Northwestern R-1
END:VEVENT
BEGIN:VEVENT
DTSTART;VALUE=DATE:20260206
DTEND;VALUE=DATE:20260207
DTSTAMP:20260422T022502
CREATED:20250806T210015Z
LAST-MODIFIED:20250806T210015Z
UID:23695-1770336000-1770422399@charitonbeacon.com
SUMMARY:3rd Q Midterm
DESCRIPTION:
URL:https://charitonbeacon.com/activity/3rd-q-midterm/
CATEGORIES:Northwestern R-1
END:VEVENT
BEGIN:VEVENT
DTSTART;TZID=America/Chicago:20260205T144500
DTEND;TZID=America/Chicago:20260205T154500
DTSTAMP:20260422T022502
CREATED:20260128T220013Z
LAST-MODIFIED:20260128T220013Z
UID:38227-1770302700-1770306300@charitonbeacon.com
SUMMARY:Girls Basketball to Keytesville Pep Rally
DESCRIPTION:
URL:https://charitonbeacon.com/activity/girls-basketball-to-keytesville-pep-rally/
CATEGORIES:Northwestern R-1
END:VEVENT
BEGIN:VEVENT
DTSTART;TZID=America/Chicago:20260204T151700
DTEND;TZID=America/Chicago:20260204T153700
DTSTAMP:20260422T022502
CREATED:20250929T210008Z
LAST-MODIFIED:20251104T220010Z
UID:28860-1770218220-1770219420@charitonbeacon.com
SUMMARY:STUCO meeting
DESCRIPTION:
URL:https://charitonbeacon.com/activity/stuco-meeting-5/
CATEGORIES:Northwestern R-1
END:VEVENT
BEGIN:VEVENT
DTSTART;VALUE=DATE:20260204
DTEND;VALUE=DATE:20260205
DTSTAMP:20260422T022502
CREATED:20260204T060015Z
LAST-MODIFIED:20260204T060015Z
UID:38609-1770163200-1770249599@charitonbeacon.com
SUMMARY:A.M.I. Day #1 For Illness
DESCRIPTION:
URL:https://charitonbeacon.com/activity/a-m-i-day-1-for-illness/
CATEGORIES:Northwestern R-1
END:VEVENT
BEGIN:VEVENT
DTSTART;VALUE=DATE:20260202
DTEND;VALUE=DATE:20260203
DTSTAMP:20260422T022502
CREATED:20250802T210007Z
LAST-MODIFIED:20250802T210007Z
UID:22972-1769990400-1770076799@charitonbeacon.com
SUMMARY:Possible Snow Makeup Day
DESCRIPTION:
URL:https://charitonbeacon.com/activity/possible-snow-makeup-day-4/
CATEGORIES:Northwestern R-1
END:VEVENT
BEGIN:VEVENT
DTSTART;TZID=America/Chicago:20260130T190000
DTEND;TZID=America/Chicago:20260130T200000
DTSTAMP:20260422T022502
CREATED:20260130T220013Z
LAST-MODIFIED:20260130T220013Z
UID:38400-1769799600-1769803200@charitonbeacon.com
SUMMARY:V. Girls Basketball vs. Norborne @ Keytesville Tourn.
DESCRIPTION:
URL:https://charitonbeacon.com/activity/v-girls-basketball-vs-norborne-keytesville-tourn/
CATEGORIES:Northwestern R-1
END:VEVENT
BEGIN:VEVENT
DTSTART;TZID=America/Chicago:20260130T174500
DTEND;TZID=America/Chicago:20260130T184500
DTSTAMP:20260422T022502
CREATED:20260130T220013Z
LAST-MODIFIED:20260130T220013Z
UID:38398-1769795100-1769798700@charitonbeacon.com
SUMMARY:V. Boys Basketball vs. SW @ Keytesville Tourn.
DESCRIPTION:
URL:https://charitonbeacon.com/activity/v-boys-basketball-vs-sw-keytesville-tourn/
CATEGORIES:Northwestern R-1
END:VEVENT
BEGIN:VEVENT
DTSTART;VALUE=DATE:20260130
DTEND;VALUE=DATE:20260131
DTSTAMP:20260422T022502
CREATED:20251024T210011Z
LAST-MODIFIED:20251024T210011Z
UID:31474-1769731200-1769817599@charitonbeacon.com
SUMMARY:Hat Day- sponsored by NHS
DESCRIPTION:
URL:https://charitonbeacon.com/activity/hat-day-sponsored-by-nhs-4/
CATEGORIES:Northwestern R-1
END:VEVENT
BEGIN:VEVENT
DTSTART;TZID=America/Chicago:20260129T150000
DTEND;TZID=America/Chicago:20260129T153000
DTSTAMP:20260422T022502
CREATED:20260117T220006Z
LAST-MODIFIED:20260117T220006Z
UID:37636-1769698800-1769700600@charitonbeacon.com
SUMMARY:Teacher Readers Theater
DESCRIPTION:
URL:https://charitonbeacon.com/activity/teacher-readers-theater/
CATEGORIES:Northwestern R-1
END:VEVENT
BEGIN:VEVENT
DTSTART;TZID=America/Chicago:20260127T193000
DTEND;TZID=America/Chicago:20260127T204500
DTSTAMP:20260422T022502
CREATED:20260112T060011Z
LAST-MODIFIED:20260127T220011Z
UID:37230-1769542200-1769546700@charitonbeacon.com
SUMMARY:V. Boys Basketball vs. Keytesville @ Keytesville Tournament
DESCRIPTION:
URL:https://charitonbeacon.com/activity/v-boys-basketball-vs-keytesville-keytesville-tournament/
CATEGORIES:Northwestern R-1
END:VEVENT
BEGIN:VEVENT
DTSTART;TZID=America/Chicago:20260127T181500
DTEND;TZID=America/Chicago:20260127T193000
DTSTAMP:20260422T022502
CREATED:20260112T060010Z
LAST-MODIFIED:20260127T220011Z
UID:37229-1769537700-1769542200@charitonbeacon.com
SUMMARY:V. Girls Basketball vs. Bevier @ Keytesville Tournament
DESCRIPTION:
URL:https://charitonbeacon.com/activity/v-girls-basketball-vs-bevier-keytesville-tournament/
CATEGORIES:Northwestern R-1
END:VEVENT
BEGIN:VEVENT
DTSTART;TZID=America/Chicago:20260127T130000
DTEND;TZID=America/Chicago:20260127T140000
DTSTAMP:20260422T022502
CREATED:20260116T220007Z
LAST-MODIFIED:20260116T220007Z
UID:37573-1769518800-1769522400@charitonbeacon.com
SUMMARY:Fluoride Applications
DESCRIPTION:
URL:https://charitonbeacon.com/activity/fluoride-applications/
CATEGORIES:Northwestern R-1
END:VEVENT
BEGIN:VEVENT
DTSTART;VALUE=DATE:20260127
DTEND;VALUE=DATE:20260201
DTSTAMP:20260422T022502
CREATED:20260126T220011Z
LAST-MODIFIED:20260126T220011Z
UID:38100-1769472000-1769903999@charitonbeacon.com
SUMMARY:Keytesville VBB Tournament
DESCRIPTION:
URL:https://charitonbeacon.com/activity/keytesville-vbb-tournament/
CATEGORIES:Northwestern R-1
END:VEVENT
END:VCALENDAR