BEGIN:VCALENDAR
VERSION:2.0
PRODID:-//The Chariton Beacon - ECPv6.15.20//NONSGML v1.0//EN
CALSCALE:GREGORIAN
METHOD:PUBLISH
X-ORIGINAL-URL:https://charitonbeacon.com
X-WR-CALDESC:Events for The Chariton Beacon
REFRESH-INTERVAL;VALUE=DURATION:PT1H
X-Robots-Tag:noindex
X-PUBLISHED-TTL:PT1H
BEGIN:VTIMEZONE
TZID:America/Chicago
BEGIN:DAYLIGHT
TZOFFSETFROM:-0600
TZOFFSETTO:-0500
TZNAME:CDT
DTSTART:20250309T080000
END:DAYLIGHT
BEGIN:STANDARD
TZOFFSETFROM:-0500
TZOFFSETTO:-0600
TZNAME:CST
DTSTART:20251102T070000
END:STANDARD
BEGIN:DAYLIGHT
TZOFFSETFROM:-0600
TZOFFSETTO:-0500
TZNAME:CDT
DTSTART:20260308T080000
END:DAYLIGHT
BEGIN:STANDARD
TZOFFSETFROM:-0500
TZOFFSETTO:-0600
TZNAME:CST
DTSTART:20261101T070000
END:STANDARD
BEGIN:DAYLIGHT
TZOFFSETFROM:-0600
TZOFFSETTO:-0500
TZNAME:CDT
DTSTART:20270314T080000
END:DAYLIGHT
BEGIN:STANDARD
TZOFFSETFROM:-0500
TZOFFSETTO:-0600
TZNAME:CST
DTSTART:20271107T070000
END:STANDARD
END:VTIMEZONE
BEGIN:VEVENT
DTSTART;VALUE=DATE:20260420
DTEND;VALUE=DATE:20260425
DTSTAMP:20260422T003648
CREATED:20260407T210024Z
LAST-MODIFIED:20260407T210024Z
UID:42857-1776643200-1777075199@charitonbeacon.com
SUMMARY:NHS Leadership Week
DESCRIPTION:
URL:https://charitonbeacon.com/activity/nhs-leadership-week/
CATEGORIES:Salisbury R-4
END:VEVENT
BEGIN:VEVENT
DTSTART;TZID=America/Chicago:20260422T074500
DTEND;TZID=America/Chicago:20260422T084500
DTSTAMP:20260422T003648
CREATED:20260407T210025Z
LAST-MODIFIED:20260407T210025Z
UID:42858-1776843900-1776847500@charitonbeacon.com
SUMMARY:Teacher Appreciation Breakfast
DESCRIPTION:
URL:https://charitonbeacon.com/activity/teacher-appreciation-breakfast/
CATEGORIES:Salisbury R-4
END:VEVENT
BEGIN:VEVENT
DTSTART;TZID=America/Chicago:20260422T163000
DTEND;TZID=America/Chicago:20260422T163000
DTSTAMP:20260422T003648
CREATED:20251023T130008Z
LAST-MODIFIED:20251023T130008Z
UID:31358-1776875400-1776875400@charitonbeacon.com
SUMMARY:Area IV FFA Officer Interviews
DESCRIPTION:
URL:https://charitonbeacon.com/activity/area-iv-ffa-officer-interviews/
CATEGORIES:Salisbury R-4
END:VEVENT
BEGIN:VEVENT
DTSTART;TZID=America/Chicago:20260422T170000
DTEND;TZID=America/Chicago:20260422T180000
DTSTAMP:20260422T003648
CREATED:20260202T220017Z
LAST-MODIFIED:20260202T220017Z
UID:38525-1776877200-1776880800@charitonbeacon.com
SUMMARY:HS Baseball Home Game vs. Palmyra (JV)
DESCRIPTION:
URL:https://charitonbeacon.com/activity/hs-baseball-home-game-vs-palmyra-jv/
CATEGORIES:Salisbury R-4
END:VEVENT
BEGIN:VEVENT
DTSTART;VALUE=DATE:20260423
DTEND;VALUE=DATE:20260424
DTSTAMP:20260422T003648
CREATED:20251023T210009Z
LAST-MODIFIED:20260206T220021Z
UID:31367-1776902400-1776988799@charitonbeacon.com
SUMMARY:Boys Golf: Lewis & Clark Conference Tournament
DESCRIPTION:
URL:https://charitonbeacon.com/activity/salisbury-varsity-boys-golf-tournament-lewis-clark-conference-tournament/
CATEGORIES:Salisbury R-4
END:VEVENT
BEGIN:VEVENT
DTSTART;TZID=America/Chicago:20260423T140000
DTEND;TZID=America/Chicago:20260423T193000
DTSTAMP:20260422T003648
CREATED:20251023T210009Z
LAST-MODIFIED:20260129T220028Z
UID:31366-1776952800-1776972600@charitonbeacon.com
SUMMARY:JH Track and Field : Salisbury MS Relays
DESCRIPTION:
URL:https://charitonbeacon.com/activity/salisbury-junior-high-boys-track-and-field-tournament-salisbury-ms-relays/
CATEGORIES:Salisbury R-4
END:VEVENT
BEGIN:VEVENT
DTSTART;TZID=America/Chicago:20260423T170000
DTEND;TZID=America/Chicago:20260423T194500
DTSTAMP:20260422T003648
CREATED:20251024T130010Z
LAST-MODIFIED:20260129T220028Z
UID:31458-1776963600-1776973500@charitonbeacon.com
SUMMARY:HS Baseball Away Game at Sturgeon (V\, JV)
DESCRIPTION:
URL:https://charitonbeacon.com/activity/salisbury-spring-season-baseball-away-game-at-sturgeon-v-jv/
CATEGORIES:Salisbury R-4
END:VEVENT
BEGIN:VEVENT
DTSTART;VALUE=DATE:20260424
DTEND;VALUE=DATE:20260425
DTSTAMP:20260422T003648
CREATED:20260226T220010Z
LAST-MODIFIED:20260226T220010Z
UID:40036-1776988800-1777075199@charitonbeacon.com
SUMMARY:MACC online courses end
DESCRIPTION:
URL:https://charitonbeacon.com/activity/macc-online-courses-end/
CATEGORIES:Salisbury R-4
END:VEVENT
BEGIN:VEVENT
DTSTART;TZID=America/Chicago:20260424T083000
DTEND;TZID=America/Chicago:20260424T113000
DTSTAMP:20260422T003648
CREATED:20260407T210025Z
LAST-MODIFIED:20260407T210025Z
UID:42859-1777019400-1777030200@charitonbeacon.com
SUMMARY:AECI Plant Tour
DESCRIPTION:
URL:https://charitonbeacon.com/activity/aeci-plant-tour/
CATEGORIES:Salisbury R-4
END:VEVENT
BEGIN:VEVENT
DTSTART;TZID=America/Chicago:20260424T150000
DTEND;TZID=America/Chicago:20260424T190000
DTSTAMP:20260422T003648
CREATED:20260416T210034Z
LAST-MODIFIED:20260416T210034Z
UID:43476-1777042800-1777057200@charitonbeacon.com
SUMMARY:HS Track @ Ron Whittaker Bulldog Classic- Mexico\, MO
DESCRIPTION:
URL:https://charitonbeacon.com/activity/hs-track-ron-whittaker-bulldog-classic-mexico-mo/
CATEGORIES:Salisbury R-4
END:VEVENT
BEGIN:VEVENT
DTSTART;TZID=America/Chicago:20260424T170000
DTEND;TZID=America/Chicago:20260424T200000
DTSTAMP:20260422T003648
CREATED:20251025T130009Z
LAST-MODIFIED:20260416T210035Z
UID:31574-1777050000-1777060800@charitonbeacon.com
SUMMARY:HS Baseball Home Game vs. Bevier - Senior night(V\, JV)
DESCRIPTION:
URL:https://charitonbeacon.com/activity/salisbury-spring-season-baseball-home-game-vs-bevier-v-jv/
CATEGORIES:Salisbury R-4
END:VEVENT
BEGIN:VEVENT
DTSTART;TZID=America/Chicago:20260427T000000
DTEND;TZID=America/Chicago:20260427T000000
DTSTAMP:20260422T003648
CREATED:20251027T210011Z
LAST-MODIFIED:20260129T220029Z
UID:31785-1777248000-1777248000@charitonbeacon.com
SUMMARY:HS Track and Field Tournament: Rachel Morris Relays
DESCRIPTION:
URL:https://charitonbeacon.com/activity/salisbury-varsity-boys-track-and-field-tournament-rachel-morris-relays/
CATEGORIES:Salisbury R-4
END:VEVENT
BEGIN:VEVENT
DTSTART;TZID=America/Chicago:20260427T081500
DTEND;TZID=America/Chicago:20260427T104500
DTSTAMP:20260422T003648
CREATED:20260204T220021Z
LAST-MODIFIED:20260204T220021Z
UID:38650-1777277700-1777286700@charitonbeacon.com
SUMMARY:English II EOC
DESCRIPTION:
URL:https://charitonbeacon.com/activity/english-ii-eoc/
CATEGORIES:Salisbury R-4
END:VEVENT
BEGIN:VEVENT
DTSTART;TZID=America/Chicago:20260427T170000
DTEND;TZID=America/Chicago:20260427T193000
DTSTAMP:20260422T003648
CREATED:20251029T050019Z
LAST-MODIFIED:20260129T220029Z
UID:31885-1777309200-1777318200@charitonbeacon.com
SUMMARY:HS Baseball Home Game vs. Westran (V\, JV)
DESCRIPTION:
URL:https://charitonbeacon.com/activity/salisbury-spring-season-baseball-home-game-vs-westran-v-jv/
CATEGORIES:Salisbury R-4
END:VEVENT
BEGIN:VEVENT
DTSTART;VALUE=DATE:20260428
DTEND;VALUE=DATE:20260429
DTSTAMP:20260422T003648
CREATED:20251029T050019Z
LAST-MODIFIED:20260206T220021Z
UID:31886-1777334400-1777420799@charitonbeacon.com
SUMMARY:Boys Golf: Kirksville Tournament
DESCRIPTION:
URL:https://charitonbeacon.com/activity/salisbury-varsity-boys-golf-tournament-kirksville-tournament/
CATEGORIES:Salisbury R-4
END:VEVENT
BEGIN:VEVENT
DTSTART;TZID=America/Chicago:20260428T081500
DTEND;TZID=America/Chicago:20260428T104500
DTSTAMP:20260422T003648
CREATED:20260204T220021Z
LAST-MODIFIED:20260204T220021Z
UID:38651-1777364100-1777373100@charitonbeacon.com
SUMMARY:English II EOC
DESCRIPTION:
URL:https://charitonbeacon.com/activity/english-ii-eoc-2/
CATEGORIES:Salisbury R-4
END:VEVENT
BEGIN:VEVENT
DTSTART;TZID=America/Chicago:20260428T140000
DTEND;TZID=America/Chicago:20260428T140000
DTSTAMP:20260422T003648
CREATED:20260421T210035Z
LAST-MODIFIED:20260421T210035Z
UID:43833-1777384800-1777384800@charitonbeacon.com
SUMMARY:HS Track - Macon Relays
DESCRIPTION:
URL:https://charitonbeacon.com/activity/hs-track-macon-relays/
CATEGORIES:Salisbury R-4
END:VEVENT
BEGIN:VEVENT
DTSTART;TZID=America/Chicago:20260428T160000
DTEND;TZID=America/Chicago:20260428T200000
DTSTAMP:20260422T003648
CREATED:20260415T210043Z
LAST-MODIFIED:20260415T210043Z
UID:43383-1777392000-1777406400@charitonbeacon.com
SUMMARY:JH track meet at Centralia
DESCRIPTION:
URL:https://charitonbeacon.com/activity/jh-track-meet-at-centralia/
CATEGORIES:Salisbury R-4
END:VEVENT
BEGIN:VEVENT
DTSTART;TZID=America/Chicago:20260428T170000
DTEND;TZID=America/Chicago:20260428T170000
DTSTAMP:20260422T003648
CREATED:20251029T050020Z
LAST-MODIFIED:20260206T220021Z
UID:31887-1777395600-1777395600@charitonbeacon.com
SUMMARY:HS Baseball Home Game vs Meadville-Linn Co. (V\, JV)
DESCRIPTION:
URL:https://charitonbeacon.com/activity/salisbury-spring-season-baseball-away-game-at-linn-county-v-jv/
CATEGORIES:Salisbury R-4
END:VEVENT
BEGIN:VEVENT
DTSTART;VALUE=DATE:20260429
DTEND;VALUE=DATE:20260430
DTSTAMP:20260422T003648
CREATED:20251029T210011Z
LAST-MODIFIED:20251029T210011Z
UID:31936-1777420800-1777507199@charitonbeacon.com
SUMMARY:Area IV FFA Banquet
DESCRIPTION:
URL:https://charitonbeacon.com/activity/area-iv-ffa-banquet/
CATEGORIES:Salisbury R-4
END:VEVENT
BEGIN:VEVENT
DTSTART;VALUE=DATE:20260429
DTEND;VALUE=DATE:20260430
DTSTAMP:20260422T003648
CREATED:20251029T210011Z
LAST-MODIFIED:20260206T220021Z
UID:31937-1777420800-1777507199@charitonbeacon.com
SUMMARY:Boys Golf: Harrisburg Tournament
DESCRIPTION:
URL:https://charitonbeacon.com/activity/salisbury-varsity-boys-golf-tournament-harrisburg-tournament/
CATEGORIES:Salisbury R-4
END:VEVENT
BEGIN:VEVENT
DTSTART;TZID=America/Chicago:20260429T170000
DTEND;TZID=America/Chicago:20260429T170000
DTSTAMP:20260422T003648
CREATED:20251029T210012Z
LAST-MODIFIED:20260206T220022Z
UID:31938-1777482000-1777482000@charitonbeacon.com
SUMMARY:HS Baseball Home Game vs. BKN Thunder (V\, JV)
DESCRIPTION:
URL:https://charitonbeacon.com/activity/salisbury-spring-season-baseball-home-game-vs-northwestern-mendon-jv/
CATEGORIES:Salisbury R-4
END:VEVENT
BEGIN:VEVENT
DTSTART;TZID=America/Chicago:20260430T081500
DTEND;TZID=America/Chicago:20260430T111500
DTSTAMP:20260422T003648
CREATED:20260204T220021Z
LAST-MODIFIED:20260204T220021Z
UID:38652-1777536900-1777547700@charitonbeacon.com
SUMMARY:Biology EOC
DESCRIPTION:
URL:https://charitonbeacon.com/activity/biology-eoc/
CATEGORIES:Salisbury R-4
END:VEVENT
BEGIN:VEVENT
DTSTART;TZID=America/Chicago:20260430T140000
DTEND;TZID=America/Chicago:20260430T173000
DTSTAMP:20260422T003648
CREATED:20251030T210016Z
LAST-MODIFIED:20260206T220022Z
UID:32054-1777557600-1777570200@charitonbeacon.com
SUMMARY:HS Track and Field : Salisbury HS Relays
DESCRIPTION:
URL:https://charitonbeacon.com/activity/salisbury-varsity-boys-track-and-field-tournament-salisbury-hs-relays/
CATEGORIES:Salisbury R-4
END:VEVENT
BEGIN:VEVENT
DTSTART;TZID=America/Chicago:20260430T160000
DTEND;TZID=America/Chicago:20260430T160000
DTSTAMP:20260422T003648
CREATED:20251030T210016Z
LAST-MODIFIED:20260206T220022Z
UID:32053-1777564800-1777564800@charitonbeacon.com
SUMMARY:Boys Golf Match: Westran with Salisbury\, Cairo\, Paris\, & Fayette
DESCRIPTION:
URL:https://charitonbeacon.com/activity/salisbury-varsity-boys-golf-tournament-westran-with-salisbury-cairo-paris-fayette/
CATEGORIES:Salisbury R-4
END:VEVENT
BEGIN:VEVENT
DTSTART;TZID=America/Chicago:20260501T170000
DTEND;TZID=America/Chicago:20260501T170000
DTSTAMP:20260422T003648
CREATED:20251102T140010Z
LAST-MODIFIED:20260206T220022Z
UID:32306-1777654800-1777654800@charitonbeacon.com
SUMMARY:HS Baseball Away Game at Scotland County (V\, JV)
DESCRIPTION:
URL:https://charitonbeacon.com/activity/salisbury-spring-season-baseball-away-game-at-scotland-county-v-jv/
CATEGORIES:Salisbury R-4
END:VEVENT
BEGIN:VEVENT
DTSTART;TZID=America/Chicago:20260501T180000
DTEND;TZID=America/Chicago:20260501T180000
DTSTAMP:20260422T003648
CREATED:20251102T140010Z
LAST-MODIFIED:20251102T140010Z
UID:32304-1777658400-1777658400@charitonbeacon.com
SUMMARY:FFA Chapter Banquet
DESCRIPTION:
URL:https://charitonbeacon.com/activity/ffa-chapter-banquet-3/
CATEGORIES:Salisbury R-4
END:VEVENT
BEGIN:VEVENT
DTSTART;TZID=America/Chicago:20260501T183000
DTEND;TZID=America/Chicago:20260501T203000
DTSTAMP:20260422T003648
CREATED:20260407T210025Z
LAST-MODIFIED:20260407T210025Z
UID:42861-1777660200-1777667400@charitonbeacon.com
SUMMARY:Concert/Promotion
DESCRIPTION:
URL:https://charitonbeacon.com/activity/concert-promotion/
CATEGORIES:Salisbury R-4
END:VEVENT
BEGIN:VEVENT
DTSTART;TZID=America/Chicago:20260502T000000
DTEND;TZID=America/Chicago:20260502T000000
DTSTAMP:20260422T003648
CREATED:20251102T220010Z
LAST-MODIFIED:20260129T220031Z
UID:32318-1777680000-1777680000@charitonbeacon.com
SUMMARY:JH Track and Field Tournament: St. Mary's Relays
DESCRIPTION:
URL:https://charitonbeacon.com/activity/salisbury-junior-high-boys-track-and-field-tournament-st-marys-relays/
CATEGORIES:Salisbury R-4
END:VEVENT
BEGIN:VEVENT
DTSTART;TZID=America/Chicago:20260503T140000
DTEND;TZID=America/Chicago:20260503T150000
DTSTAMP:20260422T003648
CREATED:20251104T140011Z
LAST-MODIFIED:20251104T140011Z
UID:32460-1777816800-1777820400@charitonbeacon.com
SUMMARY:NHS Induction
DESCRIPTION:
URL:https://charitonbeacon.com/activity/nhs-induction-2/
CATEGORIES:Salisbury R-4
END:VEVENT
END:VCALENDAR