BEGIN:VCALENDAR
VERSION:2.0
PRODID:-//The Chariton Beacon - ECPv6.15.20//NONSGML v1.0//EN
CALSCALE:GREGORIAN
METHOD:PUBLISH
X-ORIGINAL-URL:https://charitonbeacon.com
X-WR-CALDESC:Events for The Chariton Beacon
REFRESH-INTERVAL;VALUE=DURATION:PT1H
X-Robots-Tag:noindex
X-PUBLISHED-TTL:PT1H
BEGIN:VTIMEZONE
TZID:America/Chicago
BEGIN:DAYLIGHT
TZOFFSETFROM:-0600
TZOFFSETTO:-0500
TZNAME:CDT
DTSTART:20250309T080000
END:DAYLIGHT
BEGIN:STANDARD
TZOFFSETFROM:-0500
TZOFFSETTO:-0600
TZNAME:CST
DTSTART:20251102T070000
END:STANDARD
BEGIN:DAYLIGHT
TZOFFSETFROM:-0600
TZOFFSETTO:-0500
TZNAME:CDT
DTSTART:20260308T080000
END:DAYLIGHT
BEGIN:STANDARD
TZOFFSETFROM:-0500
TZOFFSETTO:-0600
TZNAME:CST
DTSTART:20261101T070000
END:STANDARD
BEGIN:DAYLIGHT
TZOFFSETFROM:-0600
TZOFFSETTO:-0500
TZNAME:CDT
DTSTART:20270314T080000
END:DAYLIGHT
BEGIN:STANDARD
TZOFFSETFROM:-0500
TZOFFSETTO:-0600
TZNAME:CST
DTSTART:20271107T070000
END:STANDARD
END:VTIMEZONE
BEGIN:VEVENT
DTSTART;VALUE=DATE:20260429
DTEND;VALUE=DATE:20260430
DTSTAMP:20260422T021508
CREATED:20251029T210011Z
LAST-MODIFIED:20260206T220021Z
UID:31937-1777420800-1777507199@charitonbeacon.com
SUMMARY:Boys Golf: Harrisburg Tournament
DESCRIPTION:
URL:https://charitonbeacon.com/activity/salisbury-varsity-boys-golf-tournament-harrisburg-tournament/
CATEGORIES:Salisbury R-4
END:VEVENT
BEGIN:VEVENT
DTSTART;TZID=America/Chicago:20260429T170000
DTEND;TZID=America/Chicago:20260429T170000
DTSTAMP:20260422T021508
CREATED:20251029T210012Z
LAST-MODIFIED:20260206T220022Z
UID:31938-1777482000-1777482000@charitonbeacon.com
SUMMARY:HS Baseball Home Game vs. BKN Thunder (V\, JV)
DESCRIPTION:
URL:https://charitonbeacon.com/activity/salisbury-spring-season-baseball-home-game-vs-northwestern-mendon-jv/
CATEGORIES:Salisbury R-4
END:VEVENT
BEGIN:VEVENT
DTSTART;TZID=America/Chicago:20260430T081500
DTEND;TZID=America/Chicago:20260430T111500
DTSTAMP:20260422T021508
CREATED:20260204T220021Z
LAST-MODIFIED:20260204T220021Z
UID:38652-1777536900-1777547700@charitonbeacon.com
SUMMARY:Biology EOC
DESCRIPTION:
URL:https://charitonbeacon.com/activity/biology-eoc/
CATEGORIES:Salisbury R-4
END:VEVENT
BEGIN:VEVENT
DTSTART;TZID=America/Chicago:20260430T140000
DTEND;TZID=America/Chicago:20260430T173000
DTSTAMP:20260422T021508
CREATED:20251030T210016Z
LAST-MODIFIED:20260206T220022Z
UID:32054-1777557600-1777570200@charitonbeacon.com
SUMMARY:HS Track and Field : Salisbury HS Relays
DESCRIPTION:
URL:https://charitonbeacon.com/activity/salisbury-varsity-boys-track-and-field-tournament-salisbury-hs-relays/
CATEGORIES:Salisbury R-4
END:VEVENT
BEGIN:VEVENT
DTSTART;TZID=America/Chicago:20260430T160000
DTEND;TZID=America/Chicago:20260430T160000
DTSTAMP:20260422T021508
CREATED:20251030T210016Z
LAST-MODIFIED:20260206T220022Z
UID:32053-1777564800-1777564800@charitonbeacon.com
SUMMARY:Boys Golf Match: Westran with Salisbury\, Cairo\, Paris\, & Fayette
DESCRIPTION:
URL:https://charitonbeacon.com/activity/salisbury-varsity-boys-golf-tournament-westran-with-salisbury-cairo-paris-fayette/
CATEGORIES:Salisbury R-4
END:VEVENT
BEGIN:VEVENT
DTSTART;TZID=America/Chicago:20260501T170000
DTEND;TZID=America/Chicago:20260501T170000
DTSTAMP:20260422T021508
CREATED:20251102T140010Z
LAST-MODIFIED:20260206T220022Z
UID:32306-1777654800-1777654800@charitonbeacon.com
SUMMARY:HS Baseball Away Game at Scotland County (V\, JV)
DESCRIPTION:
URL:https://charitonbeacon.com/activity/salisbury-spring-season-baseball-away-game-at-scotland-county-v-jv/
CATEGORIES:Salisbury R-4
END:VEVENT
BEGIN:VEVENT
DTSTART;TZID=America/Chicago:20260501T180000
DTEND;TZID=America/Chicago:20260501T180000
DTSTAMP:20260422T021508
CREATED:20251102T140010Z
LAST-MODIFIED:20251102T140010Z
UID:32304-1777658400-1777658400@charitonbeacon.com
SUMMARY:FFA Chapter Banquet
DESCRIPTION:
URL:https://charitonbeacon.com/activity/ffa-chapter-banquet-3/
CATEGORIES:Salisbury R-4
END:VEVENT
BEGIN:VEVENT
DTSTART;TZID=America/Chicago:20260501T183000
DTEND;TZID=America/Chicago:20260501T203000
DTSTAMP:20260422T021508
CREATED:20260407T210025Z
LAST-MODIFIED:20260407T210025Z
UID:42861-1777660200-1777667400@charitonbeacon.com
SUMMARY:Concert/Promotion
DESCRIPTION:
URL:https://charitonbeacon.com/activity/concert-promotion/
CATEGORIES:Salisbury R-4
END:VEVENT
BEGIN:VEVENT
DTSTART;TZID=America/Chicago:20260502T000000
DTEND;TZID=America/Chicago:20260502T000000
DTSTAMP:20260422T021508
CREATED:20251102T220010Z
LAST-MODIFIED:20260129T220031Z
UID:32318-1777680000-1777680000@charitonbeacon.com
SUMMARY:JH Track and Field Tournament: St. Mary's Relays
DESCRIPTION:
URL:https://charitonbeacon.com/activity/salisbury-junior-high-boys-track-and-field-tournament-st-marys-relays/
CATEGORIES:Salisbury R-4
END:VEVENT
BEGIN:VEVENT
DTSTART;TZID=America/Chicago:20260503T140000
DTEND;TZID=America/Chicago:20260503T150000
DTSTAMP:20260422T021508
CREATED:20251104T140011Z
LAST-MODIFIED:20251104T140011Z
UID:32460-1777816800-1777820400@charitonbeacon.com
SUMMARY:NHS Induction
DESCRIPTION:
URL:https://charitonbeacon.com/activity/nhs-induction-2/
CATEGORIES:Salisbury R-4
END:VEVENT
BEGIN:VEVENT
DTSTART;TZID=America/Chicago:20260503T180000
DTEND;TZID=America/Chicago:20260503T190000
DTSTAMP:20260422T021508
CREATED:20251104T140011Z
LAST-MODIFIED:20251104T140011Z
UID:32462-1777831200-1777834800@charitonbeacon.com
SUMMARY:Baccalaureate
DESCRIPTION:
URL:https://charitonbeacon.com/activity/baccalaureate-2/
CATEGORIES:Salisbury R-4
END:VEVENT
BEGIN:VEVENT
DTSTART;TZID=America/Chicago:20260504T081500
DTEND;TZID=America/Chicago:20260504T104500
DTSTAMP:20260422T021508
CREATED:20260204T220022Z
LAST-MODIFIED:20260204T220022Z
UID:38653-1777882500-1777891500@charitonbeacon.com
SUMMARY:Government EOC
DESCRIPTION:
URL:https://charitonbeacon.com/activity/government-eoc-2/
CATEGORIES:Salisbury R-4
END:VEVENT
BEGIN:VEVENT
DTSTART;TZID=America/Chicago:20260504T120000
DTEND;TZID=America/Chicago:20260504T170000
DTSTAMP:20260422T021508
CREATED:20251104T220013Z
LAST-MODIFIED:20260407T210026Z
UID:32482-1777896000-1777914000@charitonbeacon.com
SUMMARY:HS/JH: Lewis and Clark Conference Track Meet
DESCRIPTION:
URL:https://charitonbeacon.com/activity/salisbury-varsity-boys-track-and-field-tournament-lewis-and-clark-conference-meet/
CATEGORIES:Salisbury R-4
END:VEVENT
BEGIN:VEVENT
DTSTART;TZID=America/Chicago:20260504T170000
DTEND;TZID=America/Chicago:20260504T200000
DTSTAMP:20260422T021508
CREATED:20251105T140011Z
LAST-MODIFIED:20260129T220032Z
UID:32566-1777914000-1777924800@charitonbeacon.com
SUMMARY:HS Baseball Home Game vs. Northeast (Cairo) (V\, JV)
DESCRIPTION:
URL:https://charitonbeacon.com/activity/salisbury-spring-season-baseball-home-game-vs-northeast-cairo-v-jv/
CATEGORIES:Salisbury R-4
END:VEVENT
BEGIN:VEVENT
DTSTART;TZID=America/Chicago:20260505T000000
DTEND;TZID=America/Chicago:20260505T000000
DTSTAMP:20260422T021508
CREATED:20251105T220011Z
LAST-MODIFIED:20260129T220032Z
UID:32575-1777939200-1777939200@charitonbeacon.com
SUMMARY:JH Track and Field Tournament: Paris JH Relays
DESCRIPTION:
URL:https://charitonbeacon.com/activity/salisbury-junior-high-boys-track-and-field-tournament-paris-jh-relays/
CATEGORIES:Salisbury R-4
END:VEVENT
BEGIN:VEVENT
DTSTART;VALUE=DATE:20260505
DTEND;VALUE=DATE:20260506
DTSTAMP:20260422T021508
CREATED:20251105T220010Z
LAST-MODIFIED:20260206T220023Z
UID:32574-1777939200-1778025599@charitonbeacon.com
SUMMARY:Boys Golf: Paris Tournament
DESCRIPTION:
URL:https://charitonbeacon.com/activity/salisbury-varsity-boys-golf-tournament-paris-tournament/
CATEGORIES:Salisbury R-4
END:VEVENT
BEGIN:VEVENT
DTSTART;TZID=America/Chicago:20260505T081500
DTEND;TZID=America/Chicago:20260505T104500
DTSTAMP:20260422T021508
CREATED:20260204T220022Z
LAST-MODIFIED:20260204T220022Z
UID:38655-1777968900-1777977900@charitonbeacon.com
SUMMARY:Algebra I EOC
DESCRIPTION:
URL:https://charitonbeacon.com/activity/algebra-i-eoc/
CATEGORIES:Salisbury R-4
END:VEVENT
BEGIN:VEVENT
DTSTART;TZID=America/Chicago:20260505T170000
DTEND;TZID=America/Chicago:20260505T200000
DTSTAMP:20260422T021508
CREATED:20251106T140013Z
LAST-MODIFIED:20260129T220032Z
UID:32657-1778000400-1778011200@charitonbeacon.com
SUMMARY:HS Baseball Away Game at Brookfield (V\, JV)
DESCRIPTION:
URL:https://charitonbeacon.com/activity/salisbury-spring-season-baseball-away-game-at-brookfield-v-jv/
CATEGORIES:Salisbury R-4
END:VEVENT
BEGIN:VEVENT
DTSTART;TZID=America/Chicago:20260506T130000
DTEND;TZID=America/Chicago:20260506T170000
DTSTAMP:20260422T021508
CREATED:20251106T220015Z
LAST-MODIFIED:20260324T210021Z
UID:32685-1778072400-1778086800@charitonbeacon.com
SUMMARY:HS Track and Field Tournament: Larry Littrell Varsity Invitational
DESCRIPTION:
URL:https://charitonbeacon.com/activity/salisbury-varsity-boys-track-and-field-tournament-larry-littrell-varsity-invitational/
CATEGORIES:Salisbury R-4
END:VEVENT
BEGIN:VEVENT
DTSTART;TZID=America/Chicago:20260507T123000
DTEND;TZID=America/Chicago:20260507T151500
DTSTAMP:20260422T021508
CREATED:20260416T050035Z
LAST-MODIFIED:20260416T050035Z
UID:43412-1778157000-1778166900@charitonbeacon.com
SUMMARY:Biology Field Trip
DESCRIPTION:
URL:https://charitonbeacon.com/activity/biology-field-trip/
CATEGORIES:Salisbury R-4
END:VEVENT
BEGIN:VEVENT
DTSTART;TZID=America/Chicago:20260507T130000
DTEND;TZID=America/Chicago:20260507T150000
DTSTAMP:20260422T021508
CREATED:20251108T060014Z
LAST-MODIFIED:20251108T060014Z
UID:32833-1778158800-1778166000@charitonbeacon.com
SUMMARY:Senior Awards/RootEd Decision Day
DESCRIPTION:
URL:https://charitonbeacon.com/activity/senior-awards-rooted-decision-day/
CATEGORIES:Salisbury R-4
END:VEVENT
BEGIN:VEVENT
DTSTART;TZID=America/Chicago:20260508T120000
DTEND;TZID=America/Chicago:20260508T130000
DTSTAMP:20260422T021508
CREATED:20260226T220011Z
LAST-MODIFIED:20260226T220011Z
UID:40038-1778241600-1778245200@charitonbeacon.com
SUMMARY:6th Grade Visit - after Walkathon
DESCRIPTION:
URL:https://charitonbeacon.com/activity/6th-grade-visit-after-walkathon/
CATEGORIES:Salisbury R-4
END:VEVENT
BEGIN:VEVENT
DTSTART;TZID=America/Chicago:20260508T190000
DTEND;TZID=America/Chicago:20260508T200000
DTSTAMP:20260422T021508
CREATED:20251109T140010Z
LAST-MODIFIED:20251109T140010Z
UID:32972-1778266800-1778270400@charitonbeacon.com
SUMMARY:Graduation
DESCRIPTION:
URL:https://charitonbeacon.com/activity/graduation-5/
CATEGORIES:Salisbury R-4
END:VEVENT
BEGIN:VEVENT
DTSTART;VALUE=DATE:20260511
DTEND;VALUE=DATE:20260512
DTSTAMP:20260422T021508
CREATED:20251111T220011Z
LAST-MODIFIED:20251111T220011Z
UID:33186-1778457600-1778543999@charitonbeacon.com
SUMMARY:FFA Adopt A Highway
DESCRIPTION:
URL:https://charitonbeacon.com/activity/ffa-adopt-a-highway/
CATEGORIES:Salisbury R-4
END:VEVENT
BEGIN:VEVENT
DTSTART;TZID=America/Chicago:20260511T170000
DTEND;TZID=America/Chicago:20260511T180000
DTSTAMP:20260422T021508
CREATED:20251112T140010Z
LAST-MODIFIED:20260129T220033Z
UID:33270-1778518800-1778522400@charitonbeacon.com
SUMMARY:HS Baseball Away Game at South Shelby (V\, JV)
DESCRIPTION:
URL:https://charitonbeacon.com/activity/salisbury-spring-season-baseball-away-game-at-south-shelby-v-jv/
CATEGORIES:Salisbury R-4
END:VEVENT
BEGIN:VEVENT
DTSTART;TZID=America/Chicago:20260512T170000
DTEND;TZID=America/Chicago:20260512T200000
DTSTAMP:20260422T021508
CREATED:20251113T140010Z
LAST-MODIFIED:20260129T220034Z
UID:33352-1778605200-1778616000@charitonbeacon.com
SUMMARY:HS Baseball Away Game at Glasgow (V\, JV)
DESCRIPTION:
URL:https://charitonbeacon.com/activity/salisbury-spring-season-baseball-away-game-at-glasgow-v-jv/
CATEGORIES:Salisbury R-4
END:VEVENT
BEGIN:VEVENT
DTSTART;TZID=America/Chicago:20260513T180000
DTEND;TZID=America/Chicago:20260513T193000
DTSTAMP:20260422T021508
CREATED:20260409T210030Z
LAST-MODIFIED:20260409T210030Z
UID:42987-1778695200-1778700600@charitonbeacon.com
SUMMARY:Drama Academy Awards
DESCRIPTION:
URL:https://charitonbeacon.com/activity/drama-academy-awards/
CATEGORIES:Salisbury R-4
END:VEVENT
BEGIN:VEVENT
DTSTART;VALUE=DATE:20260514
DTEND;VALUE=DATE:20260515
DTSTAMP:20260422T021508
CREATED:20251114T220011Z
LAST-MODIFIED:20251114T220011Z
UID:33469-1778716800-1778803199@charitonbeacon.com
SUMMARY:Last Day of School
DESCRIPTION:
URL:https://charitonbeacon.com/activity/last-day-of-school-2/
CATEGORIES:Salisbury R-4
END:VEVENT
BEGIN:VEVENT
DTSTART;VALUE=DATE:20260514
DTEND;VALUE=DATE:20260515
DTSTAMP:20260422T021508
CREATED:20260120T220018Z
LAST-MODIFIED:20260120T220018Z
UID:37785-1778716800-1778803199@charitonbeacon.com
SUMMARY:Panther Awards
DESCRIPTION:
URL:https://charitonbeacon.com/activity/panther-awards/
CATEGORIES:Salisbury R-4
END:VEVENT
BEGIN:VEVENT
DTSTART;TZID=America/Chicago:20260514T173000
DTEND;TZID=America/Chicago:20260514T193000
DTSTAMP:20260422T021508
CREATED:20251108T140010Z
LAST-MODIFIED:20260413T210024Z
UID:32877-1778779800-1778787000@charitonbeacon.com
SUMMARY:FFA 8th Grade Welcome Night & Alumni Drive
DESCRIPTION:
URL:https://charitonbeacon.com/activity/ffa-8th-grade-welcome-night-alumni-drive/
CATEGORIES:Salisbury R-4
END:VEVENT
END:VCALENDAR