BEGIN:VCALENDAR
VERSION:2.0
PRODID:-//The Chariton Beacon - ECPv6.15.20//NONSGML v1.0//EN
CALSCALE:GREGORIAN
METHOD:PUBLISH
X-WR-CALNAME:The Chariton Beacon
X-ORIGINAL-URL:https://charitonbeacon.com
X-WR-CALDESC:Events for The Chariton Beacon
REFRESH-INTERVAL;VALUE=DURATION:PT1H
X-Robots-Tag:noindex
X-PUBLISHED-TTL:PT1H
BEGIN:VTIMEZONE
TZID:America/Chicago
BEGIN:DAYLIGHT
TZOFFSETFROM:-0600
TZOFFSETTO:-0500
TZNAME:CDT
DTSTART:20250309T080000
END:DAYLIGHT
BEGIN:STANDARD
TZOFFSETFROM:-0500
TZOFFSETTO:-0600
TZNAME:CST
DTSTART:20251102T070000
END:STANDARD
BEGIN:DAYLIGHT
TZOFFSETFROM:-0600
TZOFFSETTO:-0500
TZNAME:CDT
DTSTART:20260308T080000
END:DAYLIGHT
BEGIN:STANDARD
TZOFFSETFROM:-0500
TZOFFSETTO:-0600
TZNAME:CST
DTSTART:20261101T070000
END:STANDARD
BEGIN:DAYLIGHT
TZOFFSETFROM:-0600
TZOFFSETTO:-0500
TZNAME:CDT
DTSTART:20270314T080000
END:DAYLIGHT
BEGIN:STANDARD
TZOFFSETFROM:-0500
TZOFFSETTO:-0600
TZNAME:CST
DTSTART:20271107T070000
END:STANDARD
END:VTIMEZONE
BEGIN:VEVENT
DTSTART;TZID=America/Chicago:20260402T153000
DTEND;TZID=America/Chicago:20260402T153000
DTSTAMP:20260422T064957
CREATED:20251002T130010Z
LAST-MODIFIED:20260310T210018Z
UID:29159-1775143800-1775143800@charitonbeacon.com
SUMMARY:FFA Banquet Applications Due
DESCRIPTION:
URL:https://charitonbeacon.com/activity/ffa-banquet-applications-due/
CATEGORIES:Salisbury R-4
END:VEVENT
BEGIN:VEVENT
DTSTART;VALUE=DATE:20260402
DTEND;VALUE=DATE:20260403
DTSTAMP:20260422T064957
CREATED:20260310T210018Z
LAST-MODIFIED:20260310T210018Z
UID:40888-1775088000-1775174399@charitonbeacon.com
SUMMARY:Senior Work Keys
DESCRIPTION:
URL:https://charitonbeacon.com/activity/senior-work-keys/
CATEGORIES:Salisbury R-4
END:VEVENT
BEGIN:VEVENT
DTSTART;TZID=America/Chicago:20260401T153000
DTEND;TZID=America/Chicago:20260401T153000
DTSTAMP:20260422T064957
CREATED:20251002T130010Z
LAST-MODIFIED:20251002T130010Z
UID:29157-1775057400-1775057400@charitonbeacon.com
SUMMARY:FFA Officer Applications Due (Chapter & Area IV)
DESCRIPTION:
URL:https://charitonbeacon.com/activity/ffa-officer-applications-due-chapter-area-iv/
CATEGORIES:Salisbury R-4
END:VEVENT
BEGIN:VEVENT
DTSTART;TZID=America/Chicago:20260401T140000
DTEND;TZID=America/Chicago:20260401T180000
DTSTAMP:20260422T064957
CREATED:20251001T210011Z
LAST-MODIFIED:20260327T210028Z
UID:29072-1775052000-1775066400@charitonbeacon.com
SUMMARY:HS Track and Field Tournament: FHS Relays
DESCRIPTION:
URL:https://charitonbeacon.com/activity/salisbury-varsity-boys-track-and-field-tournament-fhs-relays/
CATEGORIES:Salisbury R-4
END:VEVENT
BEGIN:VEVENT
DTSTART;VALUE=DATE:20260401
DTEND;VALUE=DATE:20260402
DTSTAMP:20260422T064957
CREATED:20251001T210011Z
LAST-MODIFIED:20260310T210018Z
UID:29071-1775001600-1775087999@charitonbeacon.com
SUMMARY:District CDE Contest Day #2\, Boone County Fair Grounds
DESCRIPTION:
URL:https://charitonbeacon.com/activity/district-cde-contest-day-1-boone-county-fair-grounds/
CATEGORIES:Salisbury R-4
END:VEVENT
BEGIN:VEVENT
DTSTART;TZID=America/Chicago:20260331T170000
DTEND;TZID=America/Chicago:20260331T210000
DTSTAMP:20260422T064957
CREATED:20251001T130010Z
LAST-MODIFIED:20260330T050026Z
UID:29053-1774976400-1774990800@charitonbeacon.com
SUMMARY:HS Baseball Home Game vs Glasgow (V) (JV-TBD)
DESCRIPTION:
URL:https://charitonbeacon.com/activity/salisbury-spring-season-baseball-away-game-at-northwestern-mendon-v-jv/
CATEGORIES:Salisbury R-4
END:VEVENT
BEGIN:VEVENT
DTSTART;TZID=America/Chicago:20260331T160000
DTEND;TZID=America/Chicago:20260331T160000
DTSTAMP:20260422T064957
CREATED:20251001T130009Z
LAST-MODIFIED:20260206T220017Z
UID:29052-1774972800-1774972800@charitonbeacon.com
SUMMARY:Boys Golf Match: Paris Quad
DESCRIPTION:
URL:https://charitonbeacon.com/activity/salisbury-varsity-boys-golf-tournament-paris-quad/
CATEGORIES:Salisbury R-4
END:VEVENT
BEGIN:VEVENT
DTSTART;TZID=America/Chicago:20260330T153000
DTEND;TZID=America/Chicago:20260330T190000
DTSTAMP:20260422T064957
CREATED:20250930T210012Z
LAST-MODIFIED:20260129T220019Z
UID:28957-1774884600-1774897200@charitonbeacon.com
SUMMARY:JH Track and Field Tournament: Westran Invite Open
DESCRIPTION:
URL:https://charitonbeacon.com/activity/salisbury-junior-high-boys-track-and-field-tournament-westran-invite-open/
CATEGORIES:Salisbury R-4
END:VEVENT
BEGIN:VEVENT
DTSTART;TZID=America/Chicago:20260330T150000
DTEND;TZID=America/Chicago:20260330T193000
DTSTAMP:20260422T064957
CREATED:20250930T210011Z
LAST-MODIFIED:20260325T210024Z
UID:28956-1774882800-1774899000@charitonbeacon.com
SUMMARY:HS Track and Field Tournament: South Shelby HS Open Track Meet
DESCRIPTION:
URL:https://charitonbeacon.com/activity/salisbury-varsity-boys-track-and-field-tournament-south-shelby-hs-open-track-meet/
CATEGORIES:Salisbury R-4
END:VEVENT
BEGIN:VEVENT
DTSTART;VALUE=DATE:20260328
DTEND;VALUE=DATE:20260329
DTSTAMP:20260422T064957
CREATED:20250928T210010Z
LAST-MODIFIED:20250928T210010Z
UID:28773-1774656000-1774742399@charitonbeacon.com
SUMMARY:Community R6 CDEs
DESCRIPTION:
URL:https://charitonbeacon.com/activity/community-r6-cdes/
CATEGORIES:Salisbury R-4
END:VEVENT
BEGIN:VEVENT
DTSTART;TZID=America/Chicago:20260327T170000
DTEND;TZID=America/Chicago:20260327T200000
DTSTAMP:20260422T064957
CREATED:20250928T130008Z
LAST-MODIFIED:20260129T220019Z
UID:28759-1774630800-1774641600@charitonbeacon.com
SUMMARY:HS Baseball Away Game at New Bloomfield (V\, JV)
DESCRIPTION:
URL:https://charitonbeacon.com/activity/salisbury-spring-season-baseball-away-game-at-new-bloomfield-v-jv/
CATEGORIES:Salisbury R-4
END:VEVENT
BEGIN:VEVENT
DTSTART;TZID=America/Chicago:20260327T153000
DTEND;TZID=America/Chicago:20260327T193000
DTSTAMP:20260422T064957
CREATED:20250927T210009Z
LAST-MODIFIED:20260324T210020Z
UID:28670-1774625400-1774639800@charitonbeacon.com
SUMMARY:HS Track and Field Tournament: Paris HS Open
DESCRIPTION:
URL:https://charitonbeacon.com/activity/salisbury-varsity-boys-track-and-field-tournament-paris-hs-open/
CATEGORIES:Salisbury R-4
END:VEVENT
BEGIN:VEVENT
DTSTART;VALUE=DATE:20260327
DTEND;VALUE=DATE:20260328
DTSTAMP:20260422T064957
CREATED:20260203T220018Z
LAST-MODIFIED:20260203T220018Z
UID:38587-1774569600-1774655999@charitonbeacon.com
SUMMARY:JH Scholars Bowl Tournament-TBD
DESCRIPTION:Tournament is TBD. It may not get scheduled.
URL:https://charitonbeacon.com/activity/jh-scholars-bowl-tournament-tbd/
CATEGORIES:Salisbury R-4
END:VEVENT
BEGIN:VEVENT
DTSTART;TZID=America/Chicago:20260326T170000
DTEND;TZID=America/Chicago:20260326T194500
DTSTAMP:20260422T064957
CREATED:20250927T130008Z
LAST-MODIFIED:20260323T210025Z
UID:28656-1774544400-1774554300@charitonbeacon.com
SUMMARY:HS Baseball Home Game vs North Shelby (V\, JV)
DESCRIPTION:
URL:https://charitonbeacon.com/activity/salisbury-spring-season-baseball-away-game-at-north-shelby-v-jv/
CATEGORIES:Salisbury R-4
END:VEVENT
BEGIN:VEVENT
DTSTART;TZID=America/Chicago:20260326T160000
DTEND;TZID=America/Chicago:20260326T160000
DTSTAMP:20260422T064957
CREATED:20250926T210009Z
LAST-MODIFIED:20260206T220017Z
UID:28569-1774540800-1774540800@charitonbeacon.com
SUMMARY:Boys Golf Match: Salisbury: New Bloomfield\, Fayette\, Paris
DESCRIPTION:
URL:https://charitonbeacon.com/activity/salisbury-varsity-boys-golf-tournament-salisbury-new-bloomfield-fayette-paris/
CATEGORIES:Salisbury R-4
END:VEVENT
BEGIN:VEVENT
DTSTART;TZID=America/Chicago:20260326T130000
DTEND;TZID=America/Chicago:20260326T170000
DTSTAMP:20260422T064957
CREATED:20250927T050014Z
LAST-MODIFIED:20250927T050014Z
UID:28617-1774530000-1774544400@charitonbeacon.com
SUMMARY:CTE Blood Drive
DESCRIPTION:
URL:https://charitonbeacon.com/activity/cte-blood-drive-2/
CATEGORIES:Salisbury R-4
END:VEVENT
BEGIN:VEVENT
DTSTART;TZID=America/Chicago:20260326T093000
DTEND;TZID=America/Chicago:20260326T113000
DTSTAMP:20260422T064957
CREATED:20260116T220011Z
LAST-MODIFIED:20260116T220011Z
UID:37584-1774517400-1774524600@charitonbeacon.com
SUMMARY:Juniors - MHS College Fair
DESCRIPTION:
URL:https://charitonbeacon.com/activity/juniors-mhs-college-fair/
CATEGORIES:Salisbury R-4
END:VEVENT
BEGIN:VEVENT
DTSTART;TZID=America/Chicago:20260325T180000
DTEND;TZID=America/Chicago:20260325T190000
DTSTAMP:20260422T064957
CREATED:20260116T220011Z
LAST-MODIFIED:20260116T220011Z
UID:37583-1774461600-1774465200@charitonbeacon.com
SUMMARY:Academic Banquet
DESCRIPTION:
URL:https://charitonbeacon.com/activity/academic-banquet/
CATEGORIES:Salisbury R-4
END:VEVENT
BEGIN:VEVENT
DTSTART;VALUE=DATE:20260325
DTEND;VALUE=DATE:20260326
DTSTAMP:20260422T064957
CREATED:20260310T210017Z
LAST-MODIFIED:20260310T210017Z
UID:40886-1774396800-1774483199@charitonbeacon.com
SUMMARY:FFA North Shelby
DESCRIPTION:
URL:https://charitonbeacon.com/activity/ffa-north-shelby/
CATEGORIES:Salisbury R-4
END:VEVENT
BEGIN:VEVENT
DTSTART;VALUE=DATE:20260325
DTEND;VALUE=DATE:20260326
DTSTAMP:20260422T064957
CREATED:20250925T210014Z
LAST-MODIFIED:20250925T210014Z
UID:28468-1774396800-1774483199@charitonbeacon.com
SUMMARY:Anatomy Donor Lab Visit
DESCRIPTION:
URL:https://charitonbeacon.com/activity/anatomy-donor-lab-visit/
CATEGORIES:Salisbury R-4
END:VEVENT
BEGIN:VEVENT
DTSTART;TZID=America/Chicago:20260324T170000
DTEND;TZID=America/Chicago:20260324T194500
DTSTAMP:20260422T064957
CREATED:20250925T130010Z
LAST-MODIFIED:20260129T220018Z
UID:28443-1774371600-1774381500@charitonbeacon.com
SUMMARY:HS Baseball Home Game vs. Macon (V\, JV)
DESCRIPTION:
URL:https://charitonbeacon.com/activity/salisbury-spring-season-baseball-home-game-vs-macon-v-jv/
CATEGORIES:Salisbury R-4
END:VEVENT
BEGIN:VEVENT
DTSTART;TZID=America/Chicago:20260324T160000
DTEND;TZID=America/Chicago:20260324T160000
DTSTAMP:20260422T064957
CREATED:20250924T210011Z
LAST-MODIFIED:20260206T220017Z
UID:28354-1774368000-1774368000@charitonbeacon.com
SUMMARY:Boys Golf Match: Salisbury: Moberly\, New Franklin\, Salisbury
DESCRIPTION:
URL:https://charitonbeacon.com/activity/salisbury-varsity-boys-golf-tournament-salisbury-moberly-new-franklin-salisbury/
CATEGORIES:Salisbury R-4
END:VEVENT
BEGIN:VEVENT
DTSTART;TZID=America/Chicago:20260323T153000
DTEND;TZID=America/Chicago:20260323T163000
DTSTAMP:20260422T064957
CREATED:20250924T130008Z
LAST-MODIFIED:20250924T130008Z
UID:28342-1774279800-1774283400@charitonbeacon.com
SUMMARY:District LDE and Ag Sales CDE Monroe City
DESCRIPTION:
URL:https://charitonbeacon.com/activity/district-lde-and-ag-sales-cde-monroe-city/
CATEGORIES:Salisbury R-4
END:VEVENT
BEGIN:VEVENT
DTSTART;TZID=America/Chicago:20260322T140000
DTEND;TZID=America/Chicago:20260322T150000
DTSTAMP:20260422T064957
CREATED:20250923T050013Z
LAST-MODIFIED:20250923T050013Z
UID:28208-1774188000-1774191600@charitonbeacon.com
SUMMARY:Spring Play
DESCRIPTION:
URL:https://charitonbeacon.com/activity/spring-play-2/
CATEGORIES:Salisbury R-4
END:VEVENT
BEGIN:VEVENT
DTSTART;TZID=America/Chicago:20260321T190000
DTEND;TZID=America/Chicago:20260321T200000
DTSTAMP:20260422T064957
CREATED:20250922T130008Z
LAST-MODIFIED:20250922T130008Z
UID:28151-1774119600-1774123200@charitonbeacon.com
SUMMARY:Spring Play
DESCRIPTION:
URL:https://charitonbeacon.com/activity/spring-play/
CATEGORIES:Salisbury R-4
END:VEVENT
BEGIN:VEVENT
DTSTART;TZID=America/Chicago:20260320T170000
DTEND;TZID=America/Chicago:20260320T180000
DTSTAMP:20260422T064957
CREATED:20260206T220016Z
LAST-MODIFIED:20260206T220016Z
UID:38767-1774026000-1774029600@charitonbeacon.com
SUMMARY:HS Baseball vs Father Tolton (V\, JV)
DESCRIPTION:
URL:https://charitonbeacon.com/activity/hs-baseball-vs-father-tolton-v-jv/
CATEGORIES:Salisbury R-4
END:VEVENT
BEGIN:VEVENT
DTSTART;TZID=America/Chicago:20260320T153000
DTEND;TZID=America/Chicago:20260320T200000
DTSTAMP:20260422T064957
CREATED:20250920T210009Z
LAST-MODIFIED:20260310T210017Z
UID:27981-1774020600-1774036800@charitonbeacon.com
SUMMARY:HS Track and Field: Westran Invite Open
DESCRIPTION:
URL:https://charitonbeacon.com/activity/salisbury-varsity-boys-track-and-field-tournament-westran-invite-open/
CATEGORIES:Salisbury R-4
END:VEVENT
BEGIN:VEVENT
DTSTART;VALUE=DATE:20260320
DTEND;VALUE=DATE:20260321
DTSTAMP:20260422T064957
CREATED:20260204T220020Z
LAST-MODIFIED:20260204T220020Z
UID:38648-1773964800-1774051199@charitonbeacon.com
SUMMARY:Gov't day (8th grade)
DESCRIPTION:
URL:https://charitonbeacon.com/activity/govt-day-8th-grade/
CATEGORIES:Salisbury R-4
END:VEVENT
BEGIN:VEVENT
DTSTART;TZID=America/Chicago:20260319T190000
DTEND;TZID=America/Chicago:20260319T200000
DTSTAMP:20260422T064957
CREATED:20250920T130011Z
LAST-MODIFIED:20250920T130011Z
UID:27970-1773946800-1773950400@charitonbeacon.com
SUMMARY:Spring Play
DESCRIPTION:
URL:https://charitonbeacon.com/activity/spring-play-4/
CATEGORIES:Salisbury R-4
END:VEVENT
BEGIN:VEVENT
DTSTART;TZID=America/Chicago:20260319T170000
DTEND;TZID=America/Chicago:20260319T170000
DTSTAMP:20260422T064957
CREATED:20260205T220018Z
LAST-MODIFIED:20260206T220016Z
UID:38711-1773939600-1773939600@charitonbeacon.com
SUMMARY:HS Baseball Home game vs Higbee (V\, JV)
DESCRIPTION:
URL:https://charitonbeacon.com/activity/hs-baseball-home-game-vs-higbee-v/
CATEGORIES:Salisbury R-4
END:VEVENT
END:VCALENDAR