BEGIN:VCALENDAR
VERSION:2.0
PRODID:-//The Chariton Beacon - ECPv6.15.20//NONSGML v1.0//EN
CALSCALE:GREGORIAN
METHOD:PUBLISH
X-ORIGINAL-URL:https://charitonbeacon.com
X-WR-CALDESC:Events for The Chariton Beacon
REFRESH-INTERVAL;VALUE=DURATION:PT1H
X-Robots-Tag:noindex
X-PUBLISHED-TTL:PT1H
BEGIN:VTIMEZONE
TZID:America/Chicago
BEGIN:DAYLIGHT
TZOFFSETFROM:-0600
TZOFFSETTO:-0500
TZNAME:CDT
DTSTART:20250309T080000
END:DAYLIGHT
BEGIN:STANDARD
TZOFFSETFROM:-0500
TZOFFSETTO:-0600
TZNAME:CST
DTSTART:20251102T070000
END:STANDARD
BEGIN:DAYLIGHT
TZOFFSETFROM:-0600
TZOFFSETTO:-0500
TZNAME:CDT
DTSTART:20260308T080000
END:DAYLIGHT
BEGIN:STANDARD
TZOFFSETFROM:-0500
TZOFFSETTO:-0600
TZNAME:CST
DTSTART:20261101T070000
END:STANDARD
BEGIN:DAYLIGHT
TZOFFSETFROM:-0600
TZOFFSETTO:-0500
TZNAME:CDT
DTSTART:20270314T080000
END:DAYLIGHT
BEGIN:STANDARD
TZOFFSETFROM:-0500
TZOFFSETTO:-0600
TZNAME:CST
DTSTART:20271107T070000
END:STANDARD
END:VTIMEZONE
BEGIN:VEVENT
DTSTART;TZID=America/Chicago:20260507T130000
DTEND;TZID=America/Chicago:20260507T150000
DTSTAMP:20260422T034641
CREATED:20251108T060014Z
LAST-MODIFIED:20251108T060014Z
UID:32833-1778158800-1778166000@charitonbeacon.com
SUMMARY:Senior Awards/RootEd Decision Day
DESCRIPTION:
URL:https://charitonbeacon.com/activity/senior-awards-rooted-decision-day/
CATEGORIES:Salisbury R-4
END:VEVENT
BEGIN:VEVENT
DTSTART;TZID=America/Chicago:20260508T120000
DTEND;TZID=America/Chicago:20260508T130000
DTSTAMP:20260422T034641
CREATED:20260226T220011Z
LAST-MODIFIED:20260226T220011Z
UID:40038-1778241600-1778245200@charitonbeacon.com
SUMMARY:6th Grade Visit - after Walkathon
DESCRIPTION:
URL:https://charitonbeacon.com/activity/6th-grade-visit-after-walkathon/
CATEGORIES:Salisbury R-4
END:VEVENT
BEGIN:VEVENT
DTSTART;TZID=America/Chicago:20260508T190000
DTEND;TZID=America/Chicago:20260508T200000
DTSTAMP:20260422T034641
CREATED:20251109T140010Z
LAST-MODIFIED:20251109T140010Z
UID:32972-1778266800-1778270400@charitonbeacon.com
SUMMARY:Graduation
DESCRIPTION:
URL:https://charitonbeacon.com/activity/graduation-5/
CATEGORIES:Salisbury R-4
END:VEVENT
BEGIN:VEVENT
DTSTART;VALUE=DATE:20260511
DTEND;VALUE=DATE:20260512
DTSTAMP:20260422T034641
CREATED:20251111T220011Z
LAST-MODIFIED:20251111T220011Z
UID:33186-1778457600-1778543999@charitonbeacon.com
SUMMARY:FFA Adopt A Highway
DESCRIPTION:
URL:https://charitonbeacon.com/activity/ffa-adopt-a-highway/
CATEGORIES:Salisbury R-4
END:VEVENT
BEGIN:VEVENT
DTSTART;TZID=America/Chicago:20260511T170000
DTEND;TZID=America/Chicago:20260511T180000
DTSTAMP:20260422T034641
CREATED:20251112T140010Z
LAST-MODIFIED:20260129T220033Z
UID:33270-1778518800-1778522400@charitonbeacon.com
SUMMARY:HS Baseball Away Game at South Shelby (V\, JV)
DESCRIPTION:
URL:https://charitonbeacon.com/activity/salisbury-spring-season-baseball-away-game-at-south-shelby-v-jv/
CATEGORIES:Salisbury R-4
END:VEVENT
BEGIN:VEVENT
DTSTART;TZID=America/Chicago:20260512T170000
DTEND;TZID=America/Chicago:20260512T200000
DTSTAMP:20260422T034641
CREATED:20251113T140010Z
LAST-MODIFIED:20260129T220034Z
UID:33352-1778605200-1778616000@charitonbeacon.com
SUMMARY:HS Baseball Away Game at Glasgow (V\, JV)
DESCRIPTION:
URL:https://charitonbeacon.com/activity/salisbury-spring-season-baseball-away-game-at-glasgow-v-jv/
CATEGORIES:Salisbury R-4
END:VEVENT
BEGIN:VEVENT
DTSTART;TZID=America/Chicago:20260513T180000
DTEND;TZID=America/Chicago:20260513T193000
DTSTAMP:20260422T034641
CREATED:20260409T210030Z
LAST-MODIFIED:20260409T210030Z
UID:42987-1778695200-1778700600@charitonbeacon.com
SUMMARY:Drama Academy Awards
DESCRIPTION:
URL:https://charitonbeacon.com/activity/drama-academy-awards/
CATEGORIES:Salisbury R-4
END:VEVENT
BEGIN:VEVENT
DTSTART;VALUE=DATE:20260514
DTEND;VALUE=DATE:20260515
DTSTAMP:20260422T034641
CREATED:20251114T220011Z
LAST-MODIFIED:20251114T220011Z
UID:33469-1778716800-1778803199@charitonbeacon.com
SUMMARY:Last Day of School
DESCRIPTION:
URL:https://charitonbeacon.com/activity/last-day-of-school-2/
CATEGORIES:Salisbury R-4
END:VEVENT
BEGIN:VEVENT
DTSTART;VALUE=DATE:20260514
DTEND;VALUE=DATE:20260515
DTSTAMP:20260422T034641
CREATED:20260120T220018Z
LAST-MODIFIED:20260120T220018Z
UID:37785-1778716800-1778803199@charitonbeacon.com
SUMMARY:Panther Awards
DESCRIPTION:
URL:https://charitonbeacon.com/activity/panther-awards/
CATEGORIES:Salisbury R-4
END:VEVENT
BEGIN:VEVENT
DTSTART;TZID=America/Chicago:20260514T173000
DTEND;TZID=America/Chicago:20260514T193000
DTSTAMP:20260422T034641
CREATED:20251108T140010Z
LAST-MODIFIED:20260413T210024Z
UID:32877-1778779800-1778787000@charitonbeacon.com
SUMMARY:FFA 8th Grade Welcome Night & Alumni Drive
DESCRIPTION:
URL:https://charitonbeacon.com/activity/ffa-8th-grade-welcome-night-alumni-drive/
CATEGORIES:Salisbury R-4
END:VEVENT
BEGIN:VEVENT
DTSTART;VALUE=DATE:20260518
DTEND;VALUE=DATE:20260522
DTSTAMP:20260422T034641
CREATED:20260130T220015Z
LAST-MODIFIED:20260130T220015Z
UID:38401-1779062400-1779407999@charitonbeacon.com
SUMMARY:Little Panther Softball Camp
DESCRIPTION:
URL:https://charitonbeacon.com/activity/little-panther-softball-camp/
CATEGORIES:Salisbury R-4
END:VEVENT
BEGIN:VEVENT
DTSTART;VALUE=DATE:20260518
DTEND;VALUE=DATE:20260523
DTSTAMP:20260422T034641
CREATED:20251118T220025Z
LAST-MODIFIED:20251118T220025Z
UID:33875-1779062400-1779494399@charitonbeacon.com
SUMMARY:Spring FFA Trip
DESCRIPTION:
URL:https://charitonbeacon.com/activity/spring-ffa-trip/
CATEGORIES:Salisbury R-4
END:VEVENT
BEGIN:VEVENT
DTSTART;VALUE=DATE:20260603
DTEND;VALUE=DATE:20260606
DTSTAMP:20260422T034641
CREATED:20251203T220010Z
LAST-MODIFIED:20251203T220010Z
UID:35209-1780444800-1780703999@charitonbeacon.com
SUMMARY:Public Speaking Academy
DESCRIPTION:
URL:https://charitonbeacon.com/activity/public-speaking-academy/
CATEGORIES:Salisbury R-4
END:VEVENT
BEGIN:VEVENT
DTSTART;VALUE=DATE:20260612
DTEND;VALUE=DATE:20260615
DTSTAMP:20260422T034641
CREATED:20251212T220011Z
LAST-MODIFIED:20251212T220011Z
UID:35907-1781222400-1781481599@charitonbeacon.com
SUMMARY:HYMAX Academy
DESCRIPTION:
URL:https://charitonbeacon.com/activity/hymax-academy/
CATEGORIES:Salisbury R-4
END:VEVENT
BEGIN:VEVENT
DTSTART;TZID=America/Chicago:20260615T080000
DTEND;TZID=America/Chicago:20260619T123000
DTSTAMP:20260422T034641
CREATED:20260130T220015Z
LAST-MODIFIED:20260130T220015Z
UID:38403-1781510400-1781872200@charitonbeacon.com
SUMMARY:Community Art Players
DESCRIPTION:
URL:https://charitonbeacon.com/activity/community-art-players/
CATEGORIES:Salisbury R-4
END:VEVENT
BEGIN:VEVENT
DTSTART;VALUE=DATE:20260623
DTEND;VALUE=DATE:20260626
DTSTAMP:20260422T034641
CREATED:20251223T220010Z
LAST-MODIFIED:20251223T220010Z
UID:36225-1782172800-1782431999@charitonbeacon.com
SUMMARY:HYPE Academy
DESCRIPTION:
URL:https://charitonbeacon.com/activity/hype-academy/
CATEGORIES:Salisbury R-4
END:VEVENT
BEGIN:VEVENT
DTSTART;VALUE=DATE:20260627
DTEND;VALUE=DATE:20260706
DTSTAMP:20260422T034641
CREATED:20260218T220019Z
LAST-MODIFIED:20260220T220023Z
UID:39458-1782518400-1783295999@charitonbeacon.com
SUMMARY:MSHSAA Dead Period
DESCRIPTION:
URL:https://charitonbeacon.com/activity/mshsaa-dead-period/
CATEGORIES:Salisbury R-4
END:VEVENT
BEGIN:VEVENT
DTSTART;VALUE=DATE:20260706
DTEND;VALUE=DATE:20260711
DTSTAMP:20260422T034641
CREATED:20260106T220009Z
LAST-MODIFIED:20260106T220009Z
UID:36923-1783296000-1783727999@charitonbeacon.com
SUMMARY:FCCLA - National Leadership Conference
DESCRIPTION:
URL:https://charitonbeacon.com/activity/fccla-national-leadership-conference/
CATEGORIES:Salisbury R-4
END:VEVENT
BEGIN:VEVENT
DTSTART;VALUE=DATE:20260710
DTEND;VALUE=DATE:20260711
DTSTAMP:20260422T034641
CREATED:20260110T220008Z
LAST-MODIFIED:20260110T220008Z
UID:37164-1783641600-1783727999@charitonbeacon.com
SUMMARY:FFA- State Fair Livestock Entries Due
DESCRIPTION:
URL:https://charitonbeacon.com/activity/ffa-state-fair-livestock-entries-due/
CATEGORIES:Salisbury R-4
END:VEVENT
BEGIN:VEVENT
DTSTART;VALUE=DATE:20260801
DTEND;VALUE=DATE:20260810
DTSTAMP:20260422T034641
CREATED:20260218T220019Z
LAST-MODIFIED:20260218T220019Z
UID:39459-1785542400-1786319999@charitonbeacon.com
SUMMARY:Fall Sports Dead Period
DESCRIPTION:
URL:https://charitonbeacon.com/activity/fall-sports-dead-period/
CATEGORIES:Salisbury R-4
END:VEVENT
BEGIN:VEVENT
DTSTART;VALUE=DATE:20260808
DTEND;VALUE=DATE:20260817
DTSTAMP:20260422T034641
CREATED:20260208T220016Z
LAST-MODIFIED:20260208T220016Z
UID:38867-1786147200-1786924799@charitonbeacon.com
SUMMARY:Missouri State Fair
DESCRIPTION:
URL:https://charitonbeacon.com/activity/missouri-state-fair/
CATEGORIES:Salisbury R-4
END:VEVENT
BEGIN:VEVENT
DTSTART;VALUE=DATE:20260810
DTEND;VALUE=DATE:20260811
DTSTAMP:20260422T034641
CREATED:20260210T220034Z
LAST-MODIFIED:20260210T220034Z
UID:39017-1786320000-1786406399@charitonbeacon.com
SUMMARY:FFA State Fair Trip
DESCRIPTION:
URL:https://charitonbeacon.com/activity/ffa-state-fair-trip/
CATEGORIES:Salisbury R-4
END:VEVENT
BEGIN:VEVENT
DTSTART;TZID=America/Chicago:20260822T000000
DTEND;TZID=America/Chicago:20260822T000000
DTSTAMP:20260422T034641
CREATED:20260224T220014Z
LAST-MODIFIED:20260224T220014Z
UID:39898-1787356800-1787356800@charitonbeacon.com
SUMMARY:Salisbury Varsity Fall Season Softball Tournament: Salisbury Softball Jamboree
DESCRIPTION:
URL:https://charitonbeacon.com/activity/salisbury-varsity-fall-season-softball-tournament-salisbury-softball-jamboree/
CATEGORIES:Salisbury R-4
END:VEVENT
BEGIN:VEVENT
DTSTART;VALUE=DATE:20260825
DTEND;VALUE=DATE:20260826
DTSTAMP:20260422T034641
CREATED:20260225T220014Z
LAST-MODIFIED:20260225T220014Z
UID:39969-1787616000-1787702399@charitonbeacon.com
SUMMARY:First Day of School
DESCRIPTION:
URL:https://charitonbeacon.com/activity/first-day-of-school/
CATEGORIES:Salisbury R-4
END:VEVENT
BEGIN:VEVENT
DTSTART;TZID=America/Chicago:20260828T190000
DTEND;TZID=America/Chicago:20260828T220000
DTSTAMP:20260422T034641
CREATED:20260301T140013Z
LAST-MODIFIED:20260301T140013Z
UID:40223-1787943600-1787954400@charitonbeacon.com
SUMMARY:Salisbury 11-Man Football Home Game vs. Milan (V)
DESCRIPTION:
URL:https://charitonbeacon.com/activity/salisbury-11-man-football-home-game-vs-milan-v/
CATEGORIES:Salisbury R-4
END:VEVENT
BEGIN:VEVENT
DTSTART;TZID=America/Chicago:20260831T180000
DTEND;TZID=America/Chicago:20260831T210000
DTSTAMP:20260422T034641
CREATED:20260301T140013Z
LAST-MODIFIED:20260301T140013Z
UID:40224-1788199200-1788210000@charitonbeacon.com
SUMMARY:Salisbury 11-Man Football Home Game vs. Westran (JV)
DESCRIPTION:
URL:https://charitonbeacon.com/activity/salisbury-11-man-football-home-game-vs-westran-jv/
CATEGORIES:Salisbury R-4
END:VEVENT
BEGIN:VEVENT
DTSTART;TZID=America/Chicago:20260901T000000
DTEND;TZID=America/Chicago:20260901T000000
DTSTAMP:20260422T034641
CREATED:20260301T220010Z
LAST-MODIFIED:20260301T220010Z
UID:40232-1788220800-1788220800@charitonbeacon.com
SUMMARY:Salisbury Varsity Boys Cross Country Tournament: Salisbury 3500
DESCRIPTION:
URL:https://charitonbeacon.com/activity/salisbury-varsity-boys-cross-country-tournament-salisbury-3500/
CATEGORIES:Salisbury R-4
END:VEVENT
BEGIN:VEVENT
DTSTART;TZID=America/Chicago:20260901T000000
DTEND;TZID=America/Chicago:20260901T000000
DTSTAMP:20260422T034641
CREATED:20260301T220011Z
LAST-MODIFIED:20260301T220011Z
UID:40233-1788220800-1788220800@charitonbeacon.com
SUMMARY:Salisbury Varsity Girls Golf Tournament: Mexico-New Bloomfield-Hallsville-Salisbury
DESCRIPTION:
URL:https://charitonbeacon.com/activity/salisbury-varsity-girls-golf-tournament-mexico-new-bloomfield-hallsville-salisbury/
CATEGORIES:Salisbury R-4
END:VEVENT
BEGIN:VEVENT
DTSTART;TZID=America/Chicago:20260901T000000
DTEND;TZID=America/Chicago:20260901T180000
DTSTAMP:20260422T034641
CREATED:20260301T220011Z
LAST-MODIFIED:20260301T220011Z
UID:40234-1788220800-1788285600@charitonbeacon.com
SUMMARY:Salisbury Fall Season Softball Home Game vs. Carrollton (V\, JV)
DESCRIPTION:
URL:https://charitonbeacon.com/activity/salisbury-fall-season-softball-home-game-vs-carrollton-v-jv/
CATEGORIES:Salisbury R-4
END:VEVENT
BEGIN:VEVENT
DTSTART;TZID=America/Chicago:20260902T000000
DTEND;TZID=America/Chicago:20260902T000000
DTSTAMP:20260422T034641
CREATED:20260302T220014Z
LAST-MODIFIED:20260302T220014Z
UID:40286-1788307200-1788307200@charitonbeacon.com
SUMMARY:Salisbury Varsity Girls Golf Tournament: Salisbury Match - Salisbury\, Glasgow\, Paris\, Fayette\, South Shelby\, Monroe City
DESCRIPTION:
URL:https://charitonbeacon.com/activity/salisbury-varsity-girls-golf-tournament-salisbury-match-salisbury-glasgow-paris-fayette-south-shelby-monroe-city-2/
CATEGORIES:Salisbury R-4
END:VEVENT
END:VCALENDAR